Workbook

Sheet Planilha_Orçamentária
A1: Cliente: | B1: SERVIÇO AUTÔNOMO DE ÁGUA, ESGOTO E MEIO AMBIENTE DE SERTÃOZINHO - SAEMAS
A2: Objeto: | B2: REDES COLETORAS DE ESGOTO
A3: Local: | B3: RUAS JOSÉ BONINI E OLIDAIR AMBRÓSIO
A4: Fontes | B4: SINAPI (dezembro / 2025) - com desoneração | D4: BDI Serviço: | E4: 0.287 | G4: BDI Materiais | H4: 0.168
A5: P L A N I L H A D E Q U A N T I D A D E S E P R E Ç O S
A6: INTERCEPTOR SANTA MARIA
A7: Item | B7: Discriminação dos Serviços | C7: FONTE | D7: CÓDIGO | E7: Un. | F7: Quant. Licitada | G7: Preço Unitário | H7: Preço Unitário+BDI | I7: Preço Total
A8: 1 | B8: SERVIÇOS PRELIMINARES ESGOTO | I8: =SUM(I9:I11) -> 33059.93
A9: 1.1 | B9: LOCAÇÃO DE REDE DE ESGOTO | C9: SINAPI | D9: 99063 | E9: m | F9: ='Quantitativos-redes_'!I13 -> 275.37 | G9: 11.09 | H9: =G9*(1+$E$4) -> 14.27 | I9: =H9*F9 -> 3929.53
A10: 1.2 | B10: CAMINHÃO PIPA 10.000 L TRUCADO, PESO BRUTO TOTAL 23.000 KG, CARGA ÚTIL MÁXIMA 15.935 KG, DISTÂNCIA ENTRE EIXOS 4,8 M, POTÊNCIA 230 CV, INCLUSIVE TANQUE DE AÇO PARA TRANSPORTE DE ÁGUA - CHP DIURNO. AF_06/2014 | C10: SINAPI | D10: 5901 | E10: h | F10: 40 | G10: 325.86 | H10: =G10*(1+$E$4) -> 419.38 | I10: =H10*F10 -> 16775.2
A11: 1.3 | B11: PLACA DE OBRA (PARA CONSTRUCAO CIVIL) EM CHAPA GALVANIZADA *N. 22*, ADESIVADA | C11: SINAPI | D11: 4813 | E11: m² | F11: 24 | G11: 400 | H11: =G11*(1+$E$4) -> 514.8 | I11: =H11*F11 -> 12355.2
A12: 2 | B12: MOVIMENTO DE TERRA | I12: =SUM(I13:I20) -> 24283.78
A13: 2.1 | B13: ESCAVAÇÃO MECANIZADA DE VALA COM PROF. ATÉ 1,5 M (MÉDIA MONTANTE E JUSANTE/UMA COMPOSIÇÃO POR TRECHO), ESCAVADEIRA (0,8 M3), LARG. MENOR QUE 1,5 M, EM SOLO DE 1A CATEGORIA, EM LOCAIS COM ALTO NÍVEL DE INTERFERÊNCIA. AF_09/2024 | C13: SINAPI | D13: 102276 | E13: m3 | F13: ='Quantitativos-redes_'!E16 -> 104.17 | G13: 11.85 | H13: =G13*(1+$E$4) -> 15.25 | I13: =H13*F13 -> 1588.59
A14: 2.2 | B14: ESCAVAÇÃO MECANIZADA DE VALA COM PROF. MAIOR QUE 1,5 M ATÉ 3,0 M (MÉDIA MONTANTE E JUSANTE/UMA COMPOSIÇÃO POR TRECHO), ESCAVADEIRA (0,8 M3), LARGURA ATÉ 1,5 M, EM SOLO DE 1A CATEGORIA, EM LOCAIS COM ALTO NÍVEL DE INTERFERÊNCIA. AF_09/2024 | C14: SINAPI | D14: 90084 | E14: m³ | F14: ='Quantitativos-redes_'!E17 -> 295.41 | G14: 10.19 | H14: =G14*(1+$E$4) -> 13.11 | I14: =H14*F14 -> 3872.83
A15: 2.3 | B15: ESCORAMENTO DE VALA, TIPO DESCONTÍNUO, COM PROFUNDIDADE DE 1,5 A 3,0 M, LARGURA MAIOR OU IGUAL A 1,5 M E MENOR QUE 2,5 M. AF_08/2020 | C15: SINAPI | D15: 101579 | E15: m2 | F15: ='Quantitativos-redes_'!S13 -> 69.8 | G15: 54.98 | H15: =G15*(1+$E$4) -> 70.76 | I15: =H15*F15 -> 4939.05
A16: 2.4 | B16: REATERRO MECANIZADO DE VALA COM ESCAVADEIRA HIDRÁULICA (CAPACIDADE DA CAÇAMBA: 0,8 M³/POTÊNCIA: 111 HP), LARGURA ATÉ 1,5 M, PROFUNDIDADE DE 1,5 A 3,0 M, COM SOLO (SEM SUBSTITUIÇÃO) DE 1ª CATEGORIA, COM COMPACTADOR DE SOLOS DE PERCUSSÃO. AF_08/2023 | C16: SINAPI | D16: 93368-SINAPI | E16: m3 | F16: ='Quantitativos-redes_'!E24 -> 288.4 | G16: 22.75 | H16: =G16*(1+$E$4) -> 29.28 | I16: =H16*F16 -> 8444.35
A17: 2.5 | B17: REATERRO MECANIZADO DE VALA COM RETROESCAVADEIRA (CAPACIDADE DA CAÇAMBA DA RETRO: 0,26 M³/POTÊNCIA: 88 HP), LARGURA 0,8 A 1,5 M, PROFUNDIDADE 1,5 A 3,0 M, COM SOLO (SEM SUBSTITUIÇÃO) DE 1ª CATEGORIA E COMPACTADOR DE SOLOS DE PERCUSSÃO. AF_08/2023 | C17: SINAPI | D17: 93381 | E17: m3 | F17: ='Quantitativos-redes_'!E23 -> 100.91 | G17: 20.79 | H17: =G17*(1+$E$4) -> 26.76 | I17: =H17*F17 -> 2700.35
A18: 2.6 | B18: CARGA, MANOBRA E DESCARGA DE SOLOS E MATERIAIS GRANULARES EM CAMINHÃO BASCULANTE 6 M³ - CARGA COM PÁ CARREGADEIRA (CAÇAMBA DE 1,7 A 2,8 M³ / 128 HP) E DESCARGA LIVRE (UNIDADE: M3). AF_07/2020 | C18: SINAPI | D18: 100973-SINAPI | E18: m3 | F18: ='Quantitativos-redes_'!Q13 -> 10.27 | G18: 9.27 | H18: =G18*(1+$E$4) -> 11.93 | I18: =H18*F18 -> 122.52
A19: 2.7 | B19: TRANSPORTE COM CAMINHÃO BASCULANTE DE 6 M³, EM VIA URBANA PAVIMENTADA, DMT ATÉ 30 KM (UNIDADE: M3XKM). AF_07/2020 | C19: SINAPI | D19: 97914-SINAPI | E19: m3xKm | F19: =F18*5 -> 51.35 | G19: 3.12 | H19: =G19*(1+$E$4) -> 4.02 | I19: =H19*F19 -> 206.43
A20: 2.8 | B20: DEPOSIÇÃO DE ENTULHO P/ RCC CADASTRADO NA CIDADE | C20: SINAPI | D20: Orçamento | E20: ton. | F20: =F18*1.5 -> 15.41 | G20: 121.5 | H20: =G20*(1+$E$4) -> 156.37 | I20: =H20*F20 -> 2409.66
A21: 3 | B21: TUBULAÇÕES E ESTRUTURAS | I21: =SUM(I22:I25) -> 63696.71
A22: 3.1 | B22: TUBO DE PVC CORRUGADO DE DUPLA PAREDE PARA REDE COLETORA DE ESGOTO, DN 250 MM, JUNTA ELÁSTICA FORNECIMENTO E ASSENTAMENTO. AF_01/2021 | C22: SINAPI | D22: 90703 | E22: m | F22: ='Quantitativos-redes_'!I13 -> 275.37 | G22: 201.93 | H22: 191.08 | I22: =H22*F22 -> 52617.7 | L22: =F22/2 -> 137.685
A23: 3.2 | B23: BASE PARA POÇO DE VISITA CIRCULAR PARA ESGOTO, EM CONCRETO PRÉ-MOLDADO, DIÂMETRO INTERNO = 0,80 M, PROFUNDIDADE = 1,35 M, EXCLUINDO TAMPÃO.AF_12/2020_PA | C23: SINAPI | D23: 97978-SINAPI | E23: un. | F23: ='Quantitativos-redes_'!I35 -> 5 | G23: 1050.02 | H23: =G23*(1+$E$4) -> 1351.38 | I23: =H23*F23 -> 6756.9
A24: 3.3 | B24: CHAMINÉ CIRCULAR PARA POÇO DE VISITA PARA ESGOTO, EM CONCRETO PRÉ-MOLDADO, DIÂMETRO INTERNO = 0,6 M. AF_12/2020 | C24: SINAPI | D24: 98050-SINAPI | E24: m | F24: ='Quantitativos-redes_'!I36 -> 1.45 | G24: 335.51 | H24: =G24*(1+$E$4) -> 431.8 | I24: =H24*F24 -> 626.11
A25: 3.4 | B25: TAMPAO FOFO SIMPLES COM BASE, CLASSE D400 CARGA MAX 40 T, REDONDO TAMPA 600 MM, REDE PLUVIAL/ESGOTO | C25: SINAPI | D25: 6240-SINAPI | E25: un. | F25: ='Quantitativos-redes_'!I37 -> 5 | G25: 632.88 | H25: =G25*(1+$H$4) -> 739.2 | I25: =H25*F25 -> 3696
A26: 4 | B26: RECOMPOSIÇÃO ASFÁLTICA | I26: =SUM(I27:I34) -> 55225.79
A27: 4.1 | B27: DEMOLIÇÃO PARCIAL DE PAVIMENTO ASFÁLTICO, DE FORMA MECANIZADA, SEM REAPROVEITAMENTO. AF_12/2017 | C27: SINAPI | D27: 97636-SINAPI | E27: m2 | F27: ='Quantitativos-redes_'!N13 -> 247.83 | G27: 25 | H27: =G27*(1+$E$4) -> 32.18 | I27: =H27*F27 -> 7975.17
A28: 4.2 | B28: CARGA, MANOBRA E DESCARGA DE SOLOS E MATERIAIS GRANULARES EM CAMINHÃO BASCULANTE 6 M³ - CARGA COM PÁ CARREGADEIRA (CAÇAMBA DE 1,7 A 2,8 M³ / 128 HP) E DESCARGA LIVRE (UNIDADE: M3). AF_07/2020 | C28: SINAPI | D28: 100973-SINAPI | E28: m3 | F28: ='Quantitativos-redes_'!P13 -> 49.58 | G28: 9.27 | H28: =G28*(1+$E$4) -> 11.93 | I28: =H28*F28 -> 591.49
A29: 4.3 | B29: TRANSPORTE COM CAMINHÃO BASCULANTE DE 6 M³, EM VIA URBANA PAVIMENTADA, DMT ATÉ 30 KM (UNIDADE: M3XKM). AF_07/2020 | C29: SINAPI | D29: 97914-SINAPI | E29: m3xKm | F29: =F28*5 -> 247.9 | G29: 3.12 | H29: =G29*(1+$E$4) -> 4.02 | I29: =H29*F29 -> 996.56
A30: 4.4 | B30: DEPOSIÇÃO DE ENTULHO P/ RCC CADASTRADO NA CIDADE | C30: SINAPI | D30: Orçamento | E30: ton. | F30: =F28*1.8 -> 89.24 | G30: 121.5 | H30: =G30*(1+$E$4) -> 156.37 | I30: =H30*F30 -> 13954.46
A31: 4.5 | B31: EXECUÇÃO E COMPACTAÇÃO DE BASE E OU SUB BASE PARA PAVIMENTAÇÃO DE BRITA GRADUADA SIMPLES - EXCLUSIVE CARGA E TRANSPORTE. AF_11/2019 | C31: SINAPI | D31: 96396-SINAPI | E31: m3 | F31: ='Quantitativos-redes_'!D35 -> 37.17 | G31: 142.75 | H31: =G31*(1+$E$4) -> 183.72 | I31: =H31*F31 -> 6828.87
A32: 4.6 | B32: EXECUÇÃO DE PAVIMENTO COM APLICAÇÃO DE CONCRETO ASFÁLTICO, CAMADA DE ROLAMENTO - EXCLUSIVE CARGA E TRANSPORTE. AF_11/2019 | C32: SINAPI | D32: 95995-SINAPI | E32: m3 | F32: ='Quantitativos-redes_'!D36 -> 12.39 | G32: 1487.89 | H32: =G32*(1+$E$4) -> 1914.91 | I32: =H32*F32 -> 23725.73 | L32: =F32/2 -> 6.195
A33: 4.7 | B33: TRANSPORTE COM CAMINHÃO TANQUE DE TRANSPORTE DE MATERIAL ASFÁLTICO DE 20000 L, EM VIA URBANA PAVIMENTADA, DMT ATÉ 30KM (UNIDADE: TXKM). AF_07/2020 | C33: SINAPI | D33: 102332-SINAPI | E33: TxKm | F33: =F32*30 -> 371.7 | G33: 1.9 | H33: =G33*(1+$E$4) -> 2.45 | I33: =H33*F33 -> 910.67
A34: 4.8 | B34: TRANSPORTE COM CAMINHÃO TANQUE DE TRANSPORTE DE MATERIAL ASFÁLTICO DE 20000 L, EM VIA URBANA PAVIMENTADA, ADICIONAL PARA DMT EXCEDENTE A 30 KM (UNIDADE: TXKM). AF_07/2020 | C34: SINAPI | D34: 102333-SINAPI | E34: TxKm | F34: =F32*20 -> 247.8 | G34: 0.76 | H34: =G34*(1+$E$4) -> 0.98 | I34: =H34*F34 -> 242.84
A35: TOTAL OBRA | I35: =I8+I12+I21+I26 -> 176266.21

Sheet Quantitativos-redes_
A1: CÁLCULO QUANTITATIVOS – REDES COLETORAS DE ESGOTO
O3: Volume Escavação | P3: Volumes bota fora | R3: Volume Aterro (escavado-tubulação) | S3: Escoramento Vala
A4: Trecho | B4: Rua | C4: Início | E4: Profundidades | H4: Profundidade Média | I4: Distância | J4: Diâ.Tubulação | K4: Classe | L4: Largura Vala | M4: Extensão Asfalto | N4: Área Asfalto | P4: Volume camada pav.demolido | Q4: Volume tubulação
E5: Montante | G5: Jusante
C6: Montante | D6: Justante | E6: m | G6: m | H6: m | I6: m | J6: mm | L6: m | M6: m | N6: m² | O6: m³ | P6: m³ | Q6: m³ | R6: m³ | S6: m²
A7: 1-1 | B7: José Bonini | C7: PVE | D7: PV1 | E7: 1.55 | G7: 1.64 | H7: =(E7+G7)/2 -> 1.6 | I7: 8.76 | J7: 200 | K7: PVC OCRE | L7: 0.9 | M7: 8.76 | N7: =L7*M7 -> 7.88 | O7: =H7*I7*L7 -> 12.61 | P7: =M7*L7*0.2 -> 1.58 | Q7: =I7*$C$40 -> 0.33 | R7: =O7-Q7 -> 12.28 | S7: =IF(G7>1.5,(H7-1.5)*I7*1.5,0) -> 1.31
A8: 1-2 | B8: José Bonini | C8: PV1 | D8: PV2 | E8: 1.64 | G8: 1.58 | H8: =(E8+G8)/2 -> 1.61 | I8: 89.51 | J8: 200 | K8: PVC OCRE | L8: 0.9 | M8: 89.51 | N8: =L8*M8 -> 80.56 | O8: =H8*I8*L8 -> 129.7 | P8: =M8*L8*0.2 -> 16.11 | Q8: =I8*$C$40 -> 3.34 | R8: =O8-Q8 -> 126.36 | S8: =IF(G8>1.5,(H8-1.5)*I8*1.5,0) -> 14.77
A9: 1-3 | B9: José Bonini | C9: PV2 | D9: PV3 | E9: 1.58 | G9: 2.22 | H9: =(E9+G9)/2 -> 1.9 | I9: 89.53 | J9: 200 | K9: PVC OCRE | L9: 0.9 | M9: 89.53 | N9: =L9*M9 -> 80.58 | O9: =H9*I9*L9 -> 153.1 | P9: =M9*L9*0.2 -> 16.12 | Q9: =I9*$C$40 -> 3.34 | R9: =O9-Q9 -> 149.76 | S9: =IF(G9>1.5,(H9-1.5)*I9*1.5,0) -> 53.72
A10: 2-1 | B10: Olidair Ambrósio | C10: PVE | D10: PV4 | E10: 1.22 | G10: 1.25 | H10: =(E10+G10)/2 -> 1.24 | I10: 8.09 | J10: 200 | K10: PVC OCRE | L10: 0.9 | M10: 8.09 | N10: =L10*M10 -> 7.28 | O10: =H10*I10*L10 -> 9.03 | P10: =M10*L10*0.2 -> 1.46 | Q10: =I10*$C$40 -> 0.3 | R10: =O10-Q10 -> 8.73 | S10: =IF(G10>1.5,(H10-1.5)*I10*1.5,0) -> 0
A11: 2-2 | B11: Olidair Ambrósio | C11: PV4 | D11: PV5 | E11: 1.25 | G11: 1.41 | H11: =(E11+G11)/2 -> 1.33 | I11: 79.48 | J11: 200 | K11: PVC OCRE | L11: 0.9 | M11: 79.48 | N11: =L11*M11 -> 71.53 | O11: =H11*I11*L11 -> 95.14 | P11: =M11*L11*0.2 -> 14.31 | Q11: =I11*$C$40 -> 2.96 | R11: =O11-Q11 -> 92.18 | S11: =IF(G11>2,(H11-2)*I11*2,0) -> 0
A13: TOTAIS | I13: =SUM(I7:I11) -> 275.37 | M13: =SUM(M7:M11) -> 275.37 | N13: =SUM(N7:N11) -> 247.83 | O13: =SUM(O7:O11) -> 399.58 | P13: =SUM(P7:P11) -> 49.58 | Q13: =SUM(Q7:Q11) -> 10.27 | R13: =SUM(R7:R11) -> 389.31 | S13: =SUM(S7:S11) -> 69.8
A15: Escavação de vala (m³) | E15: Volume | H15: Detalhamento Extensões Assentamento | L15: Detalhamanto Recomposição Asfáltica
A16: Até 1,5 m | E16: =SUMIFS(O$7:O$11,H$7:H$11,"<=1,5") -> 104.17 | H16: Rua | I16: Diâmetro | J16: Extensão – m | L16: Rua | M16: Área-m² | N16: Volume (m³)
A17: De 1,5 a 3,0m | E17: =SUMIFS(O$7:O$11,H$7:H$11,">1,5",H$7:H$11,"<=3") -> 295.41 | H17: José Bonini | I17: 200 mm | J17: =SUM(I7:I9) -> 187.8 | L17: José Bonini | M17: =SUM(N7:N9) -> 169.02 | N17: =M17*0.05 -> 8.451
A18: Acima de 3,0m | E18: =SUMIFS(O$7:O$11,H$7:H$11,">3") -> 0 | H18: Dr.Olidair Ambrósio | I18: 200 mm | J18: =SUM(I10:I11) -> 87.57 | L18: Dr.Olidair Ambrósio | M18: =SUM(N10:N11) -> 78.81 | N18: =M18*0.05 -> 3.9405
A19: Total | E19: =SUM(E16:E18) -> 399.58
A22: Reaterro de vala (m³) | E22: Volume | H22: Total | J22: =SUM(J17:J18) -> 275.37 | L22: Total | N22: =SUM(N17:N18) -> 12.3915
A23: Até 1,5 m | E23: =SUMIFS(R$7:R$11,H$7:H$11,"<=1,5") -> 100.91
A24: De 1,5 a 3,0m | E24: =SUMIFS(R$7:R$11,H$7:H$11,">1,5",H$7:H$11,"<=3") -> 288.4
A25: Acima de 3,0m | E25: =SUMIFS(R$7:R$11,H$7:H$11,">3") -> 0 | H25: Calculo dos Quantitativos Poços de Visita
A26: Total | E26: =SUM(E23:E25) -> 389.31 | H26: Item | I26: Dados Projeto | L26: Considerando tabela Sinapi
I27: Pvs | J27: Diâmetro rede | K27: Profundidade | L27: Base PV (até 1,35 m) | M27: Chaminé (até 1,0m) | N27: Acréscimo base
H28: 1 | I28: PV1 | J28: 200 | K28: 1.64 | L28: 1.35 | M28: =IF(K28-1.35<1,IF(K28-1.35>0,K28-1.35,0),1) -> 0.29 | N28: =IF(K28-(1.35+M28)<0,0,K28-(1.35+M28)) -> 0
A29: Escoramento vala (m²) | E29: Área | H29: 2 | I29: PV2 | J29: 200 | K29: 1.58 | L29: 1.35 | M29: =IF(K29-1.35<1,IF(K29-1.35>0,K29-1.35,0),1) -> 0.23 | N29: =IF(K29-(1.35+M29)<0,0,K29-(1.35+M29)) -> 0
A30: Até 3,0m | E30: =SUMIF(H$7:H$11,"<=3",S$7:S$11) -> 69.8 | H30: 3 | I30: PV3 | J30: 200 | K30: 2.22 | L30: 1.35 | M30: =IF(K30-1.35<1,IF(K30-1.35>0,K30-1.35,0),1) -> 0.87 | N30: =IF(K30-(1.35+M30)<0,0,K30-(1.35+M30)) -> 0
A31: De 3 a 4,5m | E31: =SUMIFS(S$7:S$11,H$7:H$11,">3",H$7:H$11,"<=4,5") -> 0 | H31: 4 | I31: PV4 | J31: 200 | K31: 1.25 | L31: 1.35 | M31: =IF(K31-1.35<1,IF(K31-1.35>0,K31-1.35,0),1) -> 0 | N31: =IF(K31-(1.35+M31)<0,0,K31-(1.35+M31)) -> 0
A32: Acima de 4,5m | E32: =SUMIF(H$7:H$11,">=4,5",S$7:S$11) -> 0 | H32: 5 | I32: PV5 | J32: 200 | K32: 1.41 | L32: 1.35 | M32: =IF(K32-1.35<1,IF(K32-1.35>0,K32-1.35,0),1) -> 0.06 | N32: =IF(K32-(1.35+M32)<0,0,K32-(1.35+M32)) -> 0
E33: =SUM(E30:E32) -> 69.8
A34: Reposição Pavimento (m³) | H34: Resumo dos Quantitativos PVs
A35: Base (esp.0,15m) | D35: =N13*0.15 -> 37.17 | H35: Base PV | I35: 5 | J35: unidades
A36: Capa (0,05) | D36: =N13*0.05 -> 12.39 | H36: Chaminé | I36: =SUM(M28:M32) -> 1.45 | J36: metros
H37: Tampões | I37: 5 | J37: peças
A38: Tubulação
A39: Diâmetro externo | B39: 218 | C39: =B39/1000 -> 0.218
A40: Área Seção | B40: =3.14*B39*B39/4 -> 37306.34 | C40: =3.14*C39*C39/4 -> 0.0373

Sheet CRONOGRAMA
B1: SERVIÇO AUTÔNOMO DE ÁGUA, ESGOTO E MEIO AMBIENTE DE SERTÃOZINHO - SAEMAS
A2: Objeto: | B2: =Planilha_Orçamentária!B2 -> REDES COLETORAS DE ESGOTO
A3: Local: | B3: =Planilha_Orçamentária!B3 -> RUAS JOSÉ BONINI E OLIDAIR AMBRÓSIO
A4: =Planilha_Orçamentária!B4 -> SINAPI (dezembro / 2025) - com desoneração
A5: C R O N O G R A M A F Í S I C O - F I N A N C E I R O
A6: Item | B6: Descrição | C6: Preço | D6: 01º MÊS | F6: 02º MÊS
C7: Total | D7: % | E7: Total
A8: 1 | B8: =Planilha_Orçamentária!B8 -> SERVIÇOS PRELIMINARES ESGOTO | C8: =Planilha_Orçamentária!I8 -> 33059.93 | D8: 55 | E8: =+$C8*D8/100 -> 18182.96 | F8: 45 | G8: =+$C8*F8/100 -> 14876.97
A9: 2 | B9: =Planilha_Orçamentária!B12 -> MOVIMENTO DE TERRA | C9: =Planilha_Orçamentária!I12 -> 24283.78 | D9: 50 | E9: =+$C9*D9/100-0.01 -> 12141.88 | F9: 50 | G9: =+$C9*F9/100 -> 12141.89
A10: 3 | B10: =Planilha_Orçamentária!B21 -> TUBULAÇÕES E ESTRUTURAS | C10: =Planilha_Orçamentária!I21 -> 63696.71 | D10: 50 | E10: =+$C10*D10/100 -> 31848.36 | F10: 50 | G10: =+$C10*F10/100-0.01 -> 31848.35
A11: 4 | B11: =Planilha_Orçamentária!B26 -> RECOMPOSIÇÃO ASFÁLTICA | C11: =Planilha_Orçamentária!I26 -> 55225.79 | D11: 50 | E11: =+$C11*D11/100 -> 27612.9 | F11: 50 | G11: =+$C11*F11/100-0.01 -> 27612.89
B12: Total Mensal | D12: =+E12/$C$13*100 -> 50.94 | E12: =SUM(E8:E11) -> 89786.1 | F12: =+G12/$C$13*100 -> 49.06 | G12: =SUM(G8:G11) -> 86480.1
B13: Total Acumulado | C13: =SUM(C8:C11) -> 176266.21 | D13: =+D12 -> 50.94 | E13: =+E12 -> 89786.1 | F13: =D13+F12 -> 100 | G13: =E13+G12 -> 176266.2
F20: ENG. ALEX FABIAN CARDIN DE SOUSA
F21: CREA nº 5060900434
