Workbook
Name __xlnm.Print_Area_1: #REF!
Name __xlnm.Print_Area_4: #REF!
Name __xlnm.Print_Titles_1: #REF!
Name _Comp: #REF!
Name A: #REF!
Name Area5: #REF!
Name Comp: #REF!
Name COMPOSICAO: #REF!
Name d: #REF!
Name PlanMO: #REF!

Sheet ORC. JD PARAÍSO
A1: PLANILHA ORÇAMENTÁRIA REDES DE INTERLIGAÇÃO E NOVA EEEB PARAÍSO - SERTÃOZINHO/SP
A2: ITEM | G2: S/ BDI | H2: BDI conforme acórdão 2369/2011 | J2: C/ BDI
A3: A | B3: =B11 -> SERVIÇOS GERAIS | G3: =G11 -> 13189.56 | J3: =J11 -> 16268.02 | P3: ADM | Q3: =#REF!/J7 -> #REF! | R3: <3%
A4: B | B4: =B18 -> REDES DE INTERLIGAÇÃO ENTRE O SISTEMA EXISTENTE E A NOVA EEEB | G4: =G18 -> 210817.25 | J4: =J18 -> 256398.99 | P4: PROJTEC | Q4: =#REF!/#REF! -> #REF! | R4: >2,5%
A5: C | B5: =B129 -> ESTAÇÃO ELEVATÓRIA DE ESGOTO BRUTO JARDIM PARAÍSO | G5: =G129 -> 1727314.7 | J5: =J129 -> 2045237.2 | P5: PROJTEC | Q5: =#REF!/#REF! -> #REF! | R5: >2,5%
A6: D | B6: =B419 -> LINHA DE RECALQUE ENTRE A EEEB NOVA E A EEEB ANTIGA | G6: =G419 -> 88898.49 | J6: =J419 -> 109647.55 | P6: PROJTEC | Q6: =#REF!/#REF! -> #REF! | R6: >2,5%
B7: TOTAL DA OBRA | G7: =SUM(G3:G6) -> 2040220 | J7: =SUM(J3:J6) -> 2427551.8 | K7: BOTA FORA | L7: 6 | M7: KM
A8: DATA BASE: SINAPI SET/2025 e CDHU 199 | F8: BDI - MATERIAL | G8: 0.1785 | K8: USINA DE ASFALTO | L8: 25 | M8: KM
F9: BDI - SERVIÇOS | G9: 0.2334 | K9: JAZIDA | L9: 8 | M9: KM | Q9: =#REF!*2.5% -> #REF!
A10: ITEM | B10: DESCRIÇÃO | C10: CÓDIGO | D10: UNID. | E10: QTDE. | F10: CUSTO UNITÁRIO (SEM BDI) - R$ | G10: CUSTO TOTAL R$ | H10: % BDI | I10: PREÇO UNITÁRIO C/ BDI (R$) | J10: PREÇO TOTAL C/ BDI (R$) | K10: MATERIAL TUBULAR OU EQUIP. ESPECIAL | Q10: =Q9/1.294 -> #REF!
A11: A | B11: SERVIÇOS GERAIS | G11: =SUM(G12) -> 13189.56 | J11: =SUM(J12) -> 16268.02 | Q11: 1860836.2
A12: 1 | B12: SERVIÇOS GERAIS | G12: =SUM(G17) -> 13189.56 | J12: =SUM(J17) -> 16268.02 | Q12: =Q11-J7 -> -566715.59
A13: 1.1 | B13: GERAL
A14: 1.1.1 | B14: =VLOOKUP(C14,'SI9.25+C199+D7.25+F7.25+SC7.25'!$A$2:$D$95560,2, FALSE) -> LOCACAO DE CONTAINER 2,30 X 6,00 M, ALT. 2,50 M, COM 1 SANITARIO, PARA ESCRITORIO, COMPLETO, SEM DIVISORIAS INTERNAS (NAO INCLUI MOBILIZACAO/DESMOBILIZACAO) | C14: 10775 | D14: =VLOOKUP(C14,'SI9.25+C199+D7.25+F7.25+SC7.25'!$A$2:$D$95560,3, FALSE) -> MES | E14: 5 | F14: =VLOOKUP(C14,'SI9.25+C199+D7.25+F7.25+SC7.25'!$A$2:$D$95600,4, FALSE) -> 847.5 | G14: =ROUND(E14*F14,2) -> 4237.5 | H14: =IF(K14="",$G$9,$G$8) -> 0.2334 | I14: =ROUND(F14*H14+F14,2) -> 1045.31 | J14: =ROUND(E14*I14,2) -> 5226.55
A15: 1.1.2 | B15: =VLOOKUP(C15,'SI9.25+C199+D7.25+F7.25+SC7.25'!$A$2:$D$95560,2, FALSE) -> LOCACAO DE CONTAINER 2,30 X 6,00 M, ALT. 2,50 M, PARA ESCRITORIO, SEM DIVISORIAS INTERNAS E SEM SANITARIO (NAO INCLUI MOBILIZACAO/DESMOBILIZACAO) | C15: 10776 | D15: =VLOOKUP(C15,'SI9.25+C199+D7.25+F7.25+SC7.25'!$A$2:$D$95560,3, FALSE) -> MES | E15: 5 | F15: =VLOOKUP(C15,'SI9.25+C199+D7.25+F7.25+SC7.25'!$A$2:$D$95600,4, FALSE) -> 662.1 | G15: =ROUND(E15*F15,2) -> 3310.5 | H15: =IF(K15="",$G$9,$G$8) -> 0.2334 | I15: =ROUND(F15*H15+F15,2) -> 816.63 | J15: =ROUND(E15*I15,2) -> 4083.15
A16: 1.1.3 | B16: =VLOOKUP(C16,'SI9.25+C199+D7.25+F7.25+SC7.25'!$A$2:$D$95560,2, FALSE) -> FORNECIMENTO E INSTALAÇÃO DE PLACA DE OBRA COM CHAPA GALVANIZADA E ESTRUTURA DE MADEIRA. AF_03/2022_PS | C16: 103689 | D16: =VLOOKUP(C16,'SI9.25+C199+D7.25+F7.25+SC7.25'!$A$2:$D$95560,3, FALSE) -> M2 | E16: =4*3 -> 12 | F16: =VLOOKUP(C16,'SI9.25+C199+D7.25+F7.25+SC7.25'!$A$2:$D$95600,4, FALSE) -> 470.13 | G16: =ROUND(E16*F16,2) -> 5641.56 | H16: =IF(K16="",$G$9,$G$8) -> 0.2334 | I16: =ROUND(F16*H16+F16,2) -> 579.86 | J16: =ROUND(E16*I16,2) -> 6958.32
B17: SUB-TOTAL | G17: =SUM(G14:G16) -> 13189.56 | J17: =SUM(J14:J16) -> 16268.02
A18: B | B18: REDES DE INTERLIGAÇÃO ENTRE O SISTEMA EXISTENTE E A NOVA EEEB | G18: =G19+G52+G101 -> 210817.25 | J18: =J19+J52+J101 -> 256398.99
A19: 2 | B19: REDES DE INTERLIGAÇÃO ENTRE O SISTEMA EXISTENTE E A NOVA EEEB - REDE DE INTERLIGAÇÃO 01 | G19: =G23+G31+G36+G39+G42+G46+G51 -> 52577.76 | J19: =J23+J31+J36+J39+J42+J46+J51 -> 63776.64
A20: 2.1 | B20: SERVIÇOS PRELIMINARES
A21: 2.1.1 | B21: =VLOOKUP(C21,'SI9.25+C199+D7.25+F7.25+SC7.25'!$A$2:$D$95560,2, FALSE) -> LIMPEZA MECANIZADA DE CAMADA VEGETAL, VEGETAÇÃO E PEQUENAS ÁRVORES (DIÂMETRO DE TRONCO MENOR QUE 0,20 M), COM TRATOR DE ESTEIRAS. AF_03/2024 | C21: 98525 | D21: =VLOOKUP(C21,'SI9.25+C199+D7.25+F7.25+SC7.25'!$A$2:$D$95560,3, FALSE) -> M2 | E21: =E22*3 -> 229.47 | F21: =VLOOKUP(C21,'SI9.25+C199+D7.25+F7.25+SC7.25'!$A$2:$D$95600,4, FALSE) -> 0.71 | G21: =ROUND(E21*F21,2) -> 162.92 | H21: =IF(K21="",$G$9,$G$8) -> 0.2334 | I21: =ROUND(F21*H21+F21,2) -> 0.88 | J21: =ROUND(E21*I21,2) -> 201.93 | L21: COMPRIMENTO TOTAL DO COLETOR * 3 m DE LARGURA
A22: 2.1.2 | B22: =VLOOKUP(C22,'SI9.25+C199+D7.25+F7.25+SC7.25'!$A$2:$D$95560,2, FALSE) -> LOCAÇÃO DE REDE DE ÁGUA OU ESGOTO. AF_03/2024 | C22: 99063 | D22: =VLOOKUP(C22,'SI9.25+C199+D7.25+F7.25+SC7.25'!$A$2:$D$95560,3, FALSE) -> M | E22: 76.49 | F22: =VLOOKUP(C22,'SI9.25+C199+D7.25+F7.25+SC7.25'!$A$2:$D$95600,4, FALSE) -> 10.91 | G22: =ROUND(E22*F22,2) -> 834.51 | H22: =IF(K22="",$G$9,$G$8) -> 0.2334 | I22: =ROUND(F22*H22+F22,2) -> 13.46 | J22: =ROUND(E22*I22,2) -> 1029.56 | L22: COMPRIMENTO TOTAL DO COLETOR
B23: SUB-TOTAL | G23: =SUM(G21:G22) -> 997.43 | J23: =SUM(J21:J22) -> 1231.49
A24: 2.2 | B24: MOVIMENTO DE TERRA
A25: 2.2.1 | B25: =VLOOKUP(C25,'SI9.25+C199+D7.25+F7.25+SC7.25'!$A$2:$D$95560,2, FALSE) -> ESCAVAÇÃO MECANIZADA DE VALA COM PROF. MAIOR QUE 3,0 M ATÉ 4,5 M (MÉDIA MONTANTE E JUSANTE/UMA COMPOSIÇÃO POR TRECHO), ESCAVADEIRA (1,2 M3), LARG. DE 1,5 M A 2,5 M, EM SOLO DE 1A CATEGORIA, LOCAIS COM BAIXO NÍVEL DE INTERFERÊNCIA. AF_09/2024 | C25: 90095 | D25: =VLOOKUP(C25,'SI9.25+C199+D7.25+F7.25+SC7.25'!$A$2:$D$95560,3, FALSE) -> M3 | E25: =E22*((2+3.5)/2)*1.5 -> 315.52125 | F25: =VLOOKUP(C25,'SI9.25+C199+D7.25+F7.25+SC7.25'!$A$2:$D$95600,4, FALSE) -> 5.96 | G25: =ROUND(E25*F25,2) -> 1880.51 | H25: =IF(K25="",$G$9,$G$8) -> 0.2334 | I25: =ROUND(F25*H25+F25,2) -> 7.35 | J25: =ROUND(E25*I25,2) -> 2319.08 | L25: COMPRIMENTO TOTAL DO COLETOR * ALTURA MÉDIA DA VALA * LARGURA DA VALA
A26: 2.2.2 | B26: =VLOOKUP(C26,'SI9.25+C199+D7.25+F7.25+SC7.25'!$A$2:$D$95560,2, FALSE) -> REATERRO MANUAL DE VALAS, COM COMPACTADOR DE SOLOS DE PERCUSSÃO. AF_08/2023 | C26: 93382 | D26: =VLOOKUP(C26,'SI9.25+C199+D7.25+F7.25+SC7.25'!$A$2:$D$95560,3, FALSE) -> M3 | E26: =E25*0.15 -> 47.328187 | F26: =VLOOKUP(C26,'SI9.25+C199+D7.25+F7.25+SC7.25'!$A$2:$D$95600,4, FALSE) -> 32.75 | G26: =ROUND(E26*F26,2) -> 1550 | H26: =IF(K26="",$G$9,$G$8) -> 0.2334 | I26: =ROUND(F26*H26+F26,2) -> 40.39 | J26: =ROUND(E26*I26,2) -> 1911.59 | L26: PARCELA DE REATERRO MANUAL ACIMA DA TUBULAÇÃO (15 cm) COM COMPACTAÇÃO MECANIZADA
A27: 2.2.3 | B27: =VLOOKUP(C27,'SI9.25+C199+D7.25+F7.25+SC7.25'!$A$2:$D$95560,2, FALSE) -> REATERRO MECANIZADO DE VALA COM ESCAVADEIRA HIDRÁULICA (CAPACIDADE DA CAÇAMBA: 0,8 M³/POTÊNCIA: 111 HP), LARGURA DE 1,5 A 2,5 M, PROFUNDIDADE DE 3,0 A 6,0 M, COM SOLO (SEM SUBSTITUIÇÃO) DE 1ª CATEGORIA, COM PLACA VIBRATÓRIA. AF_08/2023 | C27: 104732 | D27: =VLOOKUP(C27,'SI9.25+C199+D7.25+F7.25+SC7.25'!$A$2:$D$95560,3, FALSE) -> M3 | E27: =E25-E26-(E22*(PI()*(0.3^2))/4) -> 262.7863 | F27: =VLOOKUP(C27,'SI9.25+C199+D7.25+F7.25+SC7.25'!$A$2:$D$95600,4, FALSE) -> 10.93 | G27: =ROUND(E27*F27,2) -> 2872.25 | H27: =IF(K27="",$G$9,$G$8) -> 0.2334 | I27: =ROUND(F27*H27+F27,2) -> 13.48 | J27: =ROUND(E27*I27,2) -> 3542.36 | L27: REATERRO ACIMA DA TUBULAÇÃO DESCONTANDO-SE LASTROS E EMBASAMENTO
A28: 2.2.4 | B28: =VLOOKUP(C28,'SI9.25+C199+D7.25+F7.25+SC7.25'!$A$2:$D$95560,2, FALSE) -> CARGA, MANOBRA E DESCARGA DE SOLOS E MATERIAIS GRANULARES EM CAMINHÃO BASCULANTE 6 M³ - CARGA COM ESCAVADEIRA HIDRÁULICA (CAÇAMBA DE 1,20 M³ / 155 HP) E DESCARGA LIVRE (UNIDADE: M3). AF_07/2020 | C28: 100977 | D28: =VLOOKUP(C28,'SI9.25+C199+D7.25+F7.25+SC7.25'!$A$2:$D$95560,3, FALSE) -> M3 | E28: =E25-E26-E27 -> 5.4067595 | F28: =VLOOKUP(C28,'SI9.25+C199+D7.25+F7.25+SC7.25'!$A$2:$D$95600,4, FALSE) -> 8.24 | G28: =ROUND(E28*F28,2) -> 44.55 | H28: =IF(K28="",$G$9,$G$8) -> 0.2334 | I28: =ROUND(F28*H28+F28,2) -> 10.16 | J28: =ROUND(E28*I28,2) -> 54.93 | L28: TOTAL ESCAVADO MENOS O TOTAL REATERRADO
A29: 2.2.5 | B29: =VLOOKUP(C29,'SI9.25+C199+D7.25+F7.25+SC7.25'!$A$2:$D$95560,2, FALSE) -> TRANSPORTE COM CAMINHÃO BASCULANTE DE 6 M³, EM VIA URBANA PAVIMENTADA, DMT ATÉ 30 KM (UNIDADE: M3XKM). AF_07/2020 | C29: 97914 | D29: =VLOOKUP(C29,'SI9.25+C199+D7.25+F7.25+SC7.25'!$A$2:$D$95560,3, FALSE) -> M3XKM | E29: =E28*L7 -> 32.440557 | F29: =VLOOKUP(C29,'SI9.25+C199+D7.25+F7.25+SC7.25'!$A$2:$D$95600,4, FALSE) -> 3.1 | G29: =ROUND(E29*F29,2) -> 100.57 | H29: =IF(K29="",$G$9,$G$8) -> 0.2334 | I29: =ROUND(F29*H29+F29,2) -> 3.82 | J29: =ROUND(E29*I29,2) -> 123.92 | L29: TOTAL CARREGADO * DISTANCIA DO BOTA FORA
A30: 2.2.6 | B30: =VLOOKUP(C30,'SI9.25+C199+D7.25+F7.25+SC7.25'!$A$2:$D$95560,2, FALSE) -> ESPALHAMENTO DE MATERIAL COM TRATOR DE ESTEIRAS. AF_09/2024 | C30: 100574 | D30: =VLOOKUP(C30,'SI9.25+C199+D7.25+F7.25+SC7.25'!$A$2:$D$95560,3, FALSE) -> M3 | E30: =E28 -> 5.4067595 | F30: =VLOOKUP(C30,'SI9.25+C199+D7.25+F7.25+SC7.25'!$A$2:$D$95600,4, FALSE) -> 1.5 | G30: =ROUND(E30*F30,2) -> 8.11 | H30: =IF(K30="",$G$9,$G$8) -> 0.2334 | I30: =ROUND(F30*H30+F30,2) -> 1.85 | J30: =ROUND(E30*I30,2) -> 10 | L30: TOTAL CARREGADO
B31: SUB-TOTAL | G31: =SUM(G25:G30) -> 6455.99 | J31: =SUM(J25:J30) -> 7961.88
A32: 2.3 | B32: EMBASAMENTO
A33: 2.3.1 | B33: =VLOOKUP(C33,'SI9.25+C199+D7.25+F7.25+SC7.25'!$A$2:$D$95560,2, FALSE) -> AREIA PARA ATERRO - POSTO JAZIDA/FORNECEDOR (RETIRADO NA JAZIDA, SEM TRANSPORTE) | C33: 368 | D33: =VLOOKUP(C33,'SI9.25+C199+D7.25+F7.25+SC7.25'!$A$2:$D$95560,3, FALSE) -> M3 | E33: =E22*0.05*1 -> 3.8245 | F33: =VLOOKUP(C33,'SI9.25+C199+D7.25+F7.25+SC7.25'!$A$2:$D$95600,4, FALSE) -> 42.5 | G33: =ROUND(E33*F33,2) -> 162.54 | H33: =IF(K33="",$G$9,$G$8) -> 0.2334 | I33: =ROUND(F33*H33+F33,2) -> 52.42 | J33: =ROUND(E33*I33,2) -> 200.48
A34: 2.3.2 | B34: =VLOOKUP(C34,'SI9.25+C199+D7.25+F7.25+SC7.25'!$A$2:$D$95560,2, FALSE) -> CARGA, MANOBRA E DESCARGA DE SOLOS E MATERIAIS GRANULARES EM CAMINHÃO BASCULANTE 6 M³ - CARGA COM ESCAVADEIRA HIDRÁULICA (CAÇAMBA DE 1,20 M³ / 155 HP) E DESCARGA LIVRE (UNIDADE: M3). AF_07/2020 | C34: 100977 | D34: =VLOOKUP(C34,'SI9.25+C199+D7.25+F7.25+SC7.25'!$A$2:$D$95560,3, FALSE) -> M3 | E34: =E33 -> 3.8245 | F34: =VLOOKUP(C34,'SI9.25+C199+D7.25+F7.25+SC7.25'!$A$2:$D$95600,4, FALSE) -> 8.24 | G34: =ROUND(E34*F34,2) -> 31.51 | H34: =IF(K34="",$G$9,$G$8) -> 0.2334 | I34: =ROUND(F34*H34+F34,2) -> 10.16 | J34: =ROUND(E34*I34,2) -> 38.86 | L34: TOTAL DE AREIA CARREGADO NA JAZIDA (ESP = 5 cm)
A35: 2.3.3 | B35: =VLOOKUP(C35,'SI9.25+C199+D7.25+F7.25+SC7.25'!$A$2:$D$95560,2, FALSE) -> TRANSPORTE COM CAMINHÃO BASCULANTE DE 6 M³, EM VIA URBANA PAVIMENTADA, DMT ATÉ 30 KM (UNIDADE: M3XKM). AF_07/2020 | C35: 97914 | D35: =VLOOKUP(C35,'SI9.25+C199+D7.25+F7.25+SC7.25'!$A$2:$D$95560,3, FALSE) -> M3XKM | E35: =E34*L9 -> 30.596 | F35: =VLOOKUP(C35,'SI9.25+C199+D7.25+F7.25+SC7.25'!$A$2:$D$95600,4, FALSE) -> 3.1 | G35: =ROUND(E35*F35,2) -> 94.85 | H35: =IF(K35="",$G$9,$G$8) -> 0.2334 | I35: =ROUND(F35*H35+F35,2) -> 3.82 | J35: =ROUND(E35*I35,2) -> 116.88 | L35: TOTAL CARREGADO * DISTÂNCIA A PARTIR DA JAZIDA
B36: SUB-TOTAL | G36: =SUM(G33:G35) -> 288.9 | J36: =SUM(J33:J35) -> 356.22
A37: 2.4 | B37: ESCORAMENTO
A38: 2.4.1 | B38: =VLOOKUP(C38,'SI9.25+C199+D7.25+F7.25+SC7.25'!$A$2:$D$95560,2, FALSE) -> ESCORAMENTO DE VALA, TIPO DESCONTÍNUO, COM PROFUNDIDADE DE 3,0 A 4,5 M, LARGURA MAIOR OU IGUAL A 1,5 E MENOR QUE 2,5 M. AF_08/2020 | C38: 101581 | D38: =VLOOKUP(C38,'SI9.25+C199+D7.25+F7.25+SC7.25'!$A$2:$D$95560,3, FALSE) -> M2 | E38: =E22*2*((2+3.5)/2) -> 420.695 | F38: =VLOOKUP(C38,'SI9.25+C199+D7.25+F7.25+SC7.25'!$A$2:$D$95600,4, FALSE) -> 47.85 | G38: =ROUND(E38*F38,2) -> 20130.26 | H38: =IF(K38="",$G$9,$G$8) -> 0.2334 | I38: =ROUND(F38*H38+F38,2) -> 59.02 | J38: =ROUND(E38*I38,2) -> 24829.42 | L38: COMPRIMENTO TOTAL DO COLETOR * PROFUNDIDADE MÉDIA DA VALA * 2 LADOS DA VALA
B39: SUB-TOTAL | G39: =SUM(G38:G38) -> 20130.26 | J39: =SUM(J38) -> 24829.42
A40: 2.5 | B40: ESGOTAMENTO
...

Sheet CRONOCRAMA FÍSICO FINANC
A1: CRONOGRAMA FÍSICO-FINANCEIRO - REDES DE INTERLIGAÇÃO E NOVA EEEB PARAÍSO - SERTÃOZINHO/SP
A2: ='ORC. JD PARAÍSO'!$A$8 -> DATA BASE: SINAPI SET/2025 e CDHU 199 | I2: BDI - MATERIAL | J2: ='ORC. JD PARAÍSO'!$G$8 -> 0.1785
I3: BDI - SERVIÇOS | J3: ='ORC. JD PARAÍSO'!$G$9 -> 0.2334 | N3: =#REF!*2.5% -> #REF!
A4: CRONOGRAMA FISICO-FINANCEIRO
A5: ITEM | B5: DESCRIÇÃO DOS SERVIÇOS | C5: DURAÇÃO (MESES) | E5: TOTAL | F5: MÊS 1 | G5: MÊS 2 | H5: MÊS 3 | I5: MÊS 4 | J5: MÊS 5
A6: 1 | B6: ='ORC. JD PARAÍSO'!B12 -> SERVIÇOS GERAIS
A7: ='ORC. JD PARAÍSO'!A13 -> 1.1 | B7: ='ORC. JD PARAÍSO'!B13 -> GERAL | C7: 5 | D7: Total | E7: ='ORC. JD PARAÍSO'!$J$17 -> 16268.02
F8: =E7/C7 -> 3253.604 | G8: =F8 -> 3253.604 | H8: =G8 -> 3253.604 | I8: =H8 -> 3253.604 | J8: =I8 -> 3253.604
A10: 2 | B10: ='ORC. JD PARAÍSO'!$B$18 -> REDES DE INTERLIGAÇÃO ENTRE O SISTEMA EXISTENTE E A NOVA EEEB
A11: 2.1 | B11: ='ORC. JD PARAÍSO'!$B$19 -> REDES DE INTERLIGAÇÃO ENTRE O SISTEMA EXISTENTE E A NOVA EEEB - REDE DE INTERLIGAÇÃO 01 | C11: 1 | D11: Total | E11: ='ORC. JD PARAÍSO'!$J$19 -> 63776.64
F12: =E11/C11 -> 63776.64
A14: 3 | B14: ='ORC. JD PARAÍSO'!$B$18 -> REDES DE INTERLIGAÇÃO ENTRE O SISTEMA EXISTENTE E A NOVA EEEB
A15: 2.2 | B15: ='ORC. JD PARAÍSO'!$B$52 -> REDES DE INTERLIGAÇÃO ENTRE O SISTEMA EXISTENTE E A NOVA EEEB - REDE DE INTERLIGAÇÃO 02 | C15: 1 | D15: Total | E15: ='ORC. JD PARAÍSO'!$J$52 -> 176084.1
G16: =E15/C15 -> 176084.1
A18: 4 | B18: ='ORC. JD PARAÍSO'!$B$18 -> REDES DE INTERLIGAÇÃO ENTRE O SISTEMA EXISTENTE E A NOVA EEEB
A19: 2.3 | B19: ='ORC. JD PARAÍSO'!$B$101 -> REDES DE INTERLIGAÇÃO ENTRE O SISTEMA EXISTENTE E A NOVA EEEB - REDE DE INTERLIGAÇÃO 03 | C19: 1 | D19: Total | E19: ='ORC. JD PARAÍSO'!$J$101 -> 16538.25
G20: =E19/C19 -> 16538.25
A22: 5 | B22: ='ORC. JD PARAÍSO'!B130 -> ESTAÇÃO ELEVATÓRIA DE ESGOTO BRUTO JARDIM PARAÍSO
A23: 5.1 | B23: ='ORC. JD PARAÍSO'!B131 -> SERVIÇOS PRELIMINARES | C23: 1 | D23: Total | E23: ='ORC. JD PARAÍSO'!$J$134 -> 5337.33
F24: =E23/C23 -> 5337.33
A26: 5.2 | B26: ='ORC. JD PARAÍSO'!B135 -> MOVIMENTO DE TERRA | C26: 2 | D26: Total | E26: ='ORC. JD PARAÍSO'!$J$141 -> 30330.45
F27: =E26/C26 -> 15165.225 | G27: =F27 -> 15165.225
A29: 5.3 | B29: ='ORC. JD PARAÍSO'!B142 -> ESGOTAMENTO | C29: 3 | D29: Total | E29: ='ORC. JD PARAÍSO'!J144 -> 19828.8
F30: =E29/C29 -> 6609.6 | G30: =F30 -> 6609.6 | H30: =G30 -> 6609.6
A32: 5.4 | B32: ='ORC. JD PARAÍSO'!B145 -> PV DE ENTRADA | C32: 1 | D32: Total | E32: ='ORC. JD PARAÍSO'!$J$149 -> 5569.41
H33: =E32/C32 -> 5569.41
A35: 5.5 | B35: ='ORC. JD PARAÍSO'!B150 -> ESTRUTURAS POÇO DO BOOSTER EM LINHA | C35: 2 | D35: Total | E35: ='ORC. JD PARAÍSO'!$J$162 -> 81640.42
G36: =E35/C35 -> 40820.21 | H36: =G36 -> 40820.21
A38: 5.6 | B38: ='ORC. JD PARAÍSO'!$B$163 -> ESTRUTURAS CAIXA DO MEDIDOR DE VAZÃO | C38: 1 | D38: Total | E38: ='ORC. JD PARAÍSO'!$J$170 -> 19146.18
H39: =E38/C38 -> 19146.18
A41: 5.7 | B41: ='ORC. JD PARAÍSO'!B171 -> EQUIPAMENTOS E SERRALHERIA | C41: 2 | D41: Total | E41: ='ORC. JD PARAÍSO'!$J$184 -> 1328235.5
H42: =E41/C41 -> 664117.76 | I42: =H42 -> 664117.76
A44: 5.8 | B44: ='ORC. JD PARAÍSO'!B185 -> HIDRÁULICA | C44: 1 | D44: Total | E44: ='ORC. JD PARAÍSO'!$J$200 -> 78893.77
I45: =E44/C44 -> 78893.77
A47: 5.9 | B47: ='ORC. JD PARAÍSO'!B201 -> INSTALAÇÕES ELÉTRICAS | C47: 2 | D47: Total | E47: ='ORC. JD PARAÍSO'!$J$258+'ORC. JD PARAÍSO'!$J$320+'ORC. JD PARAÍSO'!$J$337+'ORC. JD PARAÍSO'!$J$348+'ORC. JD PARAÍSO'!$J$364+'ORC. JD PARAÍSO'!$J$385+'ORC. JD PARAÍSO'!$J$393+'ORC. JD PARAÍSO'!$J$402+'ORC. JD PARAÍSO'!$J$406+'ORC. JD PARAÍSO'!$J$409 -> 384773.98
I48: =E47/C47 -> 192386.99 | J48: =I48 -> 192386.99
A50: 5.10 | B50: ='ORC. JD PARAÍSO'!B410 -> URBANISMO | C50: 1 | D50: Total | E50: ='ORC. JD PARAÍSO'!$J$418 -> 91481.34
J51: =E50/C50 -> 91481.34
A53: 6 | B53: ='ORC. JD PARAÍSO'!$B$420 -> LINHA DE RECALQUE ENTRE A EEEB NOVA E A EEEB ANTIGA
A54: 6.1 | B54: ='ORC. JD PARAÍSO'!$B$421 -> EMBASAMENTO | C54: 1 | D54: Total | E54: ='ORC. JD PARAÍSO'!$J$423 -> 9292.76
...

Sheet SI9.25+C199+D7.25+F7.25+SC7.25
A1: SINAPI - Sistema Nacional de Pesquisa de Custos e Índices da Construção Civil
A2: RELATÓRIO DE PREÇOS DE INSUMOS - ENCARGOS SOCIAIS COM DESONERAÇÃO
A3: SINAPI - Sistema Nacional de Pesquisa de Custos e Índices da Construção Civil
A4: RELATÓRIO DE PREÇOS DE INSUMOS - ENCARGOS SOCIAIS COM DESONERAÇÃO
A5: 07/2025 | C5: Encargos sociais sobre a mão de obra:
A6: 12/08/2025 | C6: (COM DESONERAÇÃO) | D6: SP
C7: Localidade | D7: SAO PAULO
A8: %AS (porcentagem Atribuído São Paulo) corresponde a porcentagem do custo total da | C8: Horista | D8: 0.927
A9: composição que foi obtida utilizando preços de insumos de São Paulo por indisponibilidade | C9: Mensalista | D9: 0.5338
A10: dos preços de insumos necessários à composição no estado em questão. Custo zerado (hífen)
A11: indica que pelo menos um dos itens da composição não tem custo/preço. | D11: SP
A12: Código da Composição | B12: Descrição | C12: Unidade | D12: Custo (R$)
A13: 104658 | B13: PISO PODOTÁTIL DE ALERTA OU DIRECIONAL, DE CONCRETO, ASSENTADO SOBRE ARGAMASSA. AF_03/2024 | C13: M2 | D13: 193.34
A14: 105002 | B14: RAMPA DE ACESSIBILIDADE EM CONCRETO MOLDADO IN LOCO, EM CALÇADA NOVA COM LARGURA MAIOR OU IGUAL À 3,00 M, FCK 25MPA, COM PISO PODOTÁTIL. AF_03/2024 | C14: UN | D14: 745.26
A15: 105004 | B15: RAMPA DE ACESSIBILIDADE EM CONCRETO MOLDADO IN LOCO, EM CALÇADA NOVA COM LARGURA MENOR À 3,00 M, FCK 25MPA, COM PISO PODOTÁTIL. AF_03/2024 | C15: M2 | D15: 125.92
A16: 105003 | B16: RAMPA DE ACESSIBILIDADE EM CONCRETO MOLDADO IN LOCO, EM CALÇADA PRÉ EXISTENTE COM LARGURA MAIOR OU IGUAL À 3,00 M, FCK 25MPA, COM PISO PODOTÁTIL. AF_03/2024 | C16: UN | D16: 1281.67
A17: 105005 | B17: RAMPA DE ACESSIBILIDADE EM CONCRETO MOLDADO IN LOCO, EM CALÇADA PRÉ EXISTENTE COM LARGURA MENOR À 3,00 M, FCK 25MPA, COM PISO PODOTÁTIL. AF_03/2024 | C17: M2 | D17: 225.25
A18: 105006 | B18: RAMPA DE ACESSIBILIDADE EM CONCRETO PRÉ MOLDADO, EM CALÇADA NOVA COM LARGURA MAIOR OU IGUAL À 3,00 M, FCK 25MPA, COM PISO PODOTÁTIL. AF_03/2024 | C18: UN | D18: 0
A19: 104999 | B19: RAMPA DE ACESSIBILIDADE EM CONCRETO PRÉ MOLDADO, EM CALÇADA PRÉ EXISTENTE COM LARGURA MAIOR OU IGUAL À 3,00 M, FCK 25MPA, COM PISO PODOTÁTIL. AF_03/2024 | C19: UN | D19: 0
A20: 105000 | B20: RAMPA DE ACESSIBILIDADE PARA ACESSO A EDIFICAÇÕES COM INCLINAÇÃO DE 8,33% EM CONCRETO MOLDADO IN LOCO, COM LARGURA DE 1,20M, FCK 25MPA, NÃO ARMADA, COM JUNTA A CADA 2M COM CORTE À SECO. AF_03/2024 | C20: M | D20: 1498.27
A21: 105001 | B21: RAMPA DE ACESSIBILIDADE PARA ACESSO A EDIFICAÇÕES COM INCLINAÇÃO DE 8,33% EM CONCRETO MOLDADO IN LOCO, COM LARGURA DE 1,50M, FCK 25MPA, NÃO ARMADA, COM JUNTA A CADA 2M COM CORTE À SECO. AF_03/2024 | C21: M | D21: 1528.67
A22: 89306 | B22: ALVENARIA ESTRUTURAL DE BLOCOS CERÂMICOS 14X19X29, (ESPESSURA DE 14 CM), UTILIZANDO COLHER DE PEDREIRO E ARGAMASSA DE ASSENTAMENTO COM PREPARO EM BETONEIRA. AF_03/2023 | C22: M2 | D22: 102.01
A23: 89307 | B23: ALVENARIA ESTRUTURAL DE BLOCOS CERÂMICOS 14X19X29, (ESPESSURA DE 14 CM), UTILIZANDO COLHER DE PEDREIRO E ARGAMASSA DE ASSENTAMENTO COM PREPARO MANUAL. AF_03/2023 | C23: M2 | D23: 104.93
A24: 89290 | B24: ALVENARIA ESTRUTURAL DE BLOCOS CERÂMICOS 14X19X29, (ESPESSURA DE 14 CM), UTILIZANDO PALHETA E ARGAMASSA DE ASSENTAMENTO COM PREPARO EM BETONEIRA. AF_03/2023 | C24: M2 | D24: 83.4
... A9735: 103548 | B9735: VÁLVULA REDUTORA DE PRESSÃO DE FERRO FUNDIDO PARA REDE DE ÁGUA, DN 80 MM, JUNTA FLANGEADA. AF_12/2021 | C9735: UN | D9735: 0
A9742: 07/2025
A9743: 12/08/2025 | D9743: SP
D9744: SAO PAULO
A9745: C = COLETADO | B9745: CR = COEFICIENTE DE REPRESENTATIVIDADE | D9745: 0.927
D9746: 0.5338
A9749: Código do Insumo | B9749: Descrição do Insumo | C9749: Unidade | D9749: SP
A9750: 45333 | B9750: ABERTURA PARA ENCAIXE DE CUBA OU LAVATORIO EM BANCADA DE MARMORE/ GRANITO OU OUTRO TIPO DE PEDRA NATURAL | C9750: UN | D9750: 197.12
A9751: 11270 | B9751: ABRACADEIRA DE LATAO PARA FIXACAO DE CABO PARA-RAIO, DIMENSOES 32 X 24 X 24 MM | C9751: UN | D9751: 2.88
A9752: 412 | B9752: ABRACADEIRA DE NYLON PARA AMARRACAO DE CABOS, COMPRIMENTO DE *230* X *7,6* MM | C9752: UN | D9752: 1.13
A9753: 414 | B9753: ABRACADEIRA DE NYLON PARA AMARRACAO DE CABOS, COMPRIMENTO DE 100 X 2,5 MM | C9753: UN | D9753: 0.07
A9754: 410 | B9754: ABRACADEIRA DE NYLON PARA AMARRACAO DE CABOS, COMPRIMENTO DE 150 X *3,6* MM | C9754: UN | D9754: 0.17
A9755: 411 | B9755: ABRACADEIRA DE NYLON PARA AMARRACAO DE CABOS, COMPRIMENTO DE 200 X *4,6* MM | C9755: UN | D9755: 0.22
A9756: 408 | B9756: ABRACADEIRA DE NYLON PARA AMARRACAO DE CABOS, COMPRIMENTO DE 390 X *4,6* MM | C9756: UN | D9756: 1.09
A9757: 39131 | B9757: ABRACADEIRA EM ACO PARA AMARRACAO DE ELETRODUTOS, TIPO D, COM 1 1/2" E CUNHA DE FIXACAO | C9757: UN | D9757: 3.59
A9758: 394 | B9758: ABRACADEIRA EM ACO PARA AMARRACAO DE ELETRODUTOS, TIPO D, COM 1 1/2" E PARAFUSO DE FIXACAO | C9758: UN | D9758: 3.63
...
