Workbook

Sheet ELETRODUTOS_AÇO_CARBONO
A1: ELETRODUTO RÍGIDO DE AÇO CARBONO - TIPO PESADO (CARBINOX)
A2: TAMANHO NOMINAL | B2: DESGNAÇÃO DA ROSCA (POL.) | C2: DIÂMETRO EXTERNO (mm) | D2: ESPESSURA DA PAREDE (mm) | E2: ÁREA TOTAL ÚTIL | F2: ÁREA ÚTIL 1 CABO (53%) | G2: ÁREA ÚTIL 2 CABOS (31%) | H2: ÁREA ÚTIL ≥ 3 CABO (40%)
A3: 15 | B3: 1/2 | C3: 21.3 | D3: 2.25 | E3: =((3.1415926/4)*((C3-(2*D3))^2)) -> 221.67077 | F3: =E3*53% -> 117.48551 | G3: =E3*31% -> 68.71794 | H3: =E3*40% -> 88.66831
A4: 20 | B4: 3/4 | C4: 26.9 | D4: 2.25 | E4: =((3.1415926/4)*((C4-(2*D4))^2)) -> 394.08138 | F4: =E4*53% -> 208.86313 | G4: =E4*31% -> 122.16523 | H4: =E4*40% -> 157.63255
A5: 25 | B5: 1 | C5: 33.7 | D5: 2.65 | E5: =((3.1415926/4)*((C5-(2*D5))^2)) -> 633.47073 | F5: =E5*53% -> 335.73949 | G5: =E5*31% -> 196.37593 | H5: =E5*40% -> 253.38829
A6: 32 | B6: 1.1/4 | C6: 42.4 | D6: 3 | E6: =((3.1415926/4)*((C6-(2*D6))^2)) -> 1040.6211 | F6: =E6*53% -> 551.5292 | G6: =E6*31% -> 322.59255 | H6: =E6*40% -> 416.24845
A7: 40 | B7: 1.1/2 | C7: 48.3 | D7: 3 | E7: =((3.1415926/4)*((C7-(2*D7))^2)) -> 1405.3051 | F7: =E7*53% -> 744.81168 | G7: =E7*31% -> 435.64457 | H7: =E7*40% -> 562.12202
A8: 50 | B8: 2 | C8: 60.3 | D8: 3.35 | E8: =((3.1415926/4)*((C8-(2*D8))^2)) -> 2256.4175 | F8: =E8*53% -> 1195.9013 | G8: =E8*31% -> 699.48942 | H8: =E8*40% -> 902.56699
A9: 65 | B9: 2.1/2 | C9: 73 | D9: 3.75 | E9: =((3.1415926/4)*((C9-(2*D9))^2)) -> 3369.5544 | F9: =E9*53% -> 1785.8638 | G9: =E9*31% -> 1044.5619 | H9: =E9*40% -> 1347.8218
A10: 80 | B10: 3 | C10: 88.9 | D10: 3.75 | E10: =((3.1415926/4)*((C10-(2*D10))^2)) -> 5204.0167 | F10: =E10*53% -> 2758.1289 | G10: =E10*31% -> 1613.2452 | H10: =E10*40% -> 2081.6067
A11: 100 | B11: 4 | C11: 114.3 | D11: 4.25 | E11: =((3.1415926/4)*((C11-(2*D11))^2)) -> 8791.4641 | F11: =E11*53% -> 4659.476 | G11: =E11*31% -> 2725.3539 | H11: =E11*40% -> 3516.5857
A12: 125 | B12: 5 | C12: 141.3 | D12: 5 | E12: =((3.1415926/4)*((C12-(2*D12))^2)) -> 13540.021 | F12: =E12*53% -> 7176.2109 | G12: =E12*31% -> 4197.4064 | H12: =E12*40% -> 5416.0083
A13: 150 | B13: 6 | C13: 168.3 | D13: 5.3 | E13: =((3.1415926/4)*((C13-(2*D13))^2)) -> 19532.294 | F13: =E13*53% -> 10352.116 | G13: =E13*31% -> 6055.0113 | H13: =E13*40% -> 7812.9177

Sheet ELETRODUTOS_PVC
A1: ELETRODUTO RÍGIDO DE PVC - ROSCADO (TIGRE)
A2: TAMANHO NOMINAL | B2: DESGNAÇÃO DA ROSCA (POL.) | C2: DIÂMETRO EXTERNO (mm) | D2: ESPESSURA DA PAREDE (mm) | E2: ÁREA TOTAL ÚTIL | F2: ÁREA ÚTIL 1 CABO (53%) | G2: ÁREA ÚTIL 2 CABOS (31%) | H2: ÁREA ÚTIL ≥ 3 CABO (40%)
A3: 16 | B3: 1/2 | C3: 21.24 | D3: 2.2 | E3: =((3.1415926/4)*((C3-(2*D3))^2)) -> 222.72761 | F3: =E3*53% -> 118.04563 | G3: =E3*31% -> 69.045558 | H3: =E3*40% -> 89.091042
A4: 20 | B4: 3/4 | C4: 26.59 | D4: 2.3 | E4: =((3.1415926/4)*((C4-(2*D4))^2)) -> 379.78721 | F4: =E4*53% -> 201.28722 | G4: =E4*31% -> 117.73403 | H4: =E4*40% -> 151.91488
A5: 25 | B5: 1 | C5: 34.79 | D5: 2.7 | E5: =((3.1415926/4)*((C5-(2*D5))^2)) -> 678.40501 | F5: =E5*53% -> 359.55465 | G5: =E5*31% -> 210.30555 | H5: =E5*40% -> 271.362
A6: 32 | B6: 1.1/4 | C6: 44.5 | D6: 2.9 | E6: =((3.1415926/4)*((C6-(2*D6))^2)) -> 1176.283 | F6: =E6*53% -> 623.42997 | G6: =E6*31% -> 364.64772 | H6: =E6*40% -> 470.51318
A7: 40 | B7: 1.1/2 | C7: 50.4 | D7: 3 | E7: =((3.1415926/4)*((C7-(2*D7))^2)) -> 1548.3025 | F7: =E7*53% -> 820.60032 | G7: =E7*31% -> 479.97377 | H7: =E7*40% -> 619.321
A8: 50 | B8: 2 | C8: 62.41 | D8: 3.1 | E8: =((3.1415926/4)*((C8-(2*D8))^2)) -> 2481.5158 | F8: =E8*53% -> 1315.2034 | G8: =E8*31% -> 769.2699 | H8: =E8*40% -> 992.60632
A9: 60 | B9: 2.1/2 | C9: 81.54 | D9: 3.8 | E9: =((3.1415926/4)*((C9-(2*D9))^2)) -> 4293.8688 | F9: =E9*53% -> 2275.7504 | G9: =E9*31% -> 1331.0993 | H9: =E9*40% -> 1717.5475
A10: 75 | B10: 3 | C10: 95.6 | D10: 4 | E10: =((3.1415926/4)*((C10-(2*D10))^2)) -> 6026.9569 | F10: =E10*53% -> 3194.2872 | G10: =E10*31% -> 1868.3566 | H10: =E10*40% -> 2410.7828
A11: 100 | B11: 4 | C11: 128.1 | D11: 5 | E11: =((3.1415926/4)*((C11-(2*D11))^2)) -> 10954.427 | F11: =E11*53% -> 5805.8464 | G11: =E11*31% -> 3395.8724 | H11: =E11*40% -> 4381.7708

Sheet KANAFLEX
A1: KANAFLEX
A2: TAMANHO NOMINAL | B2: DESGNAÇÃO DA ROSCA (POL.) | C2: DIÂMETRO EXTERNO (mm) | D2: ESPESSURA DA PAREDE (mm) | E2: ÁREA TOTAL ÚTIL | F2: ÁREA ÚTIL 1 CABO (53%) | G2: ÁREA ÚTIL 2 CABOS (31%) | H2: ÁREA ÚTIL ≥ 3 CABO (40%)
A3: 32 | B3: 1.1/4 | C3: 41.3 | D3: 4.9 | E3: =((3.1415926/4)*((C3-(2*D3))^2)) -> 779.31131 | F3: =E3*53% -> 413.035 | G3: =E3*31% -> 241.58651 | H3: =E3*40% -> 311.72453
A4: 40 | B4: 1.1/2 | C4: 56 | D4: 6.5 | E4: =((3.1415926/4)*((C4-(2*D4))^2)) -> 1452.2012 | F4: =E4*53% -> 769.66663 | G4: =E4*31% -> 450.18237 | H4: =E4*40% -> 580.88047
A5: 50 | B5: 2 | C5: 63.4 | D5: 6.3 | E5: =((3.1415926/4)*((C5-(2*D5))^2)) -> 2026.8299 | F5: =E5*53% -> 1074.2198 | G5: =E5*31% -> 628.31726 | H5: =E5*40% -> 810.73195
A6: 75 | B6: 3 | C6: 89 | D6: 7 | E6: =((3.1415926/4)*((C6-(2*D6))^2)) -> 4417.8646 | F6: =E6*53% -> 2341.4682 | G6: =E6*31% -> 1369.538 | H6: =E6*40% -> 1767.1458
A7: 100 | B7: 4 | C7: 124.5 | D7: 11.3 | E7: =((3.1415926/4)*((C7-(2*D7))^2)) -> 8155.2681 | F7: =E7*53% -> 4322.2921 | G7: =E7*31% -> 2528.1331 | H7: =E7*40% -> 3262.1072
A8: 125 | B8: 5 | C8: 155.5 | D8: 13.4 | E8: =((3.1415926/4)*((C8-(2*D8))^2)) -> 13009.091 | F8: =E8*53% -> 6894.8185 | G8: =E8*31% -> 4032.8184 | H8: =E8*40% -> 5203.6366
A9: 150 | B9: 6 | C9: 190.8 | D9: 17.6 | E9: =((3.1415926/4)*((C9-(2*D9))^2)) -> 19015.557 | F9: =E9*53% -> 10078.245 | G9: =E9*31% -> 5894.8228 | H9: =E9*40% -> 7606.2229

Sheet TIGREFLEX
A1: TIGREFLEX
A2: TAMANHO NOMINAL | B2: DESGNAÇÃO DA ROSCA (POL.) | C2: DIÂMETRO EXTERNO (mm) | D2: ESPESSURA DA PAREDE (mm) | E2: ÁREA TOTAL ÚTIL | F2: ÁREA ÚTIL 1 CABO (53%) | G2: ÁREA ÚTIL 2 CABOS (31%) | H2: ÁREA ÚTIL ≥ 3 CABO (40%)
A3: 16 | B3: 1/2 | C3: 16 | D3: 4.3 | E3: =((3.1415926/4)*((C3-(2*D3))^2)) -> 43.008403 | F3: =E3*53% -> 22.794453 | G3: =E3*31% -> 13.332605 | H3: =E3*40% -> 17.203361
A4: 20 | B4: 5/8 | C4: 20 | D4: 4.6 | E4: =((3.1415926/4)*((C4-(2*D4))^2)) -> 91.60884 | F4: =E4*53% -> 48.552685 | G4: =E4*31% -> 28.39874 | H4: =E4*40% -> 36.643536
A5: 25 | B5: 3/4 | C5: 25 | D5: 6 | E5: =((3.1415926/4)*((C5-(2*D5))^2)) -> 132.73229 | F5: =E5*53% -> 70.348112 | G5: =E5*31% -> 41.147009 | H5: =E5*40% -> 53.092915
A6: 32 | B6: 1 | C6: 32 | D6: 7 | E6: =((3.1415926/4)*((C6-(2*D6))^2)) -> 254.469 | F6: =E6*53% -> 134.86857 | G6: =E6*31% -> 78.88539 | H6: =E6*40% -> 101.7876

Sheet ELETROCALHAS
A1: ELETROCALHA PERFURADA SERVIÇO PESADO (DISPAN)
A2: ESPECIFICAÇÃO | B2: LARGURA ÚTIL | C2: ALTURA ÚTIL | D2: SEÇÃO (mm2) | E2: ÁREA INTERNA TOTAL ÚTIL | F2: CARGA SUPORTADA EM KG/M - SUPORTAÇÃO A CADA 2,5M
A3: 38x38 | B3: 38 | C3: 38 | D3: =B3*C3 -> 1444 | E3: =D3*40% -> 577.6 | F3: 22
A4: 50x50 | B4: 50 | C4: 50 | D4: =B4*C4 -> 2500 | E4: =D4*40% -> 1000 | F4: 22
A5: 75x50 | B5: 75 | C5: 50 | D5: =B5*C5 -> 3750 | E5: =D5*40% -> 1500 | F5: 24
A6: 100x50 | B6: 100 | C6: 50 | D6: =B6*C6 -> 5000 | E6: =D6*40% -> 2000 | F6: 25
A7: 150x50 | B7: 150 | C7: 50 | D7: =B7*C7 -> 7500 | E7: =D7*40% -> 3000 | F7: 27
A8: 200x50 | B8: 200 | C8: 50 | D8: =B8*C8 -> 10000 | E8: =D8*40% -> 4000 | F8: 28
A9: 300x50 | B9: 300 | C9: 50 | D9: =B9*C9 -> 15000 | E9: =D9*40% -> 6000 | F9: 31
A10: 400x50 | B10: 400 | C10: 50 | D10: =B10*C10 -> 20000 | E10: =D10*40% -> 8000 | F10: 39
A11: 500x50 | B11: 500 | C11: 50 | D11: =B11*C11 -> 25000 | E11: =D11*40% -> 10000 | F11: 46
A12: 600x50 | B12: 600 | C12: 50 | D12: =B12*C12 -> 30000 | E12: =D12*40% -> 12000 | F12: 49
A13: 700x50 | B13: 700 | C13: 50 | D13: =B13*C13 -> 35000 | E13: =D13*40% -> 14000 | F13: 55
A14: 800x50 | B14: 800 | C14: 50 | D14: =B14*C14 -> 40000 | E14: =D14*40% -> 16000 | F14: 67
... A52: 1000x200 | B52: 1000 | C52: 200 | D52: =B52*C52 -> 200000 | E52: =D52*40% -> 80000 | F52: 103

Sheet PERFILADO
A1: PERFILADO PERFURADA SERVIÇO PESADO (DISPAN)
A2: ESPECIFICAÇÃO | B2: LARGURA ÚTIL | C2: ALTURA ÚTIL | D2: SEÇÃO (mm2) | E2: ÁREA INTERNA TOTAL ÚTIL | F2: CARGA SUPORTADA EM KG/M - SUPORTAÇÃO A CADA 2,5M
A3: 38x38 | B3: 38 | C3: 38 | D3: =B3*C3 -> 1444 | E3: =D3*40% -> 577.6 | F3: 22
A4: 38x76 | B4: 38 | C4: 76 | D4: =B4*C4 -> 2888 | E4: =D4*40% -> 1155.2 | F4: 24

Sheet LEITOS
A1: LEITOS SERVIÇO PESADO (DISPAN)
A2: ESPECIFICAÇÃO | B2: LARGURA ÚTIL | C2: ALTURA ÚTIL | D2: SEÇÃO (mm2) | E2: ÁREA INTERNA TOTAL ÚTIL | F2: CARGA SUPORTADA EM KG/M - SUPORTAÇÃO A CADA 2,5M
A3: 100x100 | B3: 100 | C3: 60 | D3: =B3*C3 -> 6000 | E3: =D3*40% -> 2400 | F3: 621
A4: 200x100 | B4: 200 | C4: 60 | D4: =B4*C4 -> 12000 | E4: =D4*40% -> 4800 | F4: 621
A5: 300x100 | B5: 300 | C5: 60 | D5: =B5*C5 -> 18000 | E5: =D5*40% -> 7200 | F5: 585
A6: 400x100 | B6: 400 | C6: 60 | D6: =B6*C6 -> 24000 | E6: =D6*40% -> 9600 | F6: 573
A7: 500x100 | B7: 500 | C7: 60 | D7: =B7*C7 -> 30000 | E7: =D7*40% -> 12000 | F7: 553
A8: 600x100 | B8: 600 | C8: 60 | D8: =B8*C8 -> 36000 | E8: =D8*40% -> 14400 | F8: 515
A9: 700x100 | B9: 700 | C9: 60 | D9: =B9*C9 -> 42000 | E9: =D9*40% -> 16800 | F9: 483
A10: 800x100 | B10: 800 | C10: 60 | D10: =B10*C10 -> 48000 | E10: =D10*40% -> 19200 | F10: 467
A11: 900x100 | B11: 900 | C11: 60 | D11: =B11*C11 -> 54000 | E11: =D11*40% -> 21600 | F11: 434
A12: 1000x100 | B12: 1000 | C12: 60 | D12: =B12*C12 -> 60000 | E12: =D12*40% -> 24000 | F12: 397
A13: 1100x100 | B13: 1100 | C13: 60 | D13: =B13*C13 -> 66000 | E13: =D13*40% -> 26400 | F13: 370
A14: 1200x100 | B14: 1200 | C14: 60 | D14: =B14*C14 -> 72000 | E14: =D14*40% -> 28800 | F14: 352
A15: 1500x100 | B15: 1500 | C15: 60 | D15: =B15*C15 -> 90000 | E15: =D15*40% -> 36000 | F15: 332

Sheet CABOS_POTÊNCIA_1KV
H1: CABOS SINTENAX FLEX 1KV (PRYSMIAN) - UNIPOLAR
A2: SEÇÃO NOMINAL (mm2) | B2: DIÂMETRO NOMINAL DO CONDUTOR (mm) | C2: ESPESSURA NOMINAL DA ISOLAÇÃO (mm) | D2: ESPESSURA NOMINAL COBERT. (mm) | E2: DIÂMETRO NOMINAL EXTERNO (mm) | F2: PESO (Kg/Km) | G2: ÁREA TOTAL DO CONDUTOR (mm2)
A3: 1x1,5 | B3: 1.5 | C3: 0.8 | D3: 0.9 | E3: 5 | F3: 38 | G3: =((3.1415926/4)*((E3)^2)) -> 19.634954
A4: 1x2,5 | B4: 1.9 | C4: 0.8 | D4: 0.9 | E4: 5.4 | F4: 49 | G4: =((3.1415926/4)*((E4)^2)) -> 22.90221
A5: 1x4,0 | B5: 2.4 | C5: 1 | D5: 1 | E5: 6.5 | F5: 74 | G5: =((3.1415926/4)*((E5)^2)) -> 33.183072
A6: 1x6,0 | B6: 3 | C6: 1 | D6: 1 | E6: 7.1 | F6: 95 | G6: =((3.1415926/4)*((E6)^2)) -> 39.591921
A7: 1x10 | B7: 3.9 | C7: 1 | D7: 1 | E7: 8 | F7: 139 | G7: =((3.1415926/4)*((E7)^2)) -> 50.265482
A8: 1x16 | B8: 5.5 | C8: 1 | D8: 1 | E8: 9.6 | F8: 202 | G8: =((3.1415926/4)*((E8)^2)) -> 72.382294
A9: 1x25 | B9: 6.2 | C9: 1.2 | D9: 1.1 | E9: 11 | F9: 300 | G9: =((3.1415926/4)*((E9)^2)) -> 95.033176
A10: 1x35 | B10: 8.2 | C10: 1.2 | D10: 1.1 | E10: 13.1 | F10: 403 | G10: =((3.1415926/4)*((E10)^2)) -> 134.78218
A11: 1x50 | B11: 9.3 | C11: 1.4 | D11: 1.2 | E11: 14.7 | F11: 579 | G11: =((3.1415926/4)*((E11)^2)) -> 169.71669
A12: 1x70 | B12: 10.9 | C12: 1.4 | D12: 1.2 | E12: 16.4 | F12: 770 | G12: =((3.1415926/4)*((E12)^2)) -> 211.24069
A13: 1x95 | B13: 12.6 | C13: 1.6 | D13: 1.3 | E13: 18.7 | F13: 1003 | G13: =((3.1415926/4)*((E13)^2)) -> 274.64588
A14: 1x120 | B14: 14.1 | C14: 1.6 | D14: 1.3 | E14: 21.1 | F14: 1241 | G14: =((3.1415926/4)*((E14)^2)) -> 349.66711
... A18: 1x300 | B18: 23.1 | C18: 1.8 | D18: 1.6 | E18: 33.78 | F18: 2942 | G18: =((3.1415926/4)*((E18)^2)) -> 896.20872
H19: CABOS SINTENAX FLEX 1KV (PRYSMIAN) - BIPOLAR
A20: 2x1,5 | B20: 1.5 | C20: 0.8 | D20: 1 | E20: 8.6 | F20: 110 | G20: =((3.1415926/4)*((E20)^2)) -> 58.088047
A21: 2x2,5 | B21: 1.9 | C21: 0.8 | D21: 1.1 | E21: 9.7 | F21: 147 | G21: =((3.1415926/4)*((E21)^2)) -> 73.898112
A22: 2x4,0 | B22: 2.4 | C22: 1 | D22: 1.1 | E22: 11.5 | F22: 216 | G22: =((3.1415926/4)*((E22)^2)) -> 103.86891
A23: 2x6,0 | B23: 3 | C23: 1 | D23: 1.2 | E23: 12.8 | F23: 279 | G23: =((3.1415926/4)*((E23)^2)) -> 128.67963
A24: 2x10 | B24: 3.9 | C24: 1 | D24: 1.2 | E24: 14.7 | F24: 399 | G24: =((3.1415926/4)*((E24)^2)) -> 169.71669
A25: 2x16 | B25: 5.5 | C25: 1 | D25: 1.3 | E25: 18.3 | F25: 612 | G25: =((3.1415926/4)*((E25)^2)) -> 263.02199
A26: 2x25 | B26: 6.2 | C26: 1.2 | D26: 1.4 | E26: 20.7 | F26: 864 | G26: =((3.1415926/4)*((E26)^2)) -> 336.53525
A27: 2x35 | B27: 8.2 | C27: 1.2 | D27: 1.5 | E27: 26.3 | F27: 1289 | G27: =((3.1415926/4)*((E27)^2)) -> 543.25205
A28: 2x50 | B28: 9.6 | C28: 1.4 | D28: 1.6 | E28: 30.1 | F28: 1801 | G28: =((3.1415926/4)*((E28)^2)) -> 711.57858
A29: 2x70 | B29: 11.3 | C29: 1.4 | D29: 1.7 | E29: 33.8 | F29: 1352 | G29: =((3.1415926/4)*((E29)^2)) -> 897.27026
A30: 2x95 | B30: 13 | C30: 1.6 | D30: 1.8 | E30: 38.2 | F30: 3033 | G30: =((3.1415926/4)*((E30)^2)) -> 1146.0844
A31: 2x120 | B31: 14.8 | C31: 1.6 | D31: 1.9 | E31: 42 | F31: 3767 | G31: =((3.1415926/4)*((E31)^2)) -> 1385.4423
... A34: 2x240 | B34: 21 | C34: 2.2 | D34: 2.4 | E34: 57.9 | F34: 7271 | G34: =((3.1415926/4)*((E34)^2)) -> 2632.9766
H35: CABOS SINTENAX FLEX 1KV (PRYSMIAN) - TRIPOLAR
A36: 3x1,5 | B36: 1.5 | C36: 0.8 | D36: 1.1 | E36: 9.3 | F36: 133 | G36: =((3.1415926/4)*((E36)^2)) -> 67.929086
A37: 3x2,5 | B37: 1.9 | C37: 0.8 | D37: 1.1 | E37: 10.2 | F37: 173 | G37: =((3.1415926/4)*((E37)^2)) -> 81.712824
A38: 3x4,0 | B38: 2.4 | C38: 1 | D38: 1.2 | E38: 12.4 | F38: 262 | G38: =((3.1415926/4)*((E38)^2)) -> 120.76282
A39: 3x6,0 | B39: 3 | C39: 1 | D39: 1.2 | E39: 13.6 | F39: 336 | G39: =((3.1415926/4)*((E39)^2)) -> 145.26724
A40: 3x10 | B40: 3.9 | C40: 1 | D40: 1.3 | E40: 15.8 | F40: 497 | G40: =((3.1415926/4)*((E40)^2)) -> 196.06679
A41: 3x16 | B41: 5.5 | C41: 1 | D41: 1.3 | E41: 19.4 | F41: 750 | G41: =((3.1415926/4)*((E41)^2)) -> 295.59245
A42: 3x25 | B42: 6.2 | C42: 1.2 | D42: 1.4 | E42: 22 | F42: 1081 | G42: =((3.1415926/4)*((E42)^2)) -> 380.1327
A43: 3x35 | B43: 8.2 | C43: 1.2 | D43: 1.5 | E43: 27.4 | F43: 1544 | G43: =((3.1415926/4)*((E43)^2)) -> 589.64552
A44: 3x50 | B44: 9.6 | C44: 1.4 | D44: 1.6 | E44: 32.1 | F44: 2245 | G44: =((3.1415926/4)*((E44)^2)) -> 809.28211
A45: 3x70 | B45: 11.3 | C45: 1.4 | D45: 1.8 | E45: 36.3 | F45: 2972 | G45: =((3.1415926/4)*((E45)^2)) -> 1034.9113
...

Sheet CABOS_COMANDO_500V
G1: CABOS TIPO "CM" 500V (POLIRON) - CLASSE 5 PVC/A-ST1
A2: SEÇÃO NOMINAL (mm2) | B2: ESPESSURA NOMINAL DA ISOLAÇÃO (mm) | C2: ESPESSURA NOMINAL COBERT. (mm) | D2: DIÂMETRO NOMINAL EXTERNO (mm) | E2: PESO (Kg/Km) | F2: ÁREA TOTAL DO CONDUTOR (mm2)
A3: 2x0,5 | B3: 0.6 | C3: 0.9 | D3: 7.4 | E3: 43 | F3: =((3.1415926/4)*((D3)^2)) -> 43.008403
A4: 3x0,5 | B4: 0.6 | C4: 1 | D4: 7.8 | E4: 53 | F4: =((3.1415926/4)*((D4)^2)) -> 47.783623
A5: 4x0,5 | B5: 0.6 | C5: 1 | D5: 8.3 | E5: 66 | F5: =((3.1415926/4)*((D5)^2)) -> 54.106079
A6: 5x0,5 | B6: 0.6 | C6: 1 | D6: 9 | E6: 78 | F6: =((3.1415926/4)*((D6)^2)) -> 63.61725
A7: 6x0,5 | B7: 0.6 | C7: 1 | D7: 9.6 | E7: 91 | F7: =((3.1415926/4)*((D7)^2)) -> 72.382294
A8: 7x0,5 | B8: 0.6 | C8: 1 | D8: 9.6 | E8: 100 | F8: =((3.1415926/4)*((D8)^2)) -> 72.382294
A9: 8x0,5 | B9: 0.6 | C9: 1 | D9: 10.4 | E9: 114 | F9: =((3.1415926/4)*((D9)^2)) -> 84.948664
A10: 10x0,5 | B10: 0.6 | C10: 1.1 | D10: 12.2 | E10: 141 | F10: =((3.1415926/4)*((D10)^2)) -> 116.89866
A11: 12x0,5 | B11: 0.6 | C11: 1.1 | D11: 12.6 | E11: 161 | F11: =((3.1415926/4)*((D11)^2)) -> 124.68981
A12: 14x0,5 | B12: 0.6 | C12: 1.1 | D12: 13.2 | E12: 183 | F12: =((3.1415926/4)*((D12)^2)) -> 136.84777
A13: 16x0,5 | B13: 0.6 | C13: 1.1 | D13: 13.8 | E13: 205 | F13: =((3.1415926/4)*((D13)^2)) -> 149.57122
A14: 19x0,5 | B14: 0.6 | C14: 1.2 | D14: 14.4 | E14: 237 | F14: =((3.1415926/4)*((D14)^2)) -> 162.86016
... A20: 61x0,5 | B20: 0.6 | C20: 1.5 | D20: 23.9 | E20: 691 | F20: =((3.1415926/4)*((D20)^2)) -> 448.62728
G21: CABOS TIPO "CM" 500V (POLIRON) - CLASSE 5 PVC/A-ST1
A22: 2x0,75 | B22: 0.6 | C22: 1 | D22: 7.9 | E22: 51 | F22: =((3.1415926/4)*((D22)^2)) -> 49.016699
A23: 3x0,75 | B23: 0.6 | C23: 1 | D23: 8.3 | E23: 66 | F23: =((3.1415926/4)*((D23)^2)) -> 54.106079
A24: 4x0,75 | B24: 0.6 | C24: 1 | D24: 9 | E24: 81 | F24: =((3.1415926/4)*((D24)^2)) -> 63.61725
A25: 5x0,75 | B25: 0.6 | C25: 1 | D25: 9.7 | E25: 97 | F25: =((3.1415926/4)*((D25)^2)) -> 73.898112
A26: 6x0,75 | B26: 0.6 | C26: 1.1 | D26: 10.5 | E26: 114 | F26: =((3.1415926/4)*((D26)^2)) -> 86.590146
A27: 7x0,75 | B27: 0.6 | C27: 1.1 | D27: 10.5 | E27: 126 | F27: =((3.1415926/4)*((D27)^2)) -> 86.590146
A28: 8x0,75 | B28: 0.6 | C28: 1.1 | D28: 11.3 | E28: 143 | F28: =((3.1415926/4)*((D28)^2)) -> 100.28749
A29: 10x0,75 | B29: 0.6 | C29: 1.1 | D29: 13.3 | E29: 178 | F29: =((3.1415926/4)*((D29)^2)) -> 138.92908
A30: 12x0,75 | B30: 0.6 | C30: 1.1 | D30: 13.7 | E30: 204 | F30: =((3.1415926/4)*((D30)^2)) -> 147.41138
A31: 14x0,75 | B31: 0.6 | C31: 1.2 | D31: 14.4 | E31: 233 | F31: =((3.1415926/4)*((D31)^2)) -> 162.86016
A32: 16x0,75 | B32: 0.6 | C32: 1.2 | D32: 15 | E32: 262 | F32: =((3.1415926/4)*((D32)^2)) -> 176.71458
A33: 19x0,75 | B33: 0.6 | C33: 1.2 | D33: 15.8 | E33: 303 | F33: =((3.1415926/4)*((D33)^2)) -> 196.06679
... A39: 61x0,75 | B39: 0.6 | C39: 1.5 | D39: 26.3 | E39: 897 | F39: =((3.1415926/4)*((D39)^2)) -> 543.25205
G40: CABOS TIPO "CM" 500V (POLIRON) - CLASSE 5 PVC/A-ST1
A41: 2x1,0 | B41: 0.6 | C41: 1 | D41: 8.3 | E41: 59 | F41: =((3.1415926/4)*((D41)^2)) -> 54.106079
A42: 3x1,0 | B42: 0.6 | C42: 1 | D42: 8.7 | E42: 76 | F42: =((3.1415926/4)*((D42)^2)) -> 59.446786
A43: 4x1,0 | B43: 0.6 | C43: 1 | D43: 9.4 | E43: 94 | F43: =((3.1415926/4)*((D43)^2)) -> 69.397781
A44: 5x1,0 | B44: 0.6 | C44: 1 | D44: 10.1 | E44: 113 | F44: =((3.1415926/4)*((D44)^2)) -> 80.118465
A45: 6x1,0 | B45: 0.6 | C45: 1.1 | D45: 10.9 | E45: 133 | F45: =((3.1415926/4)*((D45)^2)) -> 93.313154
A46: 7x1,0 | B46: 0.6 | C46: 1.1 | D46: 10.9 | E46: 147 | F46: =((3.1415926/4)*((D46)^2)) -> 93.313154
A47: 8x1,0 | B47: 0.6 | C47: 1.1 | D47: 12.2 | E47: 168 | F47: =((3.1415926/4)*((D47)^2)) -> 116.89866
A48: 10x1,0 | B48: 0.6 | C48: 1.2 | D48: 13.9 | E48: 209 | F48: =((3.1415926/4)*((D48)^2)) -> 151.74678
A49: 12x1,0 | B49: 0.6 | C49: 1.2 | D49: 14.3 | E49: 241 | F49: =((3.1415926/4)*((D49)^2)) -> 160.60607
A50: 14x1,0 | B50: 0.6 | C50: 1.2 | D50: 15.1 | E50: 276 | F50: =((3.1415926/4)*((D50)^2)) -> 179.07863
...

Sheet CABOS_INSTRUM_300V
G1: CABOS ETHERNET (FURUKAWA) - INDOOR/OUTDOOR CAT. 6 (F/UTP)
A2: SEÇÃO NOMINAL (AWG) | B2: ESPESSURA NOMINAL DA ISOLAÇÃO (mm) | C2: - | D2: DIÂMETRO NOMINAL EXTERNO (mm) | E2: PESO (Kg/Km) | F2: ÁREA TOTAL DO CONDUTOR (mm2)
A3: 8x23E | B3: 1 | C3: - | D3: 9.5 | E3: 84 | F3: =((3.1415926/4)*((D3)^2)) -> 70.882183
G4: CABOS ETHERNET (FURUKAWA) - INDOOR CAT. 6 (F/UTP/CM/CMR)
A5: 8x23 | B5: 1.18 | C5: - | D5: 7.5 | E5: 53 | F5: =((3.1415926/4)*((D5)^2)) -> 44.178646
G6: CABOS TIPO "CA" 500V (POLIRON) - CLASSE 5 PVC/A-ST1
A7: 2x1,0+SH | B7: 0.6 | C7: 1 | D7: 8.4 | E7: 59 | F7: =((3.1415926/4)*((D7)^2)) -> 55.417693
A8: 3x1,0+SH | B8: 0.6 | C8: 1 | D8: 8.8 | E8: 76 | F8: =((3.1415926/4)*((D8)^2)) -> 60.821233
A9: 4x1,0+SH | B9: 0.6 | C9: 1 | D9: 9.5 | E9: 94 | F9: =((3.1415926/4)*((D9)^2)) -> 70.882183
A10: 5x1,0+SH | B10: 0.6 | C10: 1 | D10: 10.2 | E10: 113 | F10: =((3.1415926/4)*((D10)^2)) -> 81.712824
A11: 6x1,0+SH | B11: 0.6 | C11: 1.1 | D11: 11 | E11: 133 | F11: =((3.1415926/4)*((D11)^2)) -> 95.033176
A12: 7x1,0+SH | B12: 0.6 | C12: 1.1 | D12: 11 | E12: 147 | F12: =((3.1415926/4)*((D12)^2)) -> 95.033176
A13: 8x1,0+SH | B13: 0.6 | C13: 1.1 | D13: 12.3 | E13: 168 | F13: =((3.1415926/4)*((D13)^2)) -> 118.82289
A14: 10x1,0+SH | B14: 0.6 | C14: 1.2 | D14: 14 | E14: 209 | F14: =((3.1415926/4)*((D14)^2)) -> 153.93804
A15: 12x1,0+SH | B15: 0.6 | C15: 1.2 | D15: 14.4 | E15: 241 | F15: =((3.1415926/4)*((D15)^2)) -> 162.86016
A16: 14x1,0+SH | B16: 0.6 | C16: 1.2 | D16: 15.2 | E16: 276 | F16: =((3.1415926/4)*((D16)^2)) -> 181.45839
A17: 16x1,0+SH | B17: 0.6 | C17: 1.2 | D17: 15.9 | E17: 310 | F17: =((3.1415926/4)*((D17)^2)) -> 198.55651
A18: 19x1,0+SH | B18: 0.6 | C18: 1.2 | D18: 16.7 | E18: 360 | F18: =((3.1415926/4)*((D18)^2)) -> 219.03969
... A24: 61x1,0+SH | B24: 0.6 | C24: 1.6 | D24: 27.9 | E24: 1075 | F24: =((3.1415926/4)*((D24)^2)) -> 611.36177
G25: CABOS FIBRA (FURUKAWA) - INTERNO/EXTERNO
A26: 4x50 | B26: 0.8 | C26: - | D26: 12.8 | E26: 170 | F26: =((3.1415926/4)*((D26)^2)) -> 128.67963
G27: CABOS PROFIBUS DP
A28: 2x22 | B28: - | C28: - | D28: 8 | E28: 132 | F28: =((3.1415926/4)*((D28)^2)) -> 50.265482
G29: CABOS MODBUS RTU
A30: 2x22 | B30: - | C30: - | D30: 8 | E30: 112 | F30: =((3.1415926/4)*((D30)^2)) -> 50.265482

Sheet CABOS_MÉDIA_15KV
H1: CABOS VOLTALENE 15KV (PRYSMIAN) - UNIPOLAR
A2: SEÇÃO NOMINAL (mm2) | B2: DIÂMETRO NOMINAL DO CONDUTOR (mm) | C2: ESPESSURA NOMINAL DA ISOLAÇÃO (mm) | D2: ESPESSURA NOMINAL COBERT. (mm) | E2: DIÂMETRO NOMINAL EXTERNO (mm) | F2: PESO (Kg/Km) | G2: ÁREA TOTAL DO CONDUTOR (mm2)
A3: 1x25 | B3: 5.85 | C3: 4.5 | D3: 6.16 | E3: 21.5 | F3: 640 | G3: =((3.1415926/4)*((E3)^2)) -> 363.05029
A4: 1x35 | B4: 6.9 | C4: 4.5 | D4: 6.16 | E4: 23 | F4: 720 | G4: =((3.1415926/4)*((E4)^2)) -> 415.47562
A5: 1x50 | B5: 8.15 | C5: 4.5 | D5: 6.16 | E5: 24 | F5: 855 | G5: =((3.1415926/4)*((E5)^2)) -> 452.38933
A6: 1x70 | B6: 9.65 | C6: 4.5 | D6: 6.16 | E6: 25.5 | F6: 1080 | G6: =((3.1415926/4)*((E6)^2)) -> 510.70515
A7: 1x95 | B7: 11.4 | C7: 4.5 | D7: 6.16 | E7: 27.5 | F7: 1370 | G7: =((3.1415926/4)*((E7)^2)) -> 593.95735
A8: 1x120 | B8: 12.75 | C8: 4.5 | D8: 6.16 | E8: 29 | F8: 1630 | G8: =((3.1415926/4)*((E8)^2)) -> 660.51984
A9: 1x150 | B9: 14.1 | C9: 4.5 | D9: 6.16 | E9: 30.5 | F9: 1910 | G9: =((3.1415926/4)*((E9)^2)) -> 730.61663
A10: 1x185 | B10: 15.65 | C10: 4.5 | D10: 6.16 | E10: 32.5 | F10: 2300 | G10: =((3.1415926/4)*((E10)^2)) -> 829.5768
A11: 1x240 | B11: 18.15 | C11: 4.5 | D11: 6.16 | E11: 34.5 | F11: 2860 | G11: =((3.1415926/4)*((E11)^2)) -> 934.82015

Sheet ILUM_CASA_PAINÉIS
A1: CÁLCULOS DE ELETRODUTOS / ELETROCALHAS / LEITOS - CASA DE PAINÉIS
A2: OBS_1: TODOS OS TRECHOS SERÃO CÁLCULADOS PARA 3 CONDUTORES CARREGADOS;
A4: TRECHO: | B4: INFRAESTRUTURA DE ILUMINAÇÃO
A5: TIPO: | B5: ELETRODUTO (3 CONDUTORES = 40% OCUPAÇÃO)
A6: TIPO DE CABO: | D6: ILUMINAÇÃO
A7: FORMAÇÃO DO CABO 1: | D7: 1x2,5mm2 | E7: ÁREA DO CABO: | G7: =CABOS_POTÊNCIA_1KV!$G$4 -> 22.90221 | H7: QTDADE: | I7: 3 | J7: ÁREA TOTAL DO CABO: | M7: =I7*G7 -> 68.70663
A8: ÁREA TOTAL NECESSÁRIA: | M8: =SUM(M7:M7) -> 68.70663
A9: DIM. / BITOLA ESCOLHIDA: | D9: 3/4" | E9: ÁREA TOTAL SUPORTADA PELA DIM. / BITOLA ESCOLHIDA: | K9: =ELETRODUTOS_AÇO_CARBONO!$H$4 -> 157.63255
A12: TRECHO: | B12: INFRAESTRUTURA DE ALIMENTAÇÃO DO FIT-01
A13: TIPO: | B13: ELETRODUTO (3 CONDUTORES = 40% OCUPAÇÃO)
A14: TIPO DE CABO: | D14: ALIMENTAÇÃO
A15: FORMAÇÃO DO CABO 1: | D15: 3x1,5mm2 | E15: ÁREA DO CABO: | G15: =CABOS_POTÊNCIA_1KV!$G$36 -> 67.929086 | H15: QTDADE: | I15: 1 | J15: ÁREA TOTAL DO CABO: | M15: =I15*G15 -> 67.929086
A16: ÁREA TOTAL NECESSÁRIA: | M16: =SUM(M15:M15) -> 67.929086
A17: DIM. / BITOLA ESCOLHIDA: | D17: 3/4" | E17: ÁREA TOTAL SUPORTADA PELA DIM. / BITOLA ESCOLHIDA: | K17: =ELETRODUTOS_AÇO_CARBONO!$H$4 -> 157.63255
A20: TRECHO: | B20: INFRAESTRUTURA DE SINAL DO FIT-01
A21: TIPO: | B21: ELETRODUTO (3 CONDUTORES = 40% OCUPAÇÃO)
A22: TIPO DE CABO: | D22: SINAL
A23: FORMAÇÃO DO CABO 1: | D23: 2x1,5mm2+SH | E23: ÁREA DO CABO: | G23: =CABOS_INSTRUM_300V!F8 -> 60.821233 | H23: QTDADE: | I23: 1 | J23: ÁREA TOTAL DO CABO: | M23: =I23*G23 -> 60.821233
A24: ÁREA TOTAL NECESSÁRIA: | M24: =SUM(M23:M23) -> 60.821233
A25: DIM. / BITOLA ESCOLHIDA: | D25: 3/4" | E25: ÁREA TOTAL SUPORTADA PELA DIM. / BITOLA ESCOLHIDA: | K25: =ELETRODUTOS_AÇO_CARBONO!$H$4 -> 157.63255
A28: TRECHO: | B28: INFRAESTRUTURA DE SINAL DO FIT-01 (SINAL DO SENSOR)
A29: TIPO: | B29: ELETRODUTO (3 CONDUTORES = 40% OCUPAÇÃO)
A30: TIPO DE CABO: | D30: SINAL SENSOR
A31: FORMAÇÃO DO CABO 1: | D31: 2x1,0mm2+SH | E31: ÁREA DO CABO: | G31: =CABOS_INSTRUM_300V!$F$7 -> 55.417693 | H31: QTDADE: | I31: 1 | J31: ÁREA TOTAL DO CABO: | M31: =I31*G31 -> 55.417693
A32: FORMAÇÃO DO CABO 2: | D32: 3x1,0mm2+SH | E32: ÁREA DO CABO: | G32: =CABOS_INSTRUM_300V!$F$8 -> 60.821233 | H32: QTDADE: | I32: 1 | J32: ÁREA TOTAL DO CABO: | M32: =I32*G32 -> 60.821233
A33: ÁREA TOTAL NECESSÁRIA: | M33: =SUM(M31:M32) -> 116.23893
A34: DIM. / BITOLA ESCOLHIDA: | D34: 1" | E34: ÁREA TOTAL SUPORTADA PELA DIM. / BITOLA ESCOLHIDA: | K34: =ELETRODUTOS_AÇO_CARBONO!$H$5 -> 253.38829

Sheet DISTRIBUIÇÃO
A1: CÁLCULOS DE ELETRODUTOS / ELETROCALHAS / LEITOS - DISTRIBUIÇÃO
A2: OBS_1: TODOS OS TRECHOS SERÃO CÁLCULADOS PARA 3 CONDUTORES CARREGADOS;
A4: TRECHO: | B4: TRECHO 001 OU 002
A5: TIPO: | B5: KANAFLEX (3 CONDUTORES = 40% OCUPAÇÃO)
A6: TIPO DE CABO: | D6: ALIMENTAÇÃO 380Vac
A7: FORMAÇÃO DO CABO 1A: | D7: 1x95mm2 | E7: ÁREA DO CABO: | G7: =CABOS_POTÊNCIA_1KV!$G$13 -> 274.64588 | H7: QTDADE: | I7: 4 | J7: ÁREA TOTAL DO CABO: | M7: =I7*G7 -> 1098.5835
A8: FORMAÇÃO DO CABO 1B: | D8: 1x50mm2 | E8: ÁREA DO CABO: | G8: =CABOS_POTÊNCIA_1KV!$G$11 -> 169.71669 | H8: QTDADE: | I8: 1 | J8: ÁREA TOTAL DO CABO: | M8: =I8*G8 -> 169.71669
A9: ÁREA TOTAL NECESSÁRIA: | M9: =SUM(M7:M8) -> 1268.3002
A10: DIM. / BITOLA ESCOLHIDA: | D10: 3" | E10: ÁREA TOTAL SUPORTADA PELA DIM. / BITOLA ESCOLHIDA: | K10: =KANAFLEX!$H$6 -> 1767.1458
A13: TRECHO: | B13: TRECHO 003
A14: TIPO: | B14: KANAFLEX (3 CONDUTORES = 40% OCUPAÇÃO)
A15: TIPO DE CABO: | D15: ALIMENTAÇÃO 380Vac
A16: FORMAÇÃO DO CABO 1A: | D16: 1x35mm2 | E16: ÁREA DO CABO: | G16: =CABOS_POTÊNCIA_1KV!$G$10 -> 134.78218 | H16: QTDADE: | I16: 6 | J16: ÁREA TOTAL DO CABO: | M16: =I16*G16 -> 808.69306
A17: FORMAÇÃO DO CABO 1B: | D17: 1x16mm2 | E17: ÁREA DO CABO: | G17: =CABOS_POTÊNCIA_1KV!$G$8 -> 72.382294 | H17: QTDADE: | I17: 2 | J17: ÁREA TOTAL DO CABO: | M17: =I17*G17 -> 144.76459
A18: ÁREA TOTAL NECESSÁRIA: | M18: =SUM(M16:M17) -> 953.45765
A19: DIM. / BITOLA ESCOLHIDA: | D19: 3" | E19: ÁREA TOTAL SUPORTADA PELA DIM. / BITOLA ESCOLHIDA: | K19: =KANAFLEX!$H$6 -> 1767.1458
A21: TIPO: | B21: KANAFLEX (3 CONDUTORES = 40% OCUPAÇÃO)
A22: TIPO DE CABO: | D22: COMANDO 220Vac
A23: - | D23: - | E23: - | G23: - | H23: - | I23: - | J23: - | M23: -
A24: - | D24: - | E24: - | G24: - | H24: - | I24: - | J24: - | M24: -
A25: ÁREA TOTAL NECESSÁRIA: | M25: =SUM(M23:M24) -> 0
A26: DIM. / BITOLA ESCOLHIDA: | D26: 2" | E26: ÁREA TOTAL SUPORTADA PELA DIM. / BITOLA ESCOLHIDA: | K26: =KANAFLEX!$H$5 -> 810.73195
A28: TIPO: | B28: KANAFLEX (3 CONDUTORES = 40% OCUPAÇÃO)
A29: TIPO DE CABO: | D29: SINAIS
A30: FORMAÇÃO DO CABO 1: | D30: 2x1,5mm2+SH | E30: ÁREA DO CABO: | G30: =CABOS_INSTRUM_300V!$F$8 -> 60.821233 | H30: QTDADE: | I30: 1 | J30: ÁREA TOTAL DO CABO: | M30: =I30*G30 -> 60.821233
A31: ÁREA TOTAL NECESSÁRIA: | M31: =SUM(M30:M30) -> 60.821233
A32: DIM. / BITOLA ESCOLHIDA: | D32: 2" | E32: ÁREA TOTAL SUPORTADA PELA DIM. / BITOLA ESCOLHIDA: | K32: =KANAFLEX!$H$5 -> 810.73195
A35: TRECHO: | B35: TRECHO 004
A36: TIPO: | B36: KANAFLEX (3 CONDUTORES = 40% OCUPAÇÃO)
A37: TIPO DE CABO: | D37: ALIMENTAÇÃO 380Vac
A38: FORMAÇÃO DO CABO 1: | D38: 5x4,0mm2 | E38: ÁREA DO CABO: | G38: =CABOS_POTÊNCIA_1KV!$G$70 -> 151.74678 | H38: QTDADE: | I38: 1 | J38: ÁREA TOTAL DO CABO: | M38: =I38*G38 -> 151.74678
A39: ÁREA TOTAL NECESSÁRIA: | M39: =SUM(M38:M38) -> 151.74678
A40: DIM. / BITOLA ESCOLHIDA: | D40: 2" | E40: ÁREA TOTAL SUPORTADA PELA DIM. / BITOLA ESCOLHIDA: | K40: =KANAFLEX!$H$5 -> 810.73195
A42: TIPO: | B42: KANAFLEX (3 CONDUTORES = 40% OCUPAÇÃO)
A43: TIPO DE CABO: | D43: SINAIS
A44: FORMAÇÃO DO CABO 1: | D44: 2x0,5mm2+SH | E44: ÁREA DO CABO: | G44: =CABOS_INSTRUM_300V!$F$7 -> 55.417693 | H44: QTDADE: | I44: 1 | J44: ÁREA TOTAL DO CABO: | M44: =I44*G44 -> 55.417693
A45: FORMAÇÃO DO CABO 2: | D45: 2x0,75mm2+SH | E45: ÁREA DO CABO: | G45: =CABOS_INSTRUM_300V!$F$8 -> 60.821233 | H45: QTDADE: | I45: 1 | J45: ÁREA TOTAL DO CABO: | M45: =I45*G45 -> 60.821233
A46: ÁREA TOTAL NECESSÁRIA: | M46: =SUM(M44:M45) -> 116.23893
A47: DIM. / BITOLA ESCOLHIDA: | D47: 2" | E47: ÁREA TOTAL SUPORTADA PELA DIM. / BITOLA ESCOLHIDA: | K47: =KANAFLEX!$H$5 -> 810.73195
A50: TRECHO: | B50: TRECHO IL1 OU IL2
...
