Workbook

Sheet Quadro
A2: QUADRO DE MEDIÇÕES -ITENS EXECUTADOS POR MEDIÇÕES | H2: BDI Serviço | I2: 0.287
H3: BDI Material | I3: 0.168
A4: MANUTENÇÃO E CONSERTO DE REDES, RAMAIS, BOCAS DE LOBO E POÇOS DE VISITA DO SISTEMA DE DRENAGEM DE ÁGUAS PLUVIAIS EM SERTÃOZINHO E CRUZ DAS POSSES
A8: ITEM | B8: DISCRIMINAÇÃO | C8: UND. | D8: FONTE | E8: CÓDIGO | F8: QTADE | G8: PREÇO S/ BDI | H8: PREÇO C/ BDI | I8: PREÇO TOTAL
A9: 1.0.0 | B9: LIMPEZA MANUAL E SUBSTITUIÇÃO DE PEÇAS (INCLUSO DESLOCAMENTO)
A10: 1.1.1 | B10: LIMPEZA MANUAL EM BOCA DE LOBO | C10: UND. | D10: COMPOSIÇÃO | E10: -- | F10: 1750 | G10: =Composições!H6 -> 198.02436 | H10: =G10*(1+$I$2) -> 254.85735 | I10: =H10*F10 -> 446000.36
A11: 1.1.2 | B11: LIMPEZA MANUAL EM POÇOS DE VISITA | C11: UND. | D11: COMPOSIÇÃO | E11: -- | F11: 200 | G11: =Composições!H14 -> 178.44 | H11: =G11*(1+$I$2) -> 229.65228 | I11: =H11*F11 -> 45930.456
A12: 1.1.3 | B12: LIMPEZA MANUAL DE RAMAL PLUVIAL, DIÂMETRO DE 400 A 600MM, C/ REMOÇÃO DE MATERIAL INSERVÍVEL | C12: UND. | D12: COMPOSIÇÃO | E12: -- | F12: 360 | G12: =Composições!H21 -> 58.97 | H12: =G12*(1+$I$2) -> 75.89439 | I12: =H12*F12 -> 27321.98
A13: 1.1.4 | B13: TAMPA DE CONCRETO ARMADO 1,20M X 0,80M, MAIS MÃO DE OBRA DE ASSENTAMENTO | C13: UND. | D13: COMPOSIÇÃO | E13: -- | F13: 250 | G13: =Composições!H29 -> 218.97918 | H13: =G13*(1+$I$2) -> 281.82621 | I13: =H13*F13 -> 70456.552
A14: 1.1.5 | B14: CAVALETE DE CONCRETO PARA BOCA DE LOBO 1,20M, MAIS MÃO DE OBRA ASSENTAMENTO | C14: UND. | D14: COMPOSIÇÃO | E14: -- | F14: 250 | G14: =Composições!H38 -> 61.933789 | H14: =G14*(1+$I$2) -> 79.708787 | I14: =H14*F14 -> 19927.197
A15: 1.1.6 | B15: GRELHA METÁLICA BITOLA MÍNIMA DE 1” | C15: UND. | D15: COMPOSIÇÃO | E15: -- | F15: 40 | G15: =Composições!H46 -> 348.96 | H15: =G15*(1+$I$2) -> 449.11152 | I15: =H15*F15 -> 17964.461
A16: 1.1.7 | B16: FORNECIMENTO E ASSENTAMENTO DE “GRADE” METÁLICA BITOLA 5/16” 1200 MM X 200 MM | C16: UND. | D16: COMPOSIÇÃO | E16: -- | F16: 50 | G16: =Composições!H54 -> 75.2034 | H16: =G16*(1+$I$2) -> 96.786776 | I16: =H16*F16 -> 4839.3388
A17: 2.0 | B17: CONSTRUÇÃO E REPAROS
A18: 2.1.0 | B18: MOBILIZAÇÃO DE EQUIPAMENTOS
A19: 2.1.1 | B19: CAMINHÃO BASCULANTE 6M³ | C19: H | D19: SINAPI | E19: 5811 | F19: 100 | G19: 217.15 | H19: =G19*(1+$I$2) -> 279.47205 | I19: =H19*F19 -> 27947.205
A20: 2.1.2 | B20: CAMINHÃO TOCO, PBT 16.000 KG, CARGA ÚTIL MÁX. 10.685 KG, DIST. ENTRE EIXOS 4,8 M, POTÊNCIA 189 CV, INCLUSIVE CARROCERIA FIXA ABERTA DE MADEIRA P/ TRANSPORTE GERAL DE CARGA SECA, DIMEN. APROX. 2,5 X 7,00 X 0,50 M - CHP DIURNO. AF_06/2014 | C20: H | D20: SINAPI | E20: 5824 | F20: 100 | G20: 229.49 | H20: =G20*(1+$I$2) -> 295.35363 | I20: =H20*F20 -> 29535.363
A21: 2.1.3 | B21: ESCAVADEIRA HIDRÁULICA SOBRE ESTEIRAS, CAÇAMBA 0,80 M3, PESO OPERACIONAL 17 T, POTENCIA BRUTA 111 HP - CHP DIURNO. AF_06/2014 | C21: H | D21: SINAPI | E21: 5631 | F21: 100 | G21: 223.27 | H21: =G21*(1+$I$2) -> 287.34849 | I21: =H21*F21 -> 28734.849
A22: 2.2.0 | B22: MOVIMENTAÇÃO DE TERRA
A23: 2.2.1 | B23: LOCAÇÃO DE REDE DE DRENAGEM. AF_03/2024 | C23: M | D23: SINAPI | E23: 99063 | F23: 670 | G23: 10.57 | H23: =G23*(1+$I$2) -> 13.60359 | I23: =H23*F23 -> 9114.4053
A24: 2.2.2 | B24: ESCAVAÇÃO MECANIZADA DE VALA COM PROF. MAIOR QUE 1,5 M ATÉ 3,0 M (MÉDIA MONTANTE E JUSANTE/UMA COMPOSIÇÃO POR TRECHO), ESCAVADEIRA (0,8 M3), LARGURA ATÉ 1,5 M, EM SOLO DE 1A CATEGORIA, EM LOCAIS COM ALTO NÍVEL DE INTERFERÊNCIA. AF_09/2024 | C24: M³ | D24: SINAPI | E24: 90084 | F24: 1700 | G24: 9.93 | H24: =G24*(1+$I$2) -> 12.77991 | I24: =H24*F24 -> 21725.847
A25: 2.2.3 | B25: REATERRO MECANIZADO DE VALA COM ESCAVADEIRA HIDRÁULICA (CAPACIDADE DA CAÇAMBA: 0,8 M³/POTÊNCIA: 111 HP), LARGURA ATÉ 1,5 M, PROFUNDIDADE DE 1,5 A 3,0 M, COM SOLO (SEM SUBSTITUIÇÃO) DE 1ª CATEGORIA, COM COMPACTADOR DE SOLOS DE PERCUSSÃO. AF_08/2023 | C25: M³ | D25: SINAPI | E25: 93368 | F25: 1400 | G25: 21.61 | H25: =G25*(1+$I$2) -> 27.81207 | I25: =H25*F25 -> 38936.898
A26: 2.2.4 | B26: CARGA, MANOBRA E DESCARGA DE SOLOS E MATERIAIS GRANULARES EM CAMINHÃO BASCULANTE 6 M³ - CARGA COM PÁ CARREGADEIRA (CAÇAMBA DE 1,7 A 2,8 M³ / 128 HP) E DESCARGA LIVRE (UNIDADE: M3). AF_07/2020 | C26: M³ | D26: SINAPI | E26: 100973 | F26: 340 | G26: 9.27 | H26: =G26*(1+$I$2) -> 11.93049 | I26: =H26*F26 -> 4056.3666
A27: 2.2.5 | B27: TRANSPORTE COM CAMINHÃO BASCULANTE DE 6 M³, EM VIA URBANA PAVIMENTADA, DMT ATÉ 30 KM (UNIDADE: M3XKM). AF_07/2020 | C27: M³XKM | D27: SINAPI | E27: 97914 | F27: =F26*10 -> 3400 | G27: 3.18 | H27: =G27*(1+$I$2) -> 4.09266 | I27: =H27*F27 -> 13915.044
A28: 2.2.6 | B28: DEPOSIÇÃO DE ENTULHO P/ RCC CADASTRADO NA CIDADE (CONSIDERANDO PESO ESPECÍFICO ENTULHO 1,5 TON/M³ | C28: TON | D28: CONTRATO | E28: SAEMAS-RCC | F28: 400 | G28: 121.5 | H28: =G28*(1+$I$2) -> 156.3705 | I28: =H28*F28 -> 62548.2
A29: 2.2.7 | B29: ESCORAMENTO DE VALA, TIPO DESCONTÍNUO, COM PROFUNDIDADE DE 1,5 A 3,0 M, LARGURA MAIOR OU IGUAL A 1,5 M E MENOR QUE 2,5 M. AF_08/2020 | C29: M² | D29: SINAPI | E29: 101579 | F29: 300 | G29: 51.5 | H29: =G29*(1+$I$2) -> 66.2805 | I29: =H29*F29 -> 19884.15
A30: 2.2.8 | B30: TERRA | C30: M³ | D30: SINAPI | E30: 7253 | F30: 500 | G30: 214.28 | H30: =G30*(1+$I$2) -> 275.77836 | I30: =H30*F30 -> 137889.18
A31: 2.3.0 | B31: CONSTRUÇÃO E REPAROS
A32: 2.3.1 | B32: CAIXA PARA BOCA DE LOBO SIMPLES RETANGULAR, EM ALVENARIA COM BLOCOS DE CONCRETO, DIMENSÕES INTERNAS: 0,6X1X1,2 M. AF_12/2020 | C32: pç | D32: SINAPI | E32: 97956 | F32: 50 | G32: 1484.15 | H32: =G32*(1+$I$2) -> 1910.101 | I32: =H32*F32 -> 95505.053
A33: 2.3.2 | B33: CAIXA COM GRELHA SIMPLES RETANGULAR, EM ALVENARIA COM BLOCOS DE CONCRETO, DIMENSÕES INTERNAS: 0,5X1X1 M. AF_12/2020 | C33: pç | D33: SINAPI | E33: 97953 | F33: 25 | G33: 1440.86 | H33: =G33*(1+$I$2) -> 1854.3868 | I33: =H33*F33 -> 46359.671
A34: 2.3.3 | B34: BASE PARA POÇO DE VISITA CIRCULAR PARA DRENAGEM, EM CONCRETO PRÉ-MOLDADO, DIÂMETRO INTERNO = 1,50 M, PROFUNDIDADE = 1,35 M, EXCLUINDO TAMPÃO. AF_12/2020 | C34: pç | D34: SINAPI | E34: 102142 | F34: 12 | G34: 2597.01 | H34: =G34*(1+$I$2) -> 3342.3519 | I34: =H34*F34 -> 40108.222
A35: 2.3.4 | B35: ACRÉSCIMO PARA POÇO DE VISITA CIRCULAR PARA DRENAGEM, EM CONCRETO PRÉ-MOLDADO, DIÂMETRO INTERNO = 1,5 M. AF_12/2020 | C35: m | D35: SINAPI | E35: 99246 | F35: 12 | G35: 1005.13 | H35: =G35*(1+$I$2) -> 1293.6023 | I35: =H35*F35 -> 15523.228
A36: 2.3.5 | B36: TAMPAO FOFO ARTICULADO, COM BASE / REQUADRO, CLASSE D400 CARGA MAX 40 T, REDONDO, TAMPA 600 MM (COM INSCRICAO EM RELEVO DO TIPO DE REDE) | C36: pç | D36: SINAPI | E36: 6243 | F36: 30 | G36: 579.99 | H36: =G36*(1+$I$3) -> 677.42832 | I36: =H36*F36 -> 20322.85
A37: 2.4.0 | B37: FORNECIMENTO E ASSENTAMENTO DE TUBOS DE CONCRETO
B38: ASSENTAMENTO DE TUBOS
A39: 2.4.1 | B39: TUBO DE CONCRETO (SIMPLES) PARA REDES COLETORAS DE ÁGUAS PLUVIAIS, DIÂMETRO DE 400 MM, JUNTA RÍGIDA, INSTALADO EM LOCAL COM ALTO NÍVEL DE INTERFERÊNCIAS - FORNECIMENTO E ASSENTAMENTO. AF_03/2024 | C39: m | D39: SINAPI | E39: 95571 | F39: 200 | G39: 117.18 | H39: =G39*(1+$I$2) -> 150.81066 | I39: =H39*F39 -> 30162.132
A40: 2.4.2 | B40: TUBO DE CONCRETO PARA REDES COLETORAS DE ÁGUAS PLUVIAIS, DIÂMETRO DE 600 MM, JUNTA RÍGIDA, INSTALADO EM LOCAL COM ALTO NÍVEL DE INTERFERÊNCIAS - FORNECIMENTO E ASSENTAMENTO. AF_03/2024 | C40: m | D40: SINAPI | E40: 92221 | F40: 200 | G40: 317.31 | H40: =G40*(1+$I$2) -> 408.37797 | I40: =H40*F40 -> 81675.594
A41: 2.4.3 | B41: TUBO DE CONCRETO PARA REDES COLETORAS DE ESGOTO SANITÁRIO, DIÂMETRO DE 800 MM, JUNTA ELÁSTICA, INSTALADO EM LOCAL COM ALTO NÍVEL DE INTERFERÊNCIAS - FORNECIMENTO E ASSENTAMENTO. AF_03/2024 | C41: m | D41: SINAPI | E41: 92223 | F41: 10 | G41: 509.3 | H41: =G41*(1+$I$2) -> 655.4691 | I41: =H41*F41 -> 6554.691
A42: 2.4.4 | B42: TUBO DE CONCRETO PARA REDES COLETORAS DE ÁGUAS PLUVIAIS, DIÂMETRO DE 1000 MM, JUNTA RÍGIDA, INSTALADO EM LOCAL COM ALTO NÍVEL DE INTERFERÊNCIAS - FORNECIMENTO E ASSENTAMENTO. AF_03/2024 | C42: m | D42: SINAPI | E42: 92226 | F42: 10 | G42: 607.19 | H42: =G42*(1+$I$2) -> 781.45353 | I42: =H42*F42 -> 7814.5353
A43: 2.4.5 | B43: TUBO DE CONCRETO PARA REDES COLETORAS DE ÁGUAS PLUVIAIS, DIÂMETRO DE 1200 MM, JUNTA RÍGIDA, INSTALADO EM LOCAL COM ALTO NÍVEL DE INTERFERÊNCIAS - FORNECIMENTO E ASSENTAMENTO. AF_03/2024 | C43: m | D43: SINAPI | E43: 92829 | F43: 10 | G43: 875.98 | H43: =G43*(1+$I$2) -> 1127.3863 | I43: =H43*F43 -> 11273.863
A44: 3.0.0 | B44: REPOSIÇÕES:
...

Sheet Composições
A2: BDI
A3: FONTE | D3: SINAPI Fevereiro 2025
A4: COMPOSIÇÕES UNITÁRIAS
A5: Item | B5: Fonte | C5: Código | D5: Descrição | E5: Und. | F5: Coeficiente | G5: Pr.Unitário | H5: Preço Item
A6: 1.1.0 | D6: Limpeza manual em boca de lobo | H6: =SUM(H7:H11) -> 198.02436
A7: 1.1.1 | B7: SINAPI | C7: 88316 | D7: servente com encargos complementares | E7: h | F7: 1 | G7: 27.55 | H7: =F7*G7 -> 27.55
A8: 1.1.2 | B8: SINAPI | C8: 88309 | D8: Pedreiro com encargos complementares | E8: h | F8: 1 | G8: 31.42 | H8: =F8*G8 -> 31.42
A9: 1.1.3 | B9: SINAPI | C9: 5824 | D9: caminhão carroceria fixa, madeira, toco-deslocamento | E9: CHP | F9: =(60-40)/60 -> 0.33333333 | G9: 229.49 | H9: =F9*G9 -> 76.496667
A10: 1.1.4 | B10: SINAPI | C10: 5896 | D10: CAMINHÃO TOCO, PESO BRUTO TOTAL 16.000 KG, CARGA ÚTIL MÁXIMA DE 10.685 KG, DISTÂNCIA ENTRE EIXOS 4,80 M, POTÊNCIA 189 CV EXCLUSIVE CARROCERIA - CHI DIURNO. AF_06/2014 | E10: CHI | F10: =F8-F9 -> 0.66666667 | G10: 64.46 | H10: =F10*G10 -> 42.973333
A11: 1.1.5 | B11: SINAPI | C11: 88631 | D11: ARGAMASSA TRAÇO 1:4 (EM VOLUME DE CIMENTO E AREIA MÉDIA ÚMIDA), PREPARO MANUAL. AF_08/2019 | E11: m³ | F11: 0.036 | G11: 544.01 | H11: =F11*G11 -> 19.58436
A14: 1.2.0 | D14: Limpeza manual de Poço de Visita | E14: und. | H14: =SUM(H15:H18) -> 178.44
A15: 1.2.1 | B15: SINAPI | C15: 88316 | D15: servente com encargos complementares | E15: h | F15: 1 | G15: 27.55 | H15: =F15*G15 -> 27.55
A16: 1.2.2 | B16: SINAPI | C16: 88309 | D16: Pedreiro com encargos complementares | E16: h | F16: 1 | G16: 31.42 | H16: =F16*G16 -> 31.42
A17: 1.2.3 | B17: SINAPI | C17: 5824 | D17: caminhão carroceria fixa, madeira, toco-deslocamento | E17: CHP | F17: =(60-40)/60 -> 0.33333333 | G17: 229.49 | H17: =F17*G17 -> 76.496667
A18: 1.2.4 | B18: SINAPI | C18: 5896 | D18: CAMINHÃO TOCO, PESO BRUTO TOTAL 16.000 KG, CARGA ÚTIL MÁXIMA DE 10.685 KG, DISTÂNCIA ENTRE EIXOS 4,80 M, POTÊNCIA 189 CV EXCLUSIVE CARROCERIA - CHI DIURNO. AF_06/2014 | E18: CHI | F18: =F16-F17 -> 0.66666667 | G18: 64.46 | H18: =F18*G18 -> 42.973333
A21: 1.3.0 | D21: Limpeza manual de ramal pluvial, diâmetro de 400 a 600mm, c/ remoção de material inservível | E21: und | H21: =SUM(H22:H26) -> 58.97
A22: 1.3.1 | B22: SINAPI | C22: 88316 | D22: servente com encargos complementares | E22: h | F22: 1 | G22: 27.55 | H22: =F22*G22 -> 27.55
A23: 1.3.2 | B23: SINAPI | C23: 88309 | D23: Pedreiro com encargos complementares | E23: h | F23: 1 | G23: 31.42 | H23: =F23*G23 -> 31.42
A24: 1.3.3 | B24: SINAPI | C24: 5824 | D24: caminhão carroceria fixa, madeira, toco-deslocamento | E24: CHP | F24: 0 | G24: 229.49 | H24: =F24*G24 -> 0
A25: 1.3.4 | B25: SINAPI | C25: 5896 | D25: CAMINHÃO TOCO, PESO BRUTO TOTAL 16.000 KG, CARGA ÚTIL MÁXIMA DE 10.685 KG, DISTÂNCIA ENTRE EIXOS 4,80 M, POTÊNCIA 189 CV EXCLUSIVE CARROCERIA - CHI DIURNO. AF_06/2014 | E25: CHI | F25: 0 | G25: 64.46 | H25: =F25*G25 -> 0
A26: 1.3.5 | B26: SINAPI | C26: 88631 | D26: ARGAMASSA TRAÇO 1:4 (EM VOLUME DE CIMENTO E AREIA MÉDIA ÚMIDA), PREPARO MANUAL. AF_08/2019 | E26: m³ | F26: 0 | G26: 544.01 | H26: =F26*G26 -> 0
A29: 1.4.0 | D29: Tampa de concreto armado 1,20x0,8 m mais mão de obra de assentamento | E29: unid. | H29: =SUM(H30:H35) -> 218.97918
A30: 1.4.1 | B30: SINAPI | C30: 88316 | D30: servente com encargos complementares | E30: h | F30: 0.5 | G30: 27.55 | H30: =F30*G30 -> 13.775
A31: 1.4.2 | B31: SINAPI | C31: 88309 | D31: Pedreiro com encargos complementares | E31: h | F31: 0.5 | G31: 31.42 | H31: =F31*G31 -> 15.71
A32: 1.4.3 | B32: SINAPI | C32: 5824 | D32: caminhão carroceria fixa, madeira, toco-deslocamento | E32: CHP | F32: 0 | G32: 229.49 | H32: =F32*G32 -> 0
A33: 1.4.4 | B33: SINAPI | C33: 5896 | D33: CAMINHÃO TOCO, PESO BRUTO TOTAL 16.000 KG, CARGA ÚTIL MÁXIMA DE 10.685 KG, DISTÂNCIA ENTRE EIXOS 4,80 M, POTÊNCIA 189 CV EXCLUSIVE CARROCERIA - CHI DIURNO. AF_06/2014 | E33: CHI | F33: 0 | G33: 64.46 | H33: =F33*G33 -> 0
A34: 1.4.5 | B34: SINAPI | C34: 97735 | D34: Tampa de concreto armado 1,20x0,8x0,07 (0,0672m³) | E34: m³ | F34: 0.0672 | G34: 2528.42 | H34: =F34*G34 -> 169.90982
A35: 1.4.6 | B35: SINAPI | C35: 88631 | D35: ARGAMASSA TRAÇO 1:4 (EM VOLUME DE CIMENTO E AREIA MÉDIA ÚMIDA), PREPARO MANUAL. AF_08/2019 | E35: m³ | F35: 0.036 | G35: 544.01 | H35: =F35*G35 -> 19.58436
A38: 1.5.0 | D38: Cavalete de concreto para boca de lobo 1,20m, mais mão de obra assentamento | E38: unid. | H38: =SUM(H39:H44) -> 61.933789
A39: 1.5.1 | B39: SINAPI | C39: 88316 | D39: servente com encargos complementares | E39: h | F39: =40/60 -> 0.66666667 | G39: 27.55 | H39: =F39*G39 -> 18.366667
A40: 1.5.2 | B40: SINAPI | C40: 88309 | D40: Pedreiro com encargos complementares | E40: h | F40: =40/60 -> 0.66666667 | G40: 31.42 | H40: =F40*G40 -> 20.946667
A41: 1.5.3 | B41: SINAPI | C41: 5824 | D41: caminhão carroceria fixa, madeira, toco-deslocamento | E41: CHP | G41: 229.49 | H41: =F41*G41 -> 0
A42: 1.5.4 | B42: SINAPI | C42: 5896 | D42: CAMINHÃO TOCO, PESO BRUTO TOTAL 16.000 KG, CARGA ÚTIL MÁXIMA DE 10.685 KG, DISTÂNCIA ENTRE EIXOS 4,80 M, POTÊNCIA 189 CV EXCLUSIVE CARROCERIA - CHI DIURNO. AF_06/2014 | E42: CHI | G42: 64.46 | H42: =F42*G42 -> 0
A43: 1.5.5 | B43: SINAPI | C43: 43386 | D43: Cavalete de concreto | E43: unid. | F43: 0.0672 | G43: 45.18 | H43: =G43*F43 -> 3.036096
A44: 1.5.6 | B44: SINAPI | C44: 88631 | D44: Argamassa traço 1:4 (cimento e areia média) preparo manual | E44: m³ | F44: 0.036 | G44: 544.01 | H44: =G44*F44 -> 19.58436
A46: 1.6.0 | D46: Fornecimento e assentamento de grelha metálica bitola mínima de 1. | H46: =SUM(H47:H51) -> 348.96
A47: 1.6.1 | B47: SINAPI | C47: 88316 | D47: servente com encargos complementares | E47: h | F47: 1 | G47: 27.55 | H47: =F47*G47 -> 27.55
A48: 1.6.2 | B48: SINAPI | C48: 88309 | D48: Pedreiro com encargos complementares | E48: h | F48: 1 | G48: 31.42 | H48: =F48*G48 -> 31.42
A49: 1.6.3 | B49: SINAPI | C49: 5824 | D49: caminhão carroceria fixa, madeira, toco-deslocamento | E49: CHP | F49: 0 | G49: 229.49 | H49: =F49*G49 -> 0
A50: 1.6.4 | B50: SINAPI | C50: 5896 | D50: CAMINHÃO TOCO, PESO BRUTO TOTAL 16.000 KG, CARGA ÚTIL MÁXIMA DE 10.685 KG, DISTÂNCIA ENTRE EIXOS 4,80 M, POTÊNCIA 189 CV EXCLUSIVE CARROCERIA - CHI DIURNO. AF_06/2014 | E50: CHI | F50: 0 | G50: 64.46 | H50: =F50*G50 -> 0
...
