Workbook

Sheet ORC BVI
B1: PLANILHA ORÇAMENTÁRIA DRENAGEM BAIRRO JARDIM BOA VISTA - SERTÃOZINHO/SP | M1: X
A2: Município de Sertãozinho/SP
A3: Objeto: | B3: EXECUÇÃO DE GALERIAS DE BACIA DE DETENÇÃO E GALERIAS DE ÁGUAS PLUVIAIS NO BAIRRO BOA VISTA
A4: Local: | B4: BAIRRO ANÉLIO CELINE - SERTÃOZINHO, SP
A5: ITEM | H5: S/ BDI | I5: BDI conforme acórdão 2369/2011 | K5: C/ BDI | M5: X
A6: 1 | B6: =B13 -> SERVIÇOS PRELIMINARES | H6: =H13 -> 29667.6 | K6: =K13 -> 37490.5 | M6: X | S6: ADM | T6: =#REF!/K9 -> #REF! | U6: <3%
A7: 2 | B7: =B32 -> VERTEDORES E GALERIAS DE DRENAGEM DE ÁGUAS PLUVIAIS NO BAIRRO BOA VISTA | H7: =H32 -> 144225.67 | K7: =K32 -> 182190.68 | M7: X | S7: PROJTEC | T7: =#REF!/#REF! -> #REF! | U7: >2,5%
A8: =A106 -> 3 | B8: =B106 -> BACIA DE DETENÇÃO DE CHEIAS NO BAIRRO BOA VISTA | H8: =H106 -> 229568.83 | K8: =K106 -> 290044.99 | M8: X | S8: PROJTEC | T8: =#REF!/#REF! -> #REF! | U8: >2,5%
B9: TOTAL DA OBRA | H9: =SUM(H6:H8) -> 403462.1 | K9: =SUM(K6:K8) -> 509726.17 | M9: X | P9: 6 | Q9: KM
A10: DATA BASE: SINAPI abril/2025 COM DESONERAÇÃO | G10: BDI - MATERIAL | H10: ='BDI BVI'!C36 -> 0.15278048 | P10: 25 | Q10: KM
G11: BDI - SERVIÇOS | H11: 0.2637 | M11: X | P11: 8 | Q11: KM | T11: =#REF!*2.5% -> #REF!
A12: ITEM | B12: DESCRIÇÃO | C12: REFERENCIA | D12: CÓDIGO | E12: UNID. | F12: QTDE. | G12: CUSTO UNITÁRIO (SEM BDI) - R$ | H12: CUSTO TOTAL R$ | I12: % BDI | J12: PREÇO UNITÁRIO C/ BDI (R$) | K12: PREÇO TOTAL C/ BDI (R$) | M12: X | Q12: =IF(O12<0.04,"ok","ALERTA") -> ok | T12: =T11/1.294 -> #REF!
A13: 1 | B13: SERVIÇOS PRELIMINARES | H13: =H19+H22+H31 -> 29667.6 | K13: =K19+K22+K31 -> 37490.5
A14: 1.1 | B14: GERAL
A15: 1.1.1 | B15: ADMINISTRACAO LOCAL DA OBRA | D15: SERT_AdmLocal | E15: MÊS | F15: ='MCQ AUXILIAR BVI'!F15 -> 3 | G15: 3350 | H15: =ROUND(F15*G15,2) -> 10050 | I15: =IF(M15="",$H$11,$H$10) -> 0.2637 | J15: =ROUND(G15*I15+G15,2) -> 4233.4 | K15: =ROUND(F15*J15,2) -> 12700.2
A16: 1.1.2 | B16: AS BUILT - PRANCHA FORMATO A1 | D16: SIURB 20-03-17 | E16: UN | F16: ='MCQ AUXILIAR BVI'!F16 -> 0 | G16: 1385.75 | H16: =ROUND(F16*G16,2) -> 0 | I16: =IF(M16="",$H$11,$H$10) -> 0.2637 | J16: =ROUND(G16*I16+G16,2) -> 1751.17 | K16: =ROUND(F16*J16,2) -> 0
A17: 1.1.3 | B17: FORNECIMENTO E INSTALAÇÃO DE PLACA DE OBRA COM CHAPA GALVANIZADA E ESTRUTURA DE MADEIRA. AF_03/2022_PS | C17: SINAPI | D17: 103689 | E17: =VLOOKUP(D17,'S03.25+C196+D10.24+F1024+S10.24'!$A$2:$D$20056,3, FALSE()) -> M2 | F17: ='MCQ AUXILIAR BVI'!F17 -> 6 | G17: =VLOOKUP(D17,'S03.25+C196+D10.24+F1024+S10.24'!$A$2:$D$35656,4, FALSE()) -> 466.76 | H17: =ROUND(F17*G17,2) -> 2800.56 | I17: =IF(M17="",$H$11,$H$10) -> 0.2637 | J17: =ROUND(G17*I17+G17,2) -> 589.84 | K17: =ROUND(F17*J17,2) -> 3539.04
A18: 1.1.4 | B18: =VLOOKUP(D18,'S03.25+C196+D10.24+F1024+S10.24'!$A$2:$C$20056,2, FALSE()) -> TAPUME COM COMPENSADO DE MADEIRA. AF_03/2024 | C18: SINAPI | D18: 98458 | E18: =VLOOKUP(D18,'S03.25+C196+D10.24+F1024+S10.24'!$A$2:$D$20056,3, FALSE()) -> M2 | F18: ='MCQ AUXILIAR BVI'!F18 -> 0 | G18: =VLOOKUP(D18,'S03.25+C196+D10.24+F1024+S10.24'!$A$2:$D$35656,4, FALSE()) -> 90.63 | H18: =ROUND(F18*G18,2) -> 0 | I18: =IF(M18="",$H$11,$H$10) -> 0.2637 | J18: =ROUND(G18*I18+G18,2) -> 114.53 | K18: =ROUND(F18*J18,2) -> 0
B19: SUB-TOTAL | H19: =SUM(H15:H18) -> 12850.56 | K19: =SUM(K15:K18) -> 16239.24
A20: 1.2 | B20: LOCAÇÃO DE OBRA
A21: 1.2.1 | B21: =VLOOKUP(D21,'S03.25+C196+D10.24+F1024+S10.24'!$A$2:$C$20056,2, FALSE()) -> Locação de rede de canalização | C21: CDHU | D21: 02.10.040 | E21: =VLOOKUP(D21,'S03.25+C196+D10.24+F1024+S10.24'!$A$2:$D$20056,3, FALSE()) -> M | F21: ='MCQ AUXILIAR BVI'!F21 -> 94.55 | G21: =VLOOKUP(D21,'S03.25+C196+D10.24+F1024+S10.24'!$A$2:$D$35656,4, FALSE()) -> 1.41 | H21: =ROUND(F21*G21,2) -> 133.32 | I21: =IF(M21="",$H$11,$H$10) -> 0.2637 | J21: =ROUND(G21*I21+G21,2) -> 1.78 | K21: =ROUND(F21*J21,2) -> 168.3
B22: SUB-TOTAL | H22: =SUM(H21:H21) -> 133.32 | K22: =SUM(K21:K21) -> 168.3
A23: 1.3 | B23: DEMOLICAO E RECOMPOSIÇÃO DA PAVIMENTACAO ASFALTICA
A24: 1.3.1 | B24: =VLOOKUP(D24,'S03.25+C196+D10.24+F1024+S10.24'!$A$2:$C$20056,2, FALSE()) -> RECOMPOSIÇÃO DE REVESTIMENTO EM CONCRETO ASFÁLTICO (AQUISIÇÃO EM USINA), PARA O FECHAMENTO DE VALAS - INCLUSO DEMOLIÇÃO DO PAVIMENTO. AF_12/2020 | C24: SINAPI | D24: 102098 | E24: =VLOOKUP(D24,'S03.25+C196+D10.24+F1024+S10.24'!$A$2:$D$20056,3, FALSE()) -> M3 | F24: 5.46 | G24: =VLOOKUP(D24,'S03.25+C196+D10.24+F1024+S10.24'!$A$2:$D$35656,4, FALSE()) -> 1977.08 | H24: =ROUND(F24*G24,2) -> 10794.86 | I24: =IF(M24="",$H$11,$H$10) -> 0.2637 | J24: =ROUND(G24*I24+G24,2) -> 2498.44 | K24: =ROUND(F24*J24,2) -> 13641.48
A25: 1.3.2 | B25: CONSTRUÇÃO DE BASE E SUB-BASE PARA PAVIMENTAÇÃO DE BRITA GRADUADA SIMPLES, COM ESPESSURA DE 15 CM - EXCLUSIVE CARGA E TRANSPORTE. AF_09/2024 | C25: SINAPI | D25: 96396 | E25: =VLOOKUP(D25,'S03.25+C196+D10.24+F1024+S10.24'!$A$2:$D$20056,3, FALSE()) -> M3 | F25: 16.38 | G25: =VLOOKUP(D25,'S03.25+C196+D10.24+F1024+S10.24'!$A$2:$D$35656,4, FALSE()) -> 139.85 | H25: =ROUND(F25*G25,2) -> 2290.74 | I25: =IF(M25="",$H$11,$H$10) -> 0.2637 | J25: =ROUND(G25*I25+G25,2) -> 176.73 | K25: =ROUND(F25*J25,2) -> 2894.84
A26: 1.3.3 | B26: =VLOOKUP(D26,'S03.25+C196+D10.24+F1024+S10.24'!$A$2:$C$20056,2, FALSE()) -> DEMOLIÇÃO DE PISO DE CONCRETO SIMPLES, DE FORMA MECANIZADA COM MARTELETE, SEM REAPROVEITAMENTO. AF_09/2023 | C26: SINAPI | D26: 104790 | E26: =VLOOKUP(D26,'S03.25+C196+D10.24+F1024+S10.24'!$A$2:$D$20056,3, FALSE()) -> M3 | F26: ='MCQ AUXILIAR BVI'!F25 -> 6.48 | G26: =VLOOKUP(D26,'S03.25+C196+D10.24+F1024+S10.24'!$A$2:$D$35656,4, FALSE()) -> 119.1 | H26: =ROUND(F26*G26,2) -> 771.77 | I26: =IF(M26="",$H$11,$H$10) -> 0.2637 | J26: =ROUND(G26*I26+G26,2) -> 150.51 | K26: =ROUND(F26*J26,2) -> 975.3
A27: 1.3.4 | B27: =VLOOKUP(D27,'S03.25+C196+D10.24+F1024+S10.24'!$A$2:$C$20056,2, FALSE()) -> EXECUÇÃO DE PASSEIO (CALÇADA) OU PISO DE CONCRETO COM CONCRETO MOLDADO IN LOCO, USINADO C20, ACABAMENTO CONVENCIONAL, NÃO ARMADO. AF_08/2022 | C27: SINAPI | D27: 94991 | E27: =VLOOKUP(D27,'S03.25+C196+D10.24+F1024+S10.24'!$A$2:$D$20056,3, FALSE()) -> M3 | F27: ='MCQ AUXILIAR BVI'!F26 -> 3.36 | G27: =VLOOKUP(D27,'S03.25+C196+D10.24+F1024+S10.24'!$A$2:$D$35656,4, FALSE()) -> 643.46 | H27: =ROUND(F27*G27,2) -> 2162.03 | I27: =IF(M27="",$H$11,$H$10) -> 0.2637 | J27: =ROUND(G27*I27+G27,2) -> 813.14 | K27: =ROUND(F27*J27,2) -> 2732.15
A28: 1.3.5 | B28: =VLOOKUP(D28,'S03.25+C196+D10.24+F1024+S10.24'!$A$2:$C$20056,2, FALSE()) -> CARGA, MANOBRA E DESCARGA DE ENTULHO EM CAMINHÃO BASCULANTE 14 M³ - CARGA COM ESCAVADEIRA HIDRÁULICA (CAÇAMBA DE 0,80 M³ / 111 HP) E DESCARGA LIVRE (UNIDADE: M3). AF_07/2020 | C28: SINAPI | D28: 100983 | E28: =VLOOKUP(D28,'S03.25+C196+D10.24+F1024+S10.24'!$A$2:$D$20056,3, FALSE()) -> M3 | F28: ='MCQ AUXILIAR BVI'!F27 -> 28.573125 | G28: =VLOOKUP(D28,'S03.25+C196+D10.24+F1024+S10.24'!$A$2:$D$35656,4, FALSE()) -> 9.57 | H28: =ROUND(F28*G28,2) -> 273.44 | I28: =IF(M28="",$H$11,$H$10) -> 0.2637 | J28: =ROUND(G28*I28+G28,2) -> 12.09 | K28: =ROUND(F28*J28,2) -> 345.45
A29: 1.3.6 | B29: =VLOOKUP(D29,'S03.25+C196+D10.24+F1024+S10.24'!$A$2:$C$20056,2, FALSE()) -> TRANSPORTE COM CAMINHÃO BASCULANTE DE 14 M³, EM VIA URBANA PAVIMENTADA, DMT ATÉ 30 KM (UNIDADE: M3XKM). AF_07/2020 | C29: SINAPI | D29: 95876 | E29: =VLOOKUP(D29,'S03.25+C196+D10.24+F1024+S10.24'!$A$2:$D$20056,3, FALSE()) -> M3XKM | F29: ='MCQ AUXILIAR BVI'!F28 -> 171.43875 | G29: =VLOOKUP(D29,'S03.25+C196+D10.24+F1024+S10.24'!$A$2:$D$35656,4, FALSE()) -> 2.28 | H29: =ROUND(F29*G29,2) -> 390.88 | I29: =IF(M29="",$H$11,$H$10) -> 0.2637 | J29: =ROUND(G29*I29+G29,2) -> 2.88 | K29: =ROUND(F29*J29,2) -> 493.74
A30: 1.3.4 | B30: =VLOOKUP(D30,'S03.25+C196+D10.24+F1024+S10.24'!$A$2:$C$20056,2, FALSE()) -> ESPALHAMENTO DE MATERIAL COM TRATOR DE ESTEIRAS. AF_09/2024 | C30: SINAPI | D30: 100574 | E30: =VLOOKUP(D30,'S03.25+C196+D10.24+F1024+S10.24'!$A$2:$D$20056,3, FALSE()) -> M3 | F30: ='MCQ AUXILIAR BVI'!F29 -> 0 | G30: =VLOOKUP(D30,'S03.25+C196+D10.24+F1024+S10.24'!$A$2:$D$35656,4, FALSE()) -> 1.47 | H30: =ROUND(F30*G30,2) -> 0 | I30: =IF(M30="",$H$11,$H$10) -> 0.2637 | J30: =ROUND(G30*I30+G30,2) -> 1.86 | K30: =ROUND(F30*J30,2) -> 0
B31: SUB-TOTAL | H31: =SUM(H24:H30) -> 16683.72 | K31: =SUM(K24:K30) -> 21082.96
A32: 2 | B32: VERTEDORES E GALERIAS DE DRENAGEM DE ÁGUAS PLUVIAIS NO BAIRRO BOA VISTA | H32: =H39+H43+H46+H51+H55+H60+H65+H75+H85+H95+H105 -> 144225.67 | K32: =K39+K43+K46+K51+K55+K60+K65+K75+K85+K95+K105 -> 182190.68
A33: 2.1 | B33: MOVIMENTO DE TERRA
A34: 2.1.2 | B34: =VLOOKUP(D34,'S03.25+C196+D10.24+F1024+S10.24'!$A$2:$C$20056,2, FALSE()) -> ESCAVAÇÃO MECANIZADA DE VALA COM PROF. MAIOR QUE 1,5 M ATÉ 3,0 M (MÉDIA MONTANTE E JUSANTE/UMA COMPOSIÇÃO POR TRECHO), ESCAVADEIRA (0,8 M3), LARG. ATÉ 1,5 M, EM SOLO DE 2A CATEGORIA, EM LOCAIS COM ALTO NÍVEL DE INTERFERÊNCIA. AF_09/2024 | C34: SINAPI | D34: 102308 | E34: =VLOOKUP(D34,'S03.25+C196+D10.24+F1024+S10.24'!$A$2:$D$20056,3, FALSE()) -> M3 | F34: ='MCQ AUXILIAR BVI'!F33 -> 445.0308 | G34: =VLOOKUP(D34,'S03.25+C196+D10.24+F1024+S10.24'!$A$2:$D$35656,4, FALSE()) -> 12.45 | H34: =ROUND(F34*G34,2) -> 5540.63 | I34: =IF(M34="",$H$11,$H$10) -> 0.2637 | J34: =ROUND(G34*I34+G34,2) -> 15.73 | K34: =ROUND(F34*J34,2) -> 7000.33
A35: 2.1.2 | B35: =VLOOKUP(D35,'S03.25+C196+D10.24+F1024+S10.24'!$A$2:$C$40056,2, FALSE()) -> REATERRO MECANIZADO DE VALA COM ESCAVADEIRA HIDRÁULICA (CAPACIDADE DA CAÇAMBA: 0,8 M³/POTÊNCIA: 111 HP), LARGURA ATÉ 1,5 M, PROFUNDIDADE DE 1,5 A 3,0 M, COM SOLO (SEM SUBSTITUIÇÃO) DE 1ª CATEGORIA, COM COMPACTADOR DE SOLOS DE PERCUSSÃO. AF_08/2023 | C35: SINAPI | D35: 93368 | E35: =VLOOKUP(D35,'S03.25+C196+D10.24+F1024+S10.24'!$A$2:$D$20056,3, FALSE()) -> M3 | F35: ='MCQ AUXILIAR BVI'!F34 -> 383.98651 | G35: =VLOOKUP(D35,'S03.25+C196+D10.24+F1024+S10.24'!$A$2:$D$35656,4, FALSE()) -> 21.63 | H35: =ROUND(F35*G35,2) -> 8305.63 | I35: =IF(M35="",$H$11,$H$10) -> 0.2637 | J35: =ROUND(G35*I35+G35,2) -> 27.33 | K35: =ROUND(F35*J35,2) -> 10494.35
A36: 2.1.3 | B36: =VLOOKUP(D36,'S03.25+C196+D10.24+F1024+S10.24'!$A$2:$C$40056,2, FALSE()) -> CARGA, MANOBRA E DESCARGA DE SOLOS E MATERIAIS GRANULARES EM CAMINHÃO BASCULANTE 14 M³ - CARGA COM PÁ CARREGADEIRA (CAÇAMBA DE 1,7 A 2,8 M³ / 128 HP) E DESCARGA LIVRE (UNIDADE: M3). AF_07/2020 | C36: SINAPI | D36: 100975 | E36: =VLOOKUP(D36,'S03.25+C196+D10.24+F1024+S10.24'!$A$2:$D$20056,3, FALSE()) -> M3 | F36: ='MCQ AUXILIAR BVI'!F35 -> 76.305359 | G36: =VLOOKUP(D36,'S03.25+C196+D10.24+F1024+S10.24'!$A$2:$D$35656,4, FALSE()) -> 8.96 | H36: =ROUND(F36*G36,2) -> 683.7 | I36: =IF(M36="",$H$11,$H$10) -> 0.2637 | J36: =ROUND(G36*I36+G36,2) -> 11.32 | K36: =ROUND(F36*J36,2) -> 863.78
A37: 2.1.4 | B37: =VLOOKUP(D37,'S03.25+C196+D10.24+F1024+S10.24'!$A$2:$C$40056,2, FALSE()) -> TRANSPORTE COM CAMINHÃO BASCULANTE DE 14 M³, EM VIA URBANA PAVIMENTADA, DMT ATÉ 30 KM (UNIDADE: M3XKM). AF_07/2020 | C37: SINAPI | D37: 95876 | E37: =VLOOKUP(D37,'S03.25+C196+D10.24+F1024+S10.24'!$A$2:$D$20056,3, FALSE()) -> M3XKM | F37: ='MCQ AUXILIAR BVI'!F36 -> 457.83215 | G37: =VLOOKUP(D37,'S03.25+C196+D10.24+F1024+S10.24'!$A$2:$D$35656,4, FALSE()) -> 2.28 | H37: =ROUND(F37*G37,2) -> 1043.86 | I37: =IF(M37="",$H$11,$H$10) -> 0.2637 | J37: =ROUND(G37*I37+G37,2) -> 2.88 | K37: =ROUND(F37*J37,2) -> 1318.56
A38: 2.1.5 | B38: =VLOOKUP(D38,'S03.25+C196+D10.24+F1024+S10.24'!$A$2:$C$20056,2, FALSE()) -> ESPALHAMENTO DE MATERIAL COM TRATOR DE ESTEIRAS. AF_09/2024 | C38: SINAPI | D38: 100574 | E38: =VLOOKUP(D38,'S03.25+C196+D10.24+F1024+S10.24'!$A$2:$D$20056,3, FALSE()) -> M3 | F38: ='MCQ AUXILIAR BVI'!F37 -> 0 | G38: =VLOOKUP(D38,'S03.25+C196+D10.24+F1024+S10.24'!$A$2:$D$35656,4, FALSE()) -> 1.47 | H38: =ROUND(F38*G38,2) -> 0 | I38: =IF(M38="",$H$11,$H$10) -> 0.2637 | J38: =ROUND(G38*I38+G38,2) -> 1.86 | K38: =ROUND(F38*J38,2) -> 0
B39: SUB-TOTAL | H39: =SUM(H34:H38) -> 15573.82 | K39: =SUM(K34:K38) -> 19677.02
A40: 2.2 | B40: ESGOTAMENTO / EMBASAMENTO
...

Sheet MCQ AUXILIAR BVI
B1: MEMORIAL DE CÁLCULO DE QUANTITATIVOS AUXILIAR DRENAGEM BAIRRO JARDIM BOA VISTA | L1: X
A2: Município de Sertãozinho/SP
A3: Objeto: | B3: ='ORC BVI'!B3 -> EXECUÇÃO DE GALERIAS DE BACIA DE DETENÇÃO E GALERIAS DE ÁGUAS PLUVIAIS NO BAIRRO BOA VISTA
A4: Local: | B4: ='ORC BVI'!B4 -> BAIRRO ANÉLIO CELINE - SERTÃOZINHO, SP
A5: ITEM | H5: S/ BDI | I5: BDI conforme acórdão 2369/2011 | K5: C/ BDI | L5: X
A6: 1 | B6: =B13 -> SERVIÇOS PRELIMINARES | E6: 6 | F6: KM | H6: =H13 -> #REF! | K6: =K13 -> #REF! | L6: X | M6: Distância Bota Fora | R6: ADM | S6: =#REF!/K9 -> #REF! | T6: <3%
A7: 2 | B7: =B31 -> GALERIAS DE DRENAGEM DE ÁGUAS PLUVIAIS NOS BAIRROS JARDIM SANTA CLARA E JARDIM SANTA MARTA | E7: 25 | F7: KM | H7: =H31 -> #REF! | K7: =K31 -> #REF! | L7: X | M7: Distância Usina de Asfalto | R7: PROJTEC | S7: =#REF!/#REF! -> #REF! | T7: >2,5%
A8: =A105 -> 3 | B8: =B105 -> BACIA DE DETENÇÃO DE CHEIAS NO BAIRRO BOA VISTA | E8: 8 | F8: KM | H8: =H32 -> 0 | K8: =K32 -> 0 | L8: X | M8: Distância Jazida | R8: PROJTEC | S8: =#REF!/#REF! -> #REF! | T8: >2,5%
B9: TOTAL DA OBRA | H9: =SUM(H6:H7) -> #REF! | K9: =SUM(K6:K7) -> #REF! | L9: X
A10: ='ORC BVI'!A10 -> DATA BASE: SINAPI abril/2025 COM DESONERAÇÃO | G10: BDI - MATERIAL | H10: ='BDI BVI'!C36 -> 0.15278048
G11: BDI - SERVIÇOS | H11: 0.2637 | L11: X | S11: =#REF!*2.5% -> #REF!
A12: ITEM | B12: DESCRIÇÃO | C12: REFERENCIA | D12: CÓDIGO | E12: UNID. | F12: QTDE. | G12: CUSTO UNITÁRIO (SEM BDI) - R$ | H12: CUSTO TOTAL R$ | I12: % BDI | J12: PREÇO UNITÁRIO C/ BDI (R$) | K12: PREÇO TOTAL C/ BDI (R$) | L12: X | M12: INSUMO OU SERVIÇO | P12: =IF(N12<0.04,"ok","ALERTA") -> ok | S12: =S11/1.294 -> #REF!
A13: 1 | B13: SERVIÇOS PRELIMINARES | H13: =H19+H22+H30 -> #REF! | K13: =K19+K22+K30 -> #REF!
A14: 1.1 | B14: GERAL
A15: 1.1.1 | B15: ADMINISTRACAO LOCAL DA OBRA | D15: SERT_AdmLocal | E15: MÊS | F15: 3 | G15: 3350 | H15: =ROUND(F15*G15,2) -> 10050 | I15: =IF(L15="",$H$9,#REF!) -> #REF! | J15: =ROUND(G15*I15+G15,2) -> #REF! | K15: =ROUND(F15*J15,2) -> #REF! | M15: 04 MESES DE OBRAS | N15: =IF(M15<0.04,"ok","ALERTA") -> ALERTA
A16: 1.1.2 | B16: AS BUILT - PRANCHA FORMATO A1 | D16: SIURB 20-03-17 | E16: UN | F16: 0 | G16: 1385.75 | H16: =ROUND(F16*G16,2) -> 0 | I16: =IF(L16="",$H$9,#REF!) -> #REF! | J16: =ROUND(G16*I16+G16,2) -> #REF! | K16: =ROUND(F16*J16,2) -> #REF! | M16: 5 DESENHOS AS BUILT
A17: 1.1.3 | B17: =VLOOKUP(D17,'S03.25+C196+D10.24+F1024+S10.24'!$A$2:$C$20056,2, FALSE()) -> Placa de identificação para obra | C17: CDHU | D17: 02.08.020 | E17: =VLOOKUP(D17,'S03.25+C196+D10.24+F1024+S10.24'!$A$2:$D$20056,3, FALSE()) -> M2 | F17: 6 | G17: =VLOOKUP(D17,'S03.25+C196+D10.24+F1024+S10.24'!$A$2:$D$35656,4, FALSE()) -> 882.75 | H17: =ROUND(F17*G17,2) -> 5296.5 | I17: =IF(L17="",$H$9,#REF!) -> #REF! | J17: =ROUND(G17*I17+G17,2) -> #REF! | K17: =ROUND(F17*J17,2) -> #REF! | M17: UMA PLACA COM 3 m DE ALTURA POR 4 m DE LARGURA
A18: 1.1.4 | B18: =VLOOKUP(D18,'S03.25+C196+D10.24+F1024+S10.24'!$A$2:$C$20056,2, FALSE()) -> TAPUME COM COMPENSADO DE MADEIRA. AF_03/2024 | C18: SINAPI | D18: 98458 | E18: =VLOOKUP(D18,'S03.25+C196+D10.24+F1024+S10.24'!$A$2:$D$20056,3, FALSE()) -> M2 | F18: 0 | G18: =VLOOKUP(D18,'S03.25+C196+D10.24+F1024+S10.24'!$A$2:$D$35656,4, FALSE()) -> 90.63 | H18: =ROUND(F18*G18,2) -> 0 | I18: =IF(L18="",$H$9,#REF!) -> #REF! | J18: =ROUND(G18*I18+G18,2) -> #REF! | K18: =ROUND(F18*J18,2) -> #REF! | M18: 30 m DE TAPUME COM 2,0 m DE ALTURA
B19: SUB-TOTAL | H19: =SUM(#REF!) -> #REF! | K19: =SUM(#REF!) -> #REF!
A20: 1.2 | B20: LOCAÇÃO DE OBRA
A21: 1.2.1 | B21: =VLOOKUP(D21,'S03.25+C196+D10.24+F1024+S10.24'!$A$2:$C$20056,2, FALSE()) -> Locação de rede de canalização | C21: CDHU | D21: 02.10.040 | E21: =VLOOKUP(D21,'S03.25+C196+D10.24+F1024+S10.24'!$A$2:$D$20056,3, FALSE()) -> M | F21: =F47+F48+F49 -> 94.55 | G21: =VLOOKUP(D21,'S03.25+C196+D10.24+F1024+S10.24'!$A$2:$D$35656,4, FALSE()) -> 1.41 | H21: =ROUND(F21*G21,2) -> 133.32 | I21: =IF(L21="",$H$11,$H$10) -> 0.2637 | J21: =ROUND(G21*I21+G21,2) -> 1.78 | K21: =ROUND(F21*J21,2) -> 168.3 | M21: COMPRIMENTO TOTAL DE REDES DE DRENAGEM (PRIMÁRIAS E SECUNDÁRIAS)
B22: SUB-TOTAL | H22: =SUM(H21:H21) -> 133.32 | K22: =SUM(K21:K21) -> 168.3
A23: 1.3 | B23: DEMOLICAO E RECOMPOSIÇÃO DA PAVIMENTACAO ASFALTICA
A24: 1.3.1 | B24: =VLOOKUP(D24,'S03.25+C196+D10.24+F1024+S10.24'!$A$2:$C$20056,2, FALSE()) -> RECOMPOSIÇÃO DE REVESTIMENTO EM CONCRETO ASFÁLTICO (AQUISIÇÃO EM USINA), PARA O FECHAMENTO DE VALAS - INCLUSO DEMOLIÇÃO DO PAVIMENTO. AF_12/2020 | C24: SINAPI | D24: 102098 | E24: =VLOOKUP(D24,'S03.25+C196+D10.24+F1024+S10.24'!$A$2:$D$20056,3, FALSE()) -> M3 | F24: =109.19*0.15 -> 16.3785 | G24: =VLOOKUP(D24,'S03.25+C196+D10.24+F1024+S10.24'!$A$2:$D$35656,4, FALSE()) -> 1977.08 | H24: =ROUND(F24*G24,2) -> 32381.6 | I24: =IF(L24="",$H$11,$H$10) -> 0.2637 | J24: =ROUND(G24*I24+G24,2) -> 2498.44 | K24: =ROUND(F24*J24,2) -> 40920.7 | M24: CONFORME DESENHO MCQ x ESPESSURA = 0,15 m
A25: 1.3.1 | B25: =VLOOKUP(D25,'S03.25+C196+D10.24+F1024+S10.24'!$A$2:$C$20056,2, FALSE()) -> DEMOLIÇÃO DE PISO DE CONCRETO SIMPLES, DE FORMA MECANIZADA COM MARTELETE, SEM REAPROVEITAMENTO. AF_09/2023 | C25: SINAPI | D25: 104790 | E25: =VLOOKUP(D25,'S03.25+C196+D10.24+F1024+S10.24'!$A$2:$D$20056,3, FALSE()) -> M3 | F25: 6.48 | G25: =VLOOKUP(D25,'S03.25+C196+D10.24+F1024+S10.24'!$A$2:$D$35656,4, FALSE()) -> 119.1 | H25: =ROUND(F25*G25,2) -> 771.77 | I25: =IF(L25="",$H$11,$H$10) -> 0.2637 | J25: =ROUND(G25*I25+G25,2) -> 150.51 | K25: =ROUND(F25*J25,2) -> 975.3 | M25: CONFORME DESENHO MCQ
A26: 1.3.1 | B26: =VLOOKUP(D26,'S03.25+C196+D10.24+F1024+S10.24'!$A$2:$C$20056,2, FALSE()) -> EXECUÇÃO DE PASSEIO (CALÇADA) OU PISO DE CONCRETO COM CONCRETO MOLDADO IN LOCO, USINADO C20, ACABAMENTO CONVENCIONAL, NÃO ARMADO. AF_08/2022 | C26: SINAPI | D26: 94991 | E26: =VLOOKUP(D26,'S03.25+C196+D10.24+F1024+S10.24'!$A$2:$D$20056,3, FALSE()) -> M3 | F26: 3.36 | G26: =VLOOKUP(D26,'S03.25+C196+D10.24+F1024+S10.24'!$A$2:$D$35656,4, FALSE()) -> 643.46 | H26: =ROUND(F26*G26,2) -> 2162.03 | I26: =IF(L26="",$H$11,$H$10) -> 0.2637 | J26: =ROUND(G26*I26+G26,2) -> 813.14 | K26: =ROUND(F26*J26,2) -> 2732.15 | M26: CONFORME DESENHO MCQ
A27: 1.3.2 | B27: =VLOOKUP(D27,'S03.25+C196+D10.24+F1024+S10.24'!$A$2:$C$20056,2, FALSE()) -> CARGA, MANOBRA E DESCARGA DE ENTULHO EM CAMINHÃO BASCULANTE 14 M³ - CARGA COM ESCAVADEIRA HIDRÁULICA (CAÇAMBA DE 0,80 M³ / 111 HP) E DESCARGA LIVRE (UNIDADE: M3). AF_07/2020 | C27: SINAPI | D27: 100983 | E27: =VLOOKUP(D27,'S03.25+C196+D10.24+F1024+S10.24'!$A$2:$D$20056,3, FALSE()) -> M3 | F27: =(F24+F25)*1.25 -> 28.573125 | G27: =VLOOKUP(D27,'S03.25+C196+D10.24+F1024+S10.24'!$A$2:$D$35656,4, FALSE()) -> 9.57 | H27: =ROUND(F27*G27,2) -> 273.44 | I27: =IF(L27="",$H$11,$H$10) -> 0.2637 | J27: =ROUND(G27*I27+G27,2) -> 12.09 | K27: =ROUND(F27*J27,2) -> 345.45 | M27: IGUAL AO TOTAL DE PAVIMENTO DEMOLIDO x 25% DE EMPOLAMENTO DO MATERIAL
A28: 1.3.3 | B28: =VLOOKUP(D28,'S03.25+C196+D10.24+F1024+S10.24'!$A$2:$C$20056,2, FALSE()) -> TRANSPORTE COM CAMINHÃO BASCULANTE DE 14 M³, EM VIA URBANA PAVIMENTADA, DMT ATÉ 30 KM (UNIDADE: M3XKM). AF_07/2020 | C28: SINAPI | D28: 95876 | E28: =VLOOKUP(D28,'S03.25+C196+D10.24+F1024+S10.24'!$A$2:$D$20056,3, FALSE()) -> M3XKM | F28: =F27*E6 -> 171.43875 | G28: =VLOOKUP(D28,'S03.25+C196+D10.24+F1024+S10.24'!$A$2:$D$35656,4, FALSE()) -> 2.28 | H28: =ROUND(F28*G28,2) -> 390.88 | I28: =IF(L28="",$H$11,$H$10) -> 0.2637 | J28: =ROUND(G28*I28+G28,2) -> 2.88 | K28: =ROUND(F28*J28,2) -> 493.74 | M28: TOTAL CARREAGADO x DISTÂNCIA ATÉ O BOTA-FORA (INDICADA)
A29: 1.3.4 | B29: =VLOOKUP(D29,'S03.25+C196+D10.24+F1024+S10.24'!$A$2:$C$20056,2, FALSE()) -> ESPALHAMENTO DE MATERIAL COM TRATOR DE ESTEIRAS. AF_09/2024 | C29: SINAPI | D29: 100574 | E29: =VLOOKUP(D29,'S03.25+C196+D10.24+F1024+S10.24'!$A$2:$D$20056,3, FALSE()) -> M3 | F29: 0 | G29: =VLOOKUP(D29,'S03.25+C196+D10.24+F1024+S10.24'!$A$2:$D$35656,4, FALSE()) -> 1.47 | H29: =ROUND(F29*G29,2) -> 0 | I29: =IF(L29="",$H$11,$H$10) -> 0.2637 | J29: =ROUND(G29*I29+G29,2) -> 1.86 | K29: =ROUND(F29*J29,2) -> 0 | M29: IGUAL AO TOTAL CARREGADO
B30: SUB-TOTAL | H30: =SUM(H24:H29) -> 35979.72 | K30: =SUM(K24:K29) -> 45467.34
A31: 2 | B31: GALERIAS DE DRENAGEM DE ÁGUAS PLUVIAIS NOS BAIRROS JARDIM SANTA CLARA E JARDIM SANTA MARTA | H31: =H38+H42+H45+H50+H59+#REF!+#REF! -> #REF! | K31: =K38+K42+K45+K50+K59+#REF!+#REF! -> #REF!
A32: 2.1 | B32: MOVIMENTO DE TERRA
A33: 2.1.2 | B33: =VLOOKUP(D33,'S03.25+C196+D10.24+F1024+S10.24'!$A$2:$C$20056,2, FALSE()) -> ESCAVAÇÃO MECANIZADA DE VALA COM PROF. MAIOR QUE 1,5 M ATÉ 3,0 M (MÉDIA MONTANTE E JUSANTE/UMA COMPOSIÇÃO POR TRECHO), ESCAVADEIRA (0,8 M3), LARG. ATÉ 1,5 M, EM SOLO DE 2A CATEGORIA, EM LOCAIS COM ALTO NÍVEL DE INTERFERÊNCIA. AF_09/2024 | C33: SINAPI | D33: 102308 | E33: =VLOOKUP(D33,'S03.25+C196+D10.24+F1024+S10.24'!$A$2:$D$20056,3, FALSE()) -> M3 | F33: =(1.2*F47*(3.73))+(2.2*F48*(1.5+0.18))+(2.4*F49*(2.91+0.18)) -> 445.0308 | G33: =VLOOKUP(D33,'S03.25+C196+D10.24+F1024+S10.24'!$A$2:$D$35656,4, FALSE()) -> 12.45 | H33: =ROUND(F33*G33,2) -> 5540.63 | I33: =IF(L33="",$H$11,$H$10) -> 0.2637 | J33: =ROUND(G33*I33+G33,2) -> 15.73 | K33: =ROUND(F33*J33,2) -> 7000.33 | M33: ESCAVAÇÃO P/ TUBOS DN400+DN500 (1,00m LARG x 2,0 m PROF)+ESCAVAÇÃO P/ TUBOS DN600 (1,20m LARG x 2,0 m PROF)+ESCAVAÇÃO P/ TUBOS DN1000 (2,20m LARG x 2,15m PROF + 0,18m EMBASAM)+ESCAVAÇÃO P/ TUBOS DN1200 (2,40m LARG x PROF MED + 0,18m EMBASAM)+ESCAVAÇÃO P/ TUBOS DN1500 (2,70m LARG x PROF MED + 0,20m EMBASAM)
A34: 2.1.4 | B34: =VLOOKUP(D34,'S03.25+C196+D10.24+F1024+S10.24'!$A$2:$C$40056,2, FALSE()) -> REATERRO MECANIZADO DE VALA COM ESCAVADEIRA HIDRÁULICA (CAPACIDADE DA CAÇAMBA: 0,8 M³/POTÊNCIA: 111 HP), LARGURA ATÉ 1,5 M, PROFUNDIDADE DE 1,5 A 3,0 M, COM SOLO (SEM SUBSTITUIÇÃO) DE 1ª CATEGORIA, COM COMPACTADOR DE SOLOS DE PERCUSSÃO. AF_08/2023 | C34: SINAPI | D34: 93368 | E34: =VLOOKUP(D34,'S03.25+C196+D10.24+F1024+S10.24'!$A$2:$D$20056,3, FALSE()) -> M3 | F34: =F33-(((PI()*(0.8)^2)/4)*F47)-(((PI()*(1)^2)/4)*F48)-(((PI()*(1.2)^2)/4)*F49) -> 383.98651 | G34: =VLOOKUP(D34,'S03.25+C196+D10.24+F1024+S10.24'!$A$2:$D$35656,4, FALSE()) -> 21.63 | H34: =ROUND(F34*G34,2) -> 8305.63 | I34: =IF(L34="",$H$11,$H$10) -> 0.2637 | J34: =ROUND(G34*I34+G34,2) -> 27.33 | K34: =ROUND(F34*J34,2) -> 10494.35 | M34: (REATERRO PARA O TRECHO DN400 - VOL DO TUBO DN400)+(REATERRO PARA O TRECHO DN500 - VOL DO TUBO DN500)+(REATERRO PARA O TRECHO DN600 - VOL DO TUBO DN600)+(REATERRO PARA O TRECHO DN1000 - VOL DO TUBO DN1000)+(REATERRO PARA O TRECHO DN1200 - VOL DO TUBO DN1200)+(REATERRO PARA O TRECHO DN1500 - VOL DO TUBO DN1500)
A35: 2.1.6 | B35: =VLOOKUP(D35,'S03.25+C196+D10.24+F1024+S10.24'!$A$2:$C$40056,2, FALSE()) -> CARGA, MANOBRA E DESCARGA DE SOLOS E MATERIAIS GRANULARES EM CAMINHÃO BASCULANTE 14 M³ - CARGA COM PÁ CARREGADEIRA (CAÇAMBA DE 1,7 A 2,8 M³ / 128 HP) E DESCARGA LIVRE (UNIDADE: M3). AF_07/2020 | C35: SINAPI | D35: 100975 | E35: =VLOOKUP(D35,'S03.25+C196+D10.24+F1024+S10.24'!$A$2:$D$20056,3, FALSE()) -> M3 | F35: =((F33)-(F34))*1.25 -> 76.305359 | G35: =VLOOKUP(D35,'S03.25+C196+D10.24+F1024+S10.24'!$A$2:$D$35656,4, FALSE()) -> 8.96 | H35: =ROUND(F35*G35,2) -> 683.7 | I35: =IF(L35="",$H$11,$H$10) -> 0.2637 | J35: =ROUND(G35*I35+G35,2) -> 11.32 | K35: =ROUND(F35*J35,2) -> 863.78 | M35: IGUAL AO (TOTAL ESCAVADO - TOTAL REATERRADO) x 25% DE EMPOLAMENTO DO MATERIAL
A36: 2.1.7 | B36: =VLOOKUP(D36,'S03.25+C196+D10.24+F1024+S10.24'!$A$2:$C$40056,2, FALSE()) -> TRANSPORTE COM CAMINHÃO BASCULANTE DE 14 M³, EM VIA URBANA PAVIMENTADA, DMT ATÉ 30 KM (UNIDADE: M3XKM). AF_07/2020 | C36: SINAPI | D36: 95876 | E36: =VLOOKUP(D36,'S03.25+C196+D10.24+F1024+S10.24'!$A$2:$D$20056,3, FALSE()) -> M3XKM | F36: =F35*E6 -> 457.83215 | G36: =VLOOKUP(D36,'S03.25+C196+D10.24+F1024+S10.24'!$A$2:$D$35656,4, FALSE()) -> 2.28 | H36: =ROUND(F36*G36,2) -> 1043.86 | I36: =IF(L36="",$H$11,$H$10) -> 0.2637 | J36: =ROUND(G36*I36+G36,2) -> 2.88 | K36: =ROUND(F36*J36,2) -> 1318.56 | M36: TOTAL CARREAGADO x DISTÂNCIA ATÉ O BOTA-FORA (INDICADA)
A37: 2.1.8 | B37: =VLOOKUP(D37,'S03.25+C196+D10.24+F1024+S10.24'!$A$2:$C$20056,2, FALSE()) -> ESPALHAMENTO DE MATERIAL COM TRATOR DE ESTEIRAS. AF_09/2024 | C37: SINAPI | D37: 100574 | E37: =VLOOKUP(D37,'S03.25+C196+D10.24+F1024+S10.24'!$A$2:$D$20056,3, FALSE()) -> M3 | F37: 0 | G37: =VLOOKUP(D37,'S03.25+C196+D10.24+F1024+S10.24'!$A$2:$D$35656,4, FALSE()) -> 1.47 | H37: =ROUND(F37*G37,2) -> 0 | I37: =IF(L37="",$H$11,$H$10) -> 0.2637 | J37: =ROUND(G37*I37+G37,2) -> 1.86 | K37: =ROUND(F37*J37,2) -> 0 | M37: IGUAL AO TOTAL CARREGADO
B38: SUB-TOTAL | H38: =SUM(H33:H37) -> 15573.82 | K38: =SUM(K33:K37) -> 19677.02
A39: 2.2 | B39: ESGOTAMENTO / EMBASAMENTO
A40: 2.2.1 | B40: =VLOOKUP(D40,'S03.25+C196+D10.24+F1024+S10.24'!$A$2:$C$20056,2, FALSE()) -> ESGOTAMENTO DE VALA COM BOMBA SUBMERSÍVEL. AF_12/2022 | C40: SINAPI-I | D40: 104482 | E40: =VLOOKUP(D40,'S03.25+C196+D10.24+F1024+S10.24'!$A$2:$D$20056,3, FALSE()) -> H | F40: 528 | G40: =VLOOKUP(D40,'S03.25+C196+D10.24+F1024+S10.24'!$A$2:$D$35656,4, FALSE()) -> 41.49 | H40: =ROUND(F40*G40,2) -> 21906.72 | I40: =IF(L40="",$H$11,$H$10) -> 0.2637 | J40: =ROUND(G40*I40+G40,2) -> 52.43 | K40: =ROUND(F40*J40,2) -> 27683.04 | M40: IGUAL AO ESGOTAMENTO REALIZADO POR 03 BOMBAS DURANTE 22 DIAS ÚTEIS NO MÊS X 8 HORAS POR DIA
...

Sheet CFF BVI
A1: CRONOGRAMA FÍSICO-FINANCEIRO - DDRENAGEM BAIRRO JARDIM BOA VISTA - SERTÃOZINHO/SP | L1: X
A2: Município de Sertãozinho/SP
A3: Objeto: | B3: ='ORC BVI'!B3 -> EXECUÇÃO DE GALERIAS DE BACIA DE DETENÇÃO E GALERIAS DE ÁGUAS PLUVIAIS NO BAIRRO BOA VISTA
A4: Local: | B4: ='ORC BVI'!B4 -> BAIRRO ANÉLIO CELINE - SERTÃOZINHO, SP
A5: ITEM | H5: c/ BDI | L5: X
A6: 1 | B6: ='ORC BVI'!$B$6 -> SERVIÇOS PRELIMINARES | H6: ='ORC BVI'!$K$6 -> 37490.5 | L6: X | R6: ADM | S6: =#REF!/K9 -> #REF! | T6: <3%
A7: 2 | B7: ='ORC BVI'!$B$7 -> VERTEDORES E GALERIAS DE DRENAGEM DE ÁGUAS PLUVIAIS NO BAIRRO BOA VISTA | H7: ='ORC BVI'!$K$7 -> 182190.68
A8: ='ORC BVI'!A8 -> 3 | B8: ='ORC BVI'!B8 -> BACIA DE DETENÇÃO DE CHEIAS NO BAIRRO BOA VISTA | H8: ='ORC BVI'!K8 -> 290044.99
B9: TOTAL DA OBRA | H9: =SUM(H6:H8) -> 509726.17 | L9: X | O9: 6 | P9: KM
A10: ='ORC BVI'!A10 -> DATA BASE: SINAPI abril/2025 COM DESONERAÇÃO | G10: BDI - MATERIAL | H10: ='BDI BVI'!C36 -> 0.15278048 | L10: X | O10: 25 | P10: KM
G11: BDI - SERVIÇOS | H11: ='BDI BVI'!C18 -> 0.24777638 | L11: X | O11: 8 | P11: KM | S11: =#REF!*2.5% -> #REF!
A12: ITEM | B12: DESCRIÇÃO | C12: PREÇO TOTAL C/ BDI (R$) | D12: PRAZO DE EXECUÇÃO (MESES) | E12: MÊS 1 | F12: MÊS 2 | G12: MÊS 3 | H12: MÊS 4 | L12: X | M12: INSUMO OU SERVIÇO | P12: =IF(N12<0.04,"ok","ALERTA") -> ok | S12: =S11/1.294 -> #REF!
A13: 1 | B13: ='ORC BVI'!B13 -> SERVIÇOS PRELIMINARES
A14: 1.1 | B14: ='ORC BVI'!B14 -> GERAL | C14: ='ORC BVI'!K19 -> 16239.24 | D14: 2 | E14: =C14/D14 -> 8119.62 | H14: =E14 -> 8119.62 | X14: =SUM(E14:W14) -> 16239.24 | Y14: =X14-C14 -> 0
A15: 1.2 | B15: ='ORC BVI'!B20 -> LOCAÇÃO DE OBRA | C15: ='ORC BVI'!K22 -> 168.3 | D15: 1 | E15: =C15/D15 -> 168.3 | X15: =SUM(E15:W15) -> 168.3 | Y15: =X15-C15 -> 0
A16: 1.3 | B16: ='ORC BVI'!B23 -> DEMOLICAO E RECOMPOSIÇÃO DA PAVIMENTACAO ASFALTICA | C16: ='ORC BVI'!K31 -> 21082.96 | D16: 3 | E16: =C16/D16 -> 7027.6533 | F16: =E16 -> 7027.6533 | G16: =F16 -> 7027.6533 | X16: =SUM(E16:W16) -> 21082.96 | Y16: =X16-C16 -> 0
A17: 2 | B17: ='ORC BVI'!B32 -> VERTEDORES E GALERIAS DE DRENAGEM DE ÁGUAS PLUVIAIS NO BAIRRO BOA VISTA | X17: =SUM(E17:W17) -> 0 | Y17: =X17-C17 -> 0
A18: 2.1 | B18: ='ORC BVI'!B33 -> MOVIMENTO DE TERRA | C18: ='ORC BVI'!K39 -> 19677.02 | D18: 3 | E18: =C18/D18 -> 6559.0067 | F18: =E18 -> 6559.0067 | G18: =F18 -> 6559.0067 | X18: =SUM(E18:W18) -> 19677.02 | Y18: =X18-C18 -> 0
A19: 2.2 | B19: ='ORC BVI'!B40 -> ESGOTAMENTO / EMBASAMENTO | C19: ='ORC BVI'!K43 -> 27683.04 | D19: 4 | E19: =C19/D19 -> 6920.76 | F19: =E19 -> 6920.76 | G19: =F19 -> 6920.76 | H19: =G19 -> 6920.76 | X19: =SUM(E19:W19) -> 27683.04 | Y19: =X19-C19 -> 0
A20: 2.3 | B20: ='ORC BVI'!B44 -> ESCORAMENTO | C20: ='ORC BVI'!K46 -> 25151.74 | D20: 4 | E20: =C20/D20 -> 6287.935 | F20: =E20 -> 6287.935 | G20: =F20 -> 6287.935 | H20: =G20 -> 6287.935 | X20: =SUM(E20:W20) -> 25151.74 | Y20: =X20-C20 -> 0
A21: 2.4 | B21: ='ORC BVI'!B47 -> HIDRÁULICA | C21: ='ORC BVI'!K51 -> 69171.02 | D21: 3 | E21: =C21/D21 -> 23057.007 | F21: =E21 -> 23057.007 | G21: =F21 -> 23057.007 | X21: =SUM(E21:W21) -> 69171.02 | Y21: =X21-C21 -> 0
A22: 2.5 | B22: ='ORC BVI'!B52 -> ENVELOPAMENTO DA TUBULAÇÃO | C22: ='ORC BVI'!K55 -> 2941.92 | D22: 3 | E22: =C22/D22 -> 980.64 | F22: =E22 -> 980.64 | G22: =F22 -> 980.64 | X22: =SUM(E22:W22) -> 2941.92 | Y22: =X22-C22 -> 0
A23: 2.6 | B23: ='ORC BVI'!B56 -> POÇOS DE VISITA | C23: ='ORC BVI'!K60 -> 10701.44 | D23: 2 | G23: =C23/D23 -> 5350.72 | H23: =C23/D23 -> 5350.72 | X23: =SUM(E23:W23) -> 10701.44 | Y23: =X23-C23 -> 0
A24: 2.7 | B24: ='ORC BVI'!B61 -> BOCAS DE LOBO | C24: ='ORC BVI'!K65 -> 0 | D24: 2 | G24: =C24/D24 -> 0 | H24: =C24/D24 -> 0 | X24: =SUM(E24:W24) -> 0 | Y24: =X24-C24 -> 0
A25: 2.8 | B25: ='ORC BVI'!B66 -> MURO ALA DE SAÍDA DN 800 | C25: ='ORC BVI'!K75 -> 3733.69 | D25: 1 | H25: =C25/D25 -> 3733.69 | X25: =SUM(E25:W25) -> 3733.69 | Y25: =X25-C25 -> 0
A26: 2.9 | B26: ='ORC BVI'!B76 -> MURO ALA DE SAÍDA DN 1000 | C26: ='ORC BVI'!K85 -> 6811.08 | D26: 1 | H26: =C26/D26 -> 6811.08 | X26: =SUM(E26:W26) -> 6811.08 | Y26: =X26-C26 -> 0
A27: 2.10 | B27: ='ORC BVI'!B86 -> MURO ALA DE SAÍDA DN 1200 | C27: ='ORC BVI'!K95 -> 8972.89 | D27: 1 | H27: =C27/D27 -> 8972.89 | X27: =SUM(E27:W27) -> 8972.89 | Y27: =X27-C27 -> 0
A28: 2.13 | B28: ='ORC BVI'!B96 -> DISSIPADOR DE ENERGIA DN 1200 | C28: ='ORC BVI'!K105 -> 7346.84 | D28: 1 | H28: =C28/D28 -> 7346.84 | X28: =SUM(E28:W28) -> 7346.84 | Y28: =X28-C28 -> 0
A29: ='ORC BVI'!A106 -> 3 | B29: ='ORC BVI'!B106 -> BACIA DE DETENÇÃO DE CHEIAS NO BAIRRO BOA VISTA | X29: =SUM(E29:W29) -> 0 | Y29: =X29-C29 -> 0
A30: 3.1 | B30: ='ORC BVI'!B107 -> LOCAÇÃO E LIMPEZA | C30: ='ORC BVI'!K111 -> 16731.07 | D30: 1 | E30: =C30/D30 -> 16731.07 | X30: =SUM(E30:W30) -> 16731.07 | Y30: =X30-C30 -> 0
A31: 3.2 | B31: ='ORC BVI'!B112 -> MOVIMENTO DE TERRA | C31: ='ORC BVI'!K117 -> 188041.09 | D31: 4 | E31: =C31/D31 -> 47010.272 | F31: =E31 -> 47010.272 | G31: =F31 -> 47010.272 | H31: =G31 -> 47010.272 | X31: =SUM(E31:W31) -> 188041.09 | Y31: =X31-C31 -> 0
A32: 3.3 | B32: ='ORC BVI'!B118 -> ACESSO PARA MANUTENÇÃO E LIMPEZA | C32: ='ORC BVI'!K123 -> 28547.59 | D32: 2 | E32: =C32/D32 -> 14273.795 | H32: =E32 -> 14273.795 | X32: =SUM(E32:W32) -> 28547.59 | Y32: =X32-C32 -> 0
A33: 3.4 | B33: ='ORC BVI'!B124 -> PLANTIO DE GRAMA | C33: ='ORC BVI'!K126 -> 56725.24 | D33: 1 | H33: =C33/D33 -> 56725.24 | X33: =SUM(E33:W33) -> 56725.24 | Y33: =X33-C33 -> 0
B34: TOTAL MENSAL (R$) | E34: =SUM(E14:E33) -> 137136.06 | F34: =SUM(F14:F33) -> 97843.274 | G34: =SUM(G14:G33) -> 103193.99 | H34: =SUM(H14:W33) -> 171552.84 | I34: =SUM(I14:I27) -> 0 | J34: =SUM(J14:J27) -> 0 | K34: =SUM(K14:K27) -> 0 | L34: =SUM(L14:L27) -> 0 | M34: =SUM(M14:M27) -> 0 | N34: =SUM(N14:N27) -> 0 | O34: =SUM(O14:O27) -> 0 | P34: =SUM(P14:P27) -> 0 | ... W34: =SUM(W14:W27) -> 0 | Y34: =X34-C34 -> 0
B35: TOTAL ACUMULADO (R$) | C35: =SUM(C14:C27) -> 212334.34 | E35: =E34 -> 137136.06 | F35: =F34+E35 -> 234979.33 | G35: =G34+F35 -> 338173.33 | H35: =H34+G35 -> 509726.17 | I35: =H35-'ORC BVI'!$K$9 -> 0 | X35: =H35-'ORC BVI'!K9 -> 0 | Y35: =X35-C35 -> -212334.34
Y36: =X36-C36 -> 0
B38: ='MCQ AUXILIAR BVI'!B129 -> SAEMAS - SERTÃOZINHO | G38: ='ORC BVI'!E132 -> ENG Consultoria e Projetos Ltda.
G39: ='ORC BVI'!E133 -> Pedro Ivo de Almeida Santos
G40: ='ORC BVI'!E134 -> CREA: 5061115668 ART: 2620250708725
E48: =E14+E15+E16 -> 15315.573 | F48: =F16 -> 7027.6533 | G48: =G16 -> 7027.6533 | H48: =H14+H16 -> 8119.62 | X48: =E48+F48+G48+H48 -> 37490.5
...

Sheet BDI BVI
B1: ='ORC BVI'!B1 -> PLANILHA ORÇAMENTÁRIA DRENAGEM BAIRRO JARDIM BOA VISTA - SERTÃOZINHO/SP | K1: X
A2: QUADRO DE COMPOSIÇÃO DO BDI - SERVIÇOS E MÃO DE OBRA
A3: RESUMO | B3: SIGLA | C3: Taxas | D3: MIN | E3: MED | F3: MÁX
A4: ADMISTRAÇÃO CENTRAL | B4: AC | C4: 0.0343 | D4: 0.0343 | E4: 0.0493 | F4: 0.0671
A5: SEGURO E GARANTIA | B5: SG | C5: 0.0028 | D5: 0.0028 | E5: 0.0049 | F5: 0.0075
A6: RISCO | B6: R | C6: 0.01 | D6: 0.01 | E6: 0.0139 | F6: 0.0174
A7: DESPESAS FINANCEIRAS | B7: DF | C7: 0.0094 | D7: 0.0094 | E7: 0.0099 | F7: 0.0117
A8: LUCRO | B8: L | C8: 0.0684 | D8: 0.0674 | E8: 0.0804 | F8: 0.094
A9: TRIBUTOS - COFINS PIS | B9: CP | C9: =C10+C11 -> 0.0365 | D9: 3.65 | E9: 3.65 | F9: 3.65
A10: COFINS | C10: 0.03
A11: PIS | C11: 0.0065
A12: TRIBUTOS - ISS | B12: ISS | C12: =C13*C14 -> 0.0135 | D12: 0 | E12: 2.5 | F12: 5
A13: ESTIMATIVA PERCENTUAL DA BASE DE CÁLCULO PARA O ISS | C13: 0.45
A14: ALÍCOTA DE ISS | C14: 0.03
A15: TRIBUTOS - CONTRIBUIÇÃO PREVIDENCIÁRIA | B15: CPRB | C15: 0.045 | D15: 0 | E15: 2 | F15: 2
D16: 20.76 | E16: 24.18 | F16: 26.44
A17: BENEFÍCIOS E DESPESAS INDIRETAS - CONFORME ACÓRDÃO TCU | B17: BDI-TCU | C17: =(1+C4+C5+C6)*(1+C7)*(1+C8)/(1-C9-C12)-1 -> 0.18867118
A18: BENEFÍCIOS E DESPESAS INDIRETAS - SERVIÇOS E MÃO DE OBRA A SER APLICADO NA PLANILHA | B18: BDI-MO | C18: =(1+C4+C5+C6)*(1+C7)*(1+C8)/(1-C9-C12-C15)-1 -> 0.24777638 | D18: =D16+2 -> 22.76 | E18: =E16+2 -> 26.18 | F18: =F16+2 -> 28.44
A20: QUADRO DE COMPOSIÇÃO DO BDI - SERVIÇOS E MÃO DE OBRA
A21: DESCRIÇÃO | B21: SIGLA | C21: Taxas | D21: MIN | E21: MED | F21: MÁX
A22: ADMISTRAÇÃO CENTRAL | B22: AC | C22: 0.0345 | D22: 1.5 | E22: 3.45 | F22: 4.49
A23: SEGURO E GARANTIA | B23: SG | C23: 0.0048 | D23: 0.3 | E23: 0.48 | F23: 0.82
A24: RISCO | B24: R | C24: 0.0085 | D24: 0.56 | E24: 0.85 | F24: 0.89
A25: DESPESAS FINANCEIRAS | B25: DF | C25: 0.0085 | D25: 0.85 | E25: 0.85 | F25: 1.11
A26: LUCRO | B26: L | C26: 0.0511 | D26: 3.5 | E26: 5.11 | F26: 6.22
A27: TRIBUTOS - COFINS PIS | B27: CP | C27: =C28+C29 -> 0.0365 | D27: 3.65 | E27: 3.65 | F27: 3.65
A28: COFINS | C28: 0.03
A29: PIS | C29: 0.0065
A30: TRIBUTOS - ISS | B30: ISS | C30: =C31*C32 -> 0 | D30: 0 | E30: 2.5 | F30: 5
A31: ESTIMATIVA PERCENTUAL DA BASE DE CÁLCULO PARA O ISS | C31: 0
A32: ALÍCOTA DE ISS | C32: 0.03
A33: TRIBUTOS - CONTRIBUIÇÃO PREVIDENCIÁRIA | B33: CPRB | C33: 0 | D33: 0 | E33: 2 | F33: 2
D34: 11.1 | E34: 14.02 | F34: 16.8
A35: BENEFÍCIOS E DESPESAS INDIRETAS - CONFORME ACÓRDÃO TCU | B35: BDI-TCU | C35: =(1+C22+C23+C24)*(1+C25)*(1+C26)/(1-C27-C30)-1 -> 0.15278048 | D35: =D33+2 -> 2 | E35: =E33+2 -> 4 | F35: =F33+2 -> 4
A36: BENEFÍCIOS E DESPESAS INDIRETAS - FORNECIMENTO DE MATERIAIS E EQUIPAMENTOS A SER APLICADO NA PLANILHA | B36: BDI-EQ | C36: =(1+C22+C23+C24)*(1+C25)*(1+C26)/(1-C27-C30-C33)-1 -> 0.15278048 | D36: =D34+2 -> 13.1 | E36: =E34+2 -> 16.02 | F36: =F34+2 -> 18.8
B158: =VLOOKUP(C158,'S03.25+C196+D10.24+F1024+S10.24'!$A$2:$C$20056,2, FALSE()) -> #N/A
B168: PREFEITURA MUNICIPAL DE BARRINHA - PREFEITO JOSÉ MARCOS MARTINS - 11-03-2022

Sheet S03.25+C196+D10.24+F1024+S10.24
A1: SINAPI - Sistema Nacional de Pesquisa de Custos e Índices da Construção Civil
A2: RELATÓRIO DE PREÇOS DE INSUMOS - ENCARGOS SOCIAIS COM DESONERAÇÃO
A3: Mês de Referência: | B3: 03/2025
A4: Data de emissão: | B4: 11/04/2025 | D4: SP
D5: SAO PAULO
A6: Origem de preço: | B6: C = COLETADO | C6: CR = COEFICIENTE DE REPRESENTATIVIDADE | D6: 0.927
A7: Preço em branco para determinado estado significa que não houve coleta mínima de preços no mês de referência | D7: 0.5338
A10: Código da Composição | B10: Descrição | C10: Unidade | D10: Custo (R$)
A11: 104658 | B11: PISO PODOTÁTIL DE ALERTA OU DIRECIONAL, DE CONCRETO, ASSENTADO SOBRE ARGAMASSA. AF_03/2024 | C11: M2 | D11: 181.59
A12: 105002 | B12: RAMPA DE ACESSIBILIDADE EM CONCRETO MOLDADO IN LOCO, EM CALÇADA NOVA COM LARGURA MAIOR OU IGUAL À 3,00 M, FCK 25MPA, COM PISO PODOTÁTIL. AF_03/2024 | C12: UN | D12: 709.92
A13: 105004 | B13: RAMPA DE ACESSIBILIDADE EM CONCRETO MOLDADO IN LOCO, EM CALÇADA NOVA COM LARGURA MENOR À 3,00 M, FCK 25MPA, COM PISO PODOTÁTIL. AF_03/2024 | C13: M2 | D13: 120.14
A14: 105003 | B14: RAMPA DE ACESSIBILIDADE EM CONCRETO MOLDADO IN LOCO, EM CALÇADA PRÉ EXISTENTE COM LARGURA MAIOR OU IGUAL À 3,00 M, FCK 25MPA, COM PISO PODOTÁTIL. AF_03/2024 | C14: UN | D14: 1208.4
A15: 105005 | B15: RAMPA DE ACESSIBILIDADE EM CONCRETO MOLDADO IN LOCO, EM CALÇADA PRÉ EXISTENTE COM LARGURA MENOR À 3,00 M, FCK 25MPA, COM PISO PODOTÁTIL. AF_03/2024 | C15: M2 | D15: 212.43
A16: 105006 | B16: RAMPA DE ACESSIBILIDADE EM CONCRETO PRÉ MOLDADO, EM CALÇADA NOVA COM LARGURA MAIOR OU IGUAL À 3,00 M, FCK 25MPA, COM PISO PODOTÁTIL. AF_03/2024 | C16: UN | D16: 0
A17: 104999 | B17: RAMPA DE ACESSIBILIDADE EM CONCRETO PRÉ MOLDADO, EM CALÇADA PRÉ EXISTENTE COM LARGURA MAIOR OU IGUAL À 3,00 M, FCK 25MPA, COM PISO PODOTÁTIL. AF_03/2024 | C17: UN | D17: 0
A18: 105000 | B18: RAMPA DE ACESSIBILIDADE PARA ACESSO A EDIFICAÇÕES COM INCLINAÇÃO DE 8,33% EM CONCRETO MOLDADO IN LOCO, COM LARGURA DE 1,20M, FCK 25MPA, NÃO ARMADA, COM JUNTA A CADA 2M COM CORTE À SECO. AF_03/2024 | C18: M | D18: 1509.32
A19: 105001 | B19: RAMPA DE ACESSIBILIDADE PARA ACESSO A EDIFICAÇÕES COM INCLINAÇÃO DE 8,33% EM CONCRETO MOLDADO IN LOCO, COM LARGURA DE 1,50M, FCK 25MPA, NÃO ARMADA, COM JUNTA A CADA 2M COM CORTE À SECO. AF_03/2024 | C19: M | D19: 1538.41
A20: 89306 | B20: ALVENARIA ESTRUTURAL DE BLOCOS CERÂMICOS 14X19X29, (ESPESSURA DE 14 CM), UTILIZANDO COLHER DE PEDREIRO E ARGAMASSA DE ASSENTAMENTO COM PREPARO EM BETONEIRA. AF_03/2023 | C20: M2 | D20: 99.21
A21: 89307 | B21: ALVENARIA ESTRUTURAL DE BLOCOS CERÂMICOS 14X19X29, (ESPESSURA DE 14 CM), UTILIZANDO COLHER DE PEDREIRO E ARGAMASSA DE ASSENTAMENTO COM PREPARO MANUAL. AF_03/2023 | C21: M2 | D21: 102.41
A22: 89290 | B22: ALVENARIA ESTRUTURAL DE BLOCOS CERÂMICOS 14X19X29, (ESPESSURA DE 14 CM), UTILIZANDO PALHETA E ARGAMASSA DE ASSENTAMENTO COM PREPARO EM BETONEIRA. AF_03/2023 | C22: M2 | D22: 81.37
... A9663: 103548 | B9663: VÁLVULA REDUTORA DE PRESSÃO DE FERRO FUNDIDO PARA REDE DE ÁGUA, DN 80 MM, JUNTA FLANGEADA. AF_12/2021 | C9663: UN | D9663: 0
A9666: Código do Insumo | B9666: Descrição do Insumo | C9666: Unidade | D9666: SP
A9667: 45333 | B9667: ABERTURA PARA ENCAIXE DE CUBA OU LAVATORIO EM BANCADA DE MARMORE/ GRANITO OU OUTRO TIPO DE PEDRA NATURAL | C9667: UN | D9667: 166.99
A9668: 11270 | B9668: ABRACADEIRA DE LATAO PARA FIXACAO DE CABO PARA-RAIO, DIMENSOES 32 X 24 X 24 MM | C9668: UN | D9668: 2.64
A9669: 412 | B9669: ABRACADEIRA DE NYLON PARA AMARRACAO DE CABOS, COMPRIMENTO DE *230* X *7,6* MM | C9669: UN | D9669: 1.13
A9670: 414 | B9670: ABRACADEIRA DE NYLON PARA AMARRACAO DE CABOS, COMPRIMENTO DE 100 X 2,5 MM | C9670: UN | D9670: 0.07
A9671: 410 | B9671: ABRACADEIRA DE NYLON PARA AMARRACAO DE CABOS, COMPRIMENTO DE 150 X *3,6* MM | C9671: UN | D9671: 0.17
A9672: 411 | B9672: ABRACADEIRA DE NYLON PARA AMARRACAO DE CABOS, COMPRIMENTO DE 200 X *4,6* MM | C9672: UN | D9672: 0.22
A9673: 408 | B9673: ABRACADEIRA DE NYLON PARA AMARRACAO DE CABOS, COMPRIMENTO DE 390 X *4,6* MM | C9673: UN | D9673: 1.09
A9674: 39131 | B9674: ABRACADEIRA EM ACO PARA AMARRACAO DE ELETRODUTOS, TIPO D, COM 1 1/2" E CUNHA DE FIXACAO | C9674: UN | D9674: 3.55
A9675: 394 | B9675: ABRACADEIRA EM ACO PARA AMARRACAO DE ELETRODUTOS, TIPO D, COM 1 1/2" E PARAFUSO DE FIXACAO | C9675: UN | D9675: 3.6
A9676: 39130 | B9676: ABRACADEIRA EM ACO PARA AMARRACAO DE ELETRODUTOS, TIPO D, COM 1 1/4" E CUNHA DE FIXACAO | C9676: UN | D9676: 3.24
A9677: 395 | B9677: ABRACADEIRA EM ACO PARA AMARRACAO DE ELETRODUTOS, TIPO D, COM 1 1/4" E PARAFUSO DE FIXACAO | C9677: UN | D9677: 3.46
A9678: 39129 | B9678: ABRACADEIRA EM ACO PARA AMARRACAO DE ELETRODUTOS, TIPO D, COM 1" E CUNHA DE FIXACAO | C9678: UN | D9678: 2
... A14503: 41096 | B14503: VIGIA DIURNO (MENSALISTA) | C14503: MES | D14503: 3591.99
B14514: COMPANHIA DE DESENVOLVIMENTO HABITACIONAL E URBANO
A14515: DO ESTADO DE SÃO PAULO
A14516: BOLETIM REFERENCIAL DE CUSTOS - TABELA DE SERVIÇOS
A14517: COM DESONERAÇÃO
D14518: Versão 197
...
