Workbook

Sheet Planilha Orçamentária
A3: PLANILHA ORÇAMENTÁRIA | H3: BDI Serviço | I3: 0.287
A4: Serviço: Manutenção nos Sistemas de Abastecimento de Água e Coletor de Esgoto | H4: BDI Material | I4: 0.168
A5: Item | B5: Descrição | C5: Und. | D5: Quantidade | E5: Pr.Unitário | F5: Pr.Unitário+BDI | G5: Pr.Total | H5: FONTE
A6: 1.0 | B6: Equipes manutenção água e esgoto
A7: 1.1 | B7: Equipe 1 (encanador+auxiliar) | C7: mês | D7: 12 | E7: ='Composição Equipes'!F6 -> 8078.3738 | F7: =E7*(1+$I$3) -> 10396.867 | G7: =F7*D7 -> 124762.41 | H7: composição | I7: SINAPI
A8: 1.2 | B8: Equipe 2 (encanador+auxiliar) | C8: mês | D8: 12 | E8: ='Composição Equipes'!F6 -> 8078.3738 | F8: =E8*(1+$I$3) -> 10396.867 | G8: =F8*D8 -> 124762.41 | H8: composição | I8: SINAPI
A9: 1.3 | B9: Veículo para transporte (Equipe 1 + Equipe 2) | D9: 12 | E9: ='Composição Veículo Transporte'!E6 -> 17307.506 | F9: =E9*(1+$I$3) -> 22274.76 | G9: =F9*D9 -> 267297.12 | H9: composição | I9: SINAPI
A10: 1.4 | B10: Equipe 3 (manutenção/expansão redes coletoras, ramais esgoto) – (1oficial+1 auxiliar) | C10: mês | D10: 12 | E10: ='Composição Equipes'!F10 -> 12448.424 | F10: =E10*(1+$I$3) -> 16021.122 | G10: =F10*D10 -> 192253.47 | H10: composição | I10: SINAPI
A11: 1.5 | B11: Veículo para transporte (Equipe 3) | C11: mês | D11: 12 | E11: ='Composição Veículo Transporte'!E6 -> 17307.506 | F11: =E11*(1+$I$3) -> 22274.76 | G11: =F11*D11 -> 267297.12 | H11: composição | I11: SINAPI
A12: 2.0. | B12: Equipamento
A13: 2.1 | B13: Retroescavadeira sobre rodas com carregadeira, tração 4x2, potência líq. 79 hp, caçamba carreg. cap. mín. 1 m3, caçamba retro cap. 0,20 m3, peso operacional mín. 6.570 kg, profundidade escavação máx. 4,37 m - chp diurno. af_06/2014 | C13: h | D13: 1000 | E13: 136.82 | F13: =E13*(1+$I$3) -> 176.08734 | G13: =F13*D13 -> 176087.34 | H13: 5680 | I13: SINAPI
A14: 2.2 | B14: Caminhão basculante 6m³ | C14: h | D14: 1000 | E14: 208.04 | F14: =E14*(1+$I$3) -> 267.74748 | G14: =F14*D14 -> 267747.48 | H14: 5811 | I14: SINAPI
A15: 2.3 | B15: Compactador de solos de percussão (soquete) com motor a gasolina 4 tempos, potência 4 cv - chp diurno. af_08/2015 | C15: h | D15: 600 | E15: 37.1 | F15: =E15*(1+$I$3) -> 47.7477 | G15: =F15*D15 -> 28648.62 | H15: 91533 | I15: SINAPI
A16: 2.4 | B16: Cortadora de piso com motor 4 tempos a gasolina, potência de 13 hp, com disco de corte diamantado segmentado para concreto, diâmetro de 350 mm, furo de 1" (14 x 1") - chp diurno. af_08/2015 | C16: h | D16: 600 | E16: 10.59 | F16: =E16*(1+$I$3) -> 13.62933 | G16: =F16*D16 -> 8177.598 | H16: 91283 | I16: SINAPI
A17: 2.5 | B17: Motobomba trash (para água suja) auto escorvante, motor gasolina de 6,41 hp, diâmetros de sucção x recalque: 3" x 3", hm/q = 10 mca / 60 m3/h a 23 mca / 0 m3/h - chp diurno. af_10/2014 | C17: h | D17: 400 | E17: 24.19 | F17: =E17*(1+$I$3) -> 31.13253 | G17: =F17*D17 -> 12453.012 | H17: 7042 | I17: SINAPI
A18: 3.0 | B18: Material | G18: =F18*D18 -> 0
A19: 3.1 | B19: Tubo coletor de esgoto pvc, jei, dn 100 mm (nbr 7362) | C19: m | D19: 500 | E19: 44 | F19: =E19*(1+$I$4) -> 51.392 | G19: =F19*D19 -> 25696 | H19: 36365 | I19: SINAPI
A20: 3.2 | B20: Tubo coletor de esgoto, pvc, jei, dn 150 mm (nbr 7362) | C20: m | D20: 400 | E20: 86.31 | F20: =E20*(1+$I$4) -> 100.81008 | G20: =F20*D20 -> 40324.032 | H20: 41936 | I20: SINAPI
A21: 3.3 | B21: Tubo coletor de esgoto pvc, jei, dn 200 mm (nbr 7362) | C21: m | D21: 200 | E21: 146.57 | F21: =E21*(1+$I$4) -> 171.19376 | G21: =F21*D21 -> 34238.752 | H21: 41930 | I21: SINAPI
A22: 3.4 | B22: Tubo coletor de esgoto pvc, jei, dn 250 mm (nbr 7362) | C22: m | D22: 100 | E22: 229.57 | F22: =E22*(1+$I$4) -> 268.13776 | G22: =F22*D22 -> 26813.776 | H22: 41931 | I22: SINAPI
A23: 3.5 | B23: Tubo coletor de esgoto pvc, jei, dn 300 mm (nbr 7362) | C23: m | D23: 100 | E23: 353.34 | F23: =E23*(1+$I$4) -> 412.70112 | G23: =F23*D23 -> 41270.112 | H23: 41932 | I23: SINAPI
A24: 3.6 | B24: Terra para substituição material vala | C24: m³ | D24: 790 | E24: 214.28 | F24: =E24*(1+$I$4) -> 250.27904 | G24: =F24*D24 -> 197720.44 | H24: 7253 | I24: SINAPI
A25: 4.0 | B25: Material – agrupado por uso
A26: 4.1 | B26: Base para poço de visita circular para esgoto, em concreto pré-moldado, diâmetro interno = 1 m, profundidade = 1,45 m, excluindo tampão. af_12/2020 | C26: Und. | D26: 72 | E26: ='Composição - materia-uso'!E12 -> 840.4 | F26: =E26*(1+$I$3) -> 1081.5948 | G26: =F26*D26 -> 77874.826 | H26: composição | I26: SINAPI
A27: 4.2 | B27: Acréscimo para poço de visita circular para esgoto, em alvenaria com tijolos cerâmicos maciços, diâmetro interno = 1 m. af_12/2020 | C27: m | D27: 36 | E27: ='Composição - materia-uso'!E27 -> 670.94 | F27: =E27*(1+$I$3) -> 863.49978 | G27: =F27*D27 -> 31085.992 | H27: composição | I27: SINAPI
A28: 4.4 | B28: Construção de base e sub-base para pavimentação de brita graduada simples, com espessura de 15 cm - exclusive carga e transporte. af_09/2024 | C28: m³ | D28: 120 | E28: 139.28 | F28: =E28*(1+$I$3) -> 179.25336 | G28: =F28*D28 -> 21510.403 | H28: 96396 | I28: SINAPI
A29: 5.0 | B29: Serviços Complementares
A30: 5.1 | B30: Escoramento de vala, tipo pontaleteamento, com profundidade de 1,5 a 3,0 m, largura menor que 1,5 m. af_08/2020 | C30: m² | D30: 100 | E30: 20.49 | F30: =E30*(1+$I$3) -> 26.37063 | G30: =F30*D30 -> 2637.063 | H30: 101572 | I30: SINAPI
A31: 5.2 | B31: Deposição de entulho p/ rcc cadastrado na cidade (considerando 1,5 ton/m³) | C31: ton | D31: 200 | E31: 121.5 | F31: =E31*(1+$I$3) -> 156.3705 | G31: =F31*D31 -> 31274.1 | H31: Contrato SAEMAS-ESAL
A32: 6.0 | B32: Recomposições
A33: 6.1 | B33: Piso em concreto 20 mpa preparo mecânico, espessura 7cm. Af_09/2020 | C33: m² | D33: 50 | E33: 73.84 | F33: =E33*(1+$I$3) -> 95.03208 | G33: =F33*D33 -> 4751.604 | H33: 101747 | I33: SINAPI
A34: 6.2 | B34: Revestimento cerâmico para piso com placas tipo esmaltada extra de dimensões 45x45 cm aplicada em ambientes de área maior que 10 m2. af_06/2014 | C34: m² | D34: 50 | E34: 49.93 | F34: =E34*(1+$I$3) -> 64.25991 | G34: =F34*D34 -> 3212.9955 | H34: 87251 | I34: SINAPI
A35: 6.4 | B35: Assentamento de guia (meio-fio) em trecho reto, confeccionada em concreto pré-fabricado, dimensões 100x15x13x30 cm (comprimento x base inferior x base superior x altura), para vias urbanas (uso viário). af_06/2016 | C35: m | D35: 110 | E35: 44.18 | F35: =E35*(1+$I$3) -> 56.85966 | G35: =F35*D35 -> 6254.5626 | H35: 94273 | I35: SINAPI
A36: 6.5 | B36: Execução de sarjeta de concreto usinado, moldada in loco em trecho reto, 30 cm base x 15 cm altura. af_06/2016 | C36: m | D36: 110 | E36: 40.6 | F36: =E36*(1+$I$3) -> 52.2522 | G36: =F36*D36 -> 5747.742 | H36: 94281 | I36: SINAPI
A37: 6.6 | B37: Caixa enterrada hidráulica retangular em alvenaria com tijolos cerâmicos maciços, dimensões internas: 0,6x0,6x0,6 m para rede de esgoto. af_12/2020 | C37: Und. | D37: 35 | E37: 567.55 | F37: =E37*(1+$I$3) -> 730.43685 | G37: =F37*D37 -> 25565.29 | H37: 97902 | I37: SINAPI
A38: TOTAL | G38: =SUM(G7:G37) -> 2045464.3

Sheet Composição Veículo Transporte
A2: COMPOSIÇÃO VEÍCULO PARA TRANSPORTE
A3: Descrição | B3: Und. | C3: Consumo | D3: Pr.Unitário | E3: Pr.Total | F3: FONTE
A4: CAMINHÃO TOCO, PBT 16.000 KG, CARGA ÚTIL MÁX. 10.685 KG, DIST. ENTRE EIXOS 4,8 M, POTÊNCIA 189 CV, INCLUSIVE CARROCERIA FIXA ABERTA DE MADEIRA P/ TRANSPORTE GERAL DE CARGA SECA, DIMEN. APROX. 2,5 X 7,00 X 0,50 M - CHP DIURNO. AF_06/2014 | B4: H | C4: =220*10.4/100 -> 22.88 | D4: 219.45 | E4: =D4*C4 -> 5021.016 | F4: 5824 | G4: SINAPI
A5: CAMINHÃO TOCO, PESO BRUTO TOTAL 16.000 KG, CARGA ÚTIL MÁXIMA DE 10.685 KG, DISTÂNCIA ENTRE EIXOS 4,80 M, POTÊNCIA 189 CV EXCLUSIVE CARROCERIA - CHI DIURNO. AF_06/2014 | B5: H | C5: =220*89.6/100 -> 197.12 | D5: 62.33 | E5: =D5*C5 -> 12286.49 | F5: 5896 | G5: SINAPI
A6: TOTAL | C6: =SUM(C4:C5) -> 220 | E6: =SUM(E4:E5) -> 17307.506

Sheet Tempo Produtivo-Improdutivo
A1: Estimativa Tempo Produtivo e Improdutivo – Caminhão transporte
A3: 1) Usando o banco de dados da autarquia, verificamos a quilometragem percorrida em um período de Tempo. Para o caso usamos a viatura 32, utilizada no serviços de manutenção de água.
A4: 2) Usando velocidade média, encontramos um tempo médio de deslocamento.
A5: 3)Verificamos a quantidade de horas trabalhadas no período
A6: 4)Calculamos a quantidade de horas produtiva (as que o veículo está deslocando) e improdutiva (as que o veículo está aguardando a equipe)
A8: Período Analisado:
A9: Início | B9: 43844 | D9: 45292 | E9: 45292
A10: Fim | B10: 44176 | D10: 45643 | E10: 45643
A11: Dias úteis | B11: =NETWORKDAYS(B9,B10) -> 239 | D11: =D10-D9 -> 351 | E11: =NETWORKDAYS(E9,E10) -> 252
A12: Horas (8hs) disponíveis | B12: =B11*8 -> 1912 | D12: =D11*8 -> 2808 | E12: =E11*8 -> 2016
A14: Quilômetros percorridos | B14: 7955 | C14: Km | D14: 5995 | E14: 5995
A15: Horas trabalhadas
A17: Equipamentos | B17: Velocidade Média(km/h) | D17: Km | E17: Tempo descolameto (h) | G17: Tempo Parado | H17: Hs Produtivas | I17: Hs Improdutivas
A18: Caminhão carroceria | B18: 40 | D18: =B14 -> 7955 | E18: =D18/B18 -> 198.875 | G18: =B12-E18 -> 1713.125 | H18: =E18/B12 -> 0.10401412 | I18: =G18/B12 -> 0.89598588
B19: 40 | D19: 5995 | E19: =D19/B19 -> 149.875 | G19: =D12-E19 -> 2658.125 | H19: =E19/D12 -> 0.053374288 | I19: =G19/D12 -> 0.94662571
B20: 40 | D20: =E14 -> 5995 | E20: =D20/B20 -> 149.875 | G20: =E12-E20 -> 1866.125 | H20: =E20/E12 -> 0.074342758 | I20: =G20/E12 -> 0.92565724
A22: Tempo deslocamento foi calculado usando a Fórmula | C22: Km
C23: Velo.Média
A25: Tempo parado: Horas disponíveis – tempo deslocamento
A27: Hs.Produtivas: Tempo deslocamento/Horas disponíveis
A28: Hs Improdutivas: Tempo Parado/Horas disponíveis

Sheet Composição Equipes
A2: COMPOSIÇÕES AUXILIARES
A3: 1.0 | B3: CUSTO MENSAL – EQUIPE (Manutenção Água) | C3: UND | D3: Qtd. | E3: CUSTO/UNIT | F3: TOTAL
A4: 1.1 | B4: Encanador | C4: mês | D4: 1 | E4: ='Composição M.O'!E15 -> 4370.0506 | F4: =D4*E4 -> 4370.0506
A5: 1.2 | B5: Auxiliar | C5: mês | D5: 1 | E5: ='Composição M.O'!E29 -> 3708.3232 | F5: =D5*E5 -> 3708.3232
A6: SUBTOTAL | F6: =SUM(F4:F5) -> 8078.3738
A7: 2.0 | B7: CUSTO MENSAL – EQUIPE (Manutenção Esgoto)
B8: Encanador + Insalubridade | C8: mês | D8: 2 | E8: ='Composição M.O'!E15 -> 4370.0506 | F8: =D8*E8 -> 8740.1013
B9: Auxiliar | C9: mês | D9: 1 | E9: ='Composição M.O'!E29 -> 3708.3232 | F9: =D9*E9 -> 3708.3232
A10: SUBTOTAL | F10: =SUM(F8:F9) -> 12448.424

Sheet Composição M.O
A1: COMPOSIÇÃO MÃO DE OBRA
A3: ENCANADOR
A4: DESCRIÇÃO | B4: UND. | C4: CONSUMO | D4: PR.UN. | E4: PR.TOTAL | F4: FONTE
A5: TRANSPORTE - MENSALISTA (COLETADO CAIXA - ENCARGOS COMPLEMENTARES) | B5: MES | C5: 1,0000000 | D5: 179,74 | E5: 179,74 | F5: 40861 | G5: SINAPI
A6: ALIMENTACAO - MENSALISTA (COLETADO CAIXA - ENCARGOS COMPLEMENTARES) | B6: MES | C6: 1,0000000 | D6: 765,85 | E6: 765,85 | F6: 40862 | G6: SINAPI
A7: EXAMES - MENSALISTA (COLETADO CAIXA - ENCARGOS COMPLEMENTARES) | B7: MES | C7: 1,0000000 | D7: 252,08 | E7: 252,08 | F7: 40863 | G7: SINAPI
A8: SEGURO - MENSALISTA (COLETADO CAIXA - ENCARGOS COMPLEMENTARES) | B8: MES | C8: 1,0000000 | D8: 7,31 | E8: 7,31 | F8: 40864 | G8: SINAPI
A9: ENCANADOR OU BOMBEIRO HIDRAULICO (MENSALISTA) | B9: MES | C9: 1,0000000 | D9: 2513.91 | E9: =D9*C9 -> 2513.91 | G9: SINDUSCON-SP
A10: ENCARGOS SOCIAIS 47,74% | B10: MES | C10: 0.4774 | D10: =D9 -> 2513.91 | E10: =D10*C10 -> 1200.1406 | G10: SINAPI
A11: FERRAMENTAS - FAMILIA ENCANADOR - MENSALISTA (ENCARGOS COMPLEMENTARES - COLETADO CAIXA) | B11: MES | C11: 1,0000000 | D11: 59,28 | E11: 59,28 | F11: 43473 | G11: SINAPI
A12: EPI - FAMILIA ENCANADOR - MENSALISTA (ENCARGOS COMPLEMENTARES - COLETADO CAIXA) | B12: MES | C12: 1,0000000 | D12: 199,20 | E12: 199,20 | F12: 43497 | G12: SINAPI
A13: CURSO DE CAPACITAÇÃO PARA ENCANADOR OU BOMBEIRO HIDRÁULICO (ENCARGOS COMPLEMENTARES) - MENSALISTA | B13: MES | C13: 1,0000000 | D13: 68,47 | E13: 68,47 | F13: 101316 | G13: SINAPI
A14: INSALUBRIDADE 40% SALÁRIO MÍNIMO | B14: MES | C14: 0.4 | D14: 1640 | E14: =D14*C14 -> 656 | F14: =D14*0.2 -> 328
A15: TOTAL ENCANADOR | E15: =SUM(E5:E14) -> 4370.0506
A17: AUXILIAR
A18: Descrição | B18: Und. | C18: Consumo | D18: Pr.Un. | E18: Pr.Total | F18: Fonte
A19: TRANSPORTE - MENSALISTA (COLETADO CAIXA - ENCARGOS COMPLEMENTARES) | B19: MES | C19: 1,0000000 | D19: 179,74 | E19: 179,74 | F19: 40861 | G19: SINAPI
A20: ALIMENTACAO - MENSALISTA (COLETADO CAIXA - ENCARGOS COMPLEMENTARES) | B20: MES | C20: 1,0000000 | D20: 765,85 | E20: 765,85 | F20: 40862 | G20: SINAPI
A21: EXAMES - MENSALISTA (COLETADO CAIXA - ENCARGOS COMPLEMENTARES) | B21: MES | C21: 1,0000000 | D21: 252,08 | E21: 252,08 | F21: 40863 | G21: SINAPI
A22: SEGURO - MENSALISTA (COLETADO CAIXA - ENCARGOS COMPLEMENTARES) | B22: MES | C22: 1,0000000 | D22: 7,31 | E22: 7,31 | F22: 40864 | G22: SINAPI
A23: AUXILIAR DE ENCANADOR OU BOMBEIRO HIDRAULICO (MENSALISTA) | B23: MES | C23: 1,0000000 | D23: 2066.01 | E23: =D23*C23 -> 2066.01 | G23: SINDUSCON-SP
A24: ENCARGOS SOCIAIS 47,74% | B24: MES | C24: 0.4774 | D24: 2066.01 | E24: =D24*C24 -> 986.31317 | G24: SINAPI
A25: FERRAMENTAS - FAMILIA ENCANADOR - MENSALISTA (ENCARGOS COMPLEMENTARES - COLETADO CAIXA) | B25: MES | C25: 1,0000000 | D25: 59,28 | E25: 59,28 | F25: 43473 | G25: SINAPI
A26: EPI - FAMILIA ENCANADOR - MENSALISTA (ENCARGOS COMPLEMENTARES - COLETADO CAIXA) | B26: MES | C26: 1,0000000 | D26: 199,20 | E26: 199,20 | F26: 43497 | G26: SINAPI
A27: CURSO DE CAPACITAÇÃO PARA AUXILIAR DE ENCANADOR OU BOMBEIRO HIDRÁULICO (ENCARGOS COMPLEMENTARES) - MENSALISTA | B27: MES | C27: 1,0000000 | D27: 53,32 | E27: 53,32 | F27: 101296 | G27: SINAPI
A28: INSALUBRIDADE 40% SALÁRIO MÍNIMO | C28: 0.4 | D28: 1640 | E28: =D28*C28 -> 656
A29: TOTAL AUXILIAR | E29: =SUM(E19:E28) -> 3708.3232

Sheet Composição - materia-uso
A3: BASE PARA POÇO DE VISITA CIRCULAR PARA ESGOTO, EM CONCRETO PRÉ-MOLDADO, DIÂMETRO INTERNO = 0,80 M, PROFUNDIDADE = 1,35 M, EXCLUINDO TAMPÃO. AF_12/2020_PA
A4: DESCRIÇÃO | B4: UND. | C4: CONSUMO | D4: PR.UN. | E4: PR.TOTAL | F4: FONTE
A5: TIJOLO CERAMICO MACICO COMUM DE *5 X 10 X 20* CM (L X A X C) | B5: UN | C5: 31,3274000 | D5: 0,55 | E5: 17.23 | F5: 7258 | G5: SINAPI
A6: ANEL EM CONCRETO ARMADO, LISO, PARA POCOS DE VISITAS, POCOS DE INSPECAO, FOSSAS SEPTICAS E SUMIDOUROS, SEM FUNDO, DIAMETRO INTERNO DE 0,80 M E ALTURA DE 0,50 M | B6: UN | C6: 1,0000000 | D6: 174,28 | E6: 174.28 | F6: 12544 | G6: SINAPI
A7: ANEL EM CONCRETO ARMADO, LISO, PARA POCOS DE VISITAS, POCOS DE INSPECAO, FOSSAS SEPTICAS E SUMIDOUROS, COM FUNDO, DIAMETRO INTERNO DE 0,80 M E ALTURA DE 0,50 M | B7: UN | C7: 1,0000000 | D7: 246,05 | E7: 246.05 | F7: 43442 | G7: SINAPI
A8: PEÇA CIRCULAR PRÉ-MOLDADA, VOLUME DE CONCRETO DE 10 A 30 LITROS, TAXA DE FIBRA DE POLIPROPILENO APROXIMADA DE 6 KG/M³. AF_03/2024_PS | B8: M3 | C8: 0,0221000 | D8: 3.906,47 | E8: 86.33 | F8: 97738 | G8: SINAPI
A9: PEÇA CIRCULAR PRÉ-MOLDADA, VOLUME DE CONCRETO DE 30 A 100 LITROS, TAXA DE AÇO APROXIMADA DE 30KG/M³. AF_03/2024 | B9: M3 | C9: 0,0662000 | D9: 2.818,11 | E9: 186.55 | F9: 97739 | G9: SINAPI
A10: ARGAMASSA TRAÇO 1:3 (EM VOLUME DE CIMENTO E AREIA MÉDIA ÚMIDA) COM ADIÇÃO DE IMPERMEABILIZANTE, PREPARO MECÂNICO COM BETONEIRA 400 L. AF_08/2019 | B10: M3 | C10: 0,0569000 | D10: 611,61 | E10: 34.8 | F10: 100475 | G10: SINAPI
A11: PREPARO DE FUNDO DE VALA COM LARGURA MENOR QUE 1,5 M, COM CAMADA DE BRITA, LANÇAMENTO MECANIZADO. AF_08/2020 | B11: M3 | C11: 0,4152000 | D11: 229,21 | E11: 95.16 | F11: 101623 | G11: SINAPI
A12: TOTAL | E12: =SUM(E5:E11) -> 840.4
A14: ACRÉSCIMO PARA POÇO DE VISITA CIRCULAR PARA ESGOTO, EM CONCRETO PRÉ-MOLDADO, DIÂMETRO INTERNO = 1 M. AF_12/2020
A15: DESCRIÇÃO | B15: UND. | C15: CONSUMO | D15: PR.UN. | E15: PR.TOTAL | F15: FONTE
A16: ANEL EM CONCRETO ARMADO, LISO, PARA POCOS DE VISITAS, POCOS DE INSPECAO, FOSSAS SEPTICAS E SUMIDOUROS, SEM FUNDO, DIAMETRO INTERNO DE 1,00 M E ALTURA DE 0,50 M | B16: UN | C16: 2,0000000 | D16: 234,40 | E16: 468,80 | F16: 12547 | G16: SINAPI
A17: ARGAMASSA TRAÇO 1:3 (EM VOLUME DE CIMENTO E AREIA MÉDIA ÚMIDA) COM ADIÇÃO DE IMPERMEABILIZANTE, PREPARO MECÂNICO COM BETONEIRA 400 L. AF_08/2019 | B17: M3 | C17: 0,0181000 | D17: 611,61 | E17: 11,07 | F17: 100475 | G17: SINAPI
A18: TOTAL | E18: =E17+E16 -> 479.87
A20: ACRÉSCIMO PARA POÇO DE VISITA CIRCULAR PARA ESGOTO, EM ALVENARIA COM TIJOLOS CERÂMICOS MACIÇOS, DIÂMETRO INTERNO = 1 M. AF_12/2020
A21: TIJOLO CERAMICO MACICO COMUM DE *5 X 10 X 20* CM (L X A X C) | B21: UN | C21: 474,8089000 | D21: 0,55 | E21: 261.14 | F21: 7258 | G21: SINAPI
A22: ARGAMASSA TRAÇO 1:4 (EM VOLUME DE CIMENTO E AREIA GROSSA ÚMIDA) PARA CHAPISCO CONVENCIONAL, PREPARO MECÂNICO COM BETONEIRA 400 L. AF_08/2019 | B22: M3 | C22: 0,0317000 | D22: 407,42 | E22: 12.91 | F22: 87316 | G22: SINAPI
A23: GRAUTEAMENTO DE CINTA SUPERIOR OU DE VERGA EM ALVENARIA ESTRUTURAL. AF_09/2021 | B23: M3 | C23: 0,0314000 | D23: 930,85 | E23: 29.22 | F23: 89995 | G23: SINAPI
A24: ARMAÇÃO DE CINTA DE ALVENARIA ESTRUTURAL; DIÂMETRO DE 10,0 MM. AF_09/2021 | B24: KG | C24: 0,9692000 | D24: 10,06 | E24: 9.75 | F24: 89998 | G24: SINAPI
A25: FABRICAÇÃO, MONTAGEM E DESMONTAGEM DE FÔRMA PARA VIGA BALDRAME, EM MADEIRA SERRADA, E=25 MM, 4 UTILIZAÇÕES. AF_01/2024 | B25: M2 | C25: 0,3142000 | D25: 68,75 | E25: 21.6 | F25: 96536 | G25: SINAPI
A26: ARGAMASSA TRAÇO 1:3 (EM VOLUME DE CIMENTO E AREIA MÉDIA ÚMIDA) COM ADIÇÃO DE IMPERMEABILIZANTE, PREPARO MECÂNICO COM BETONEIRA 400 L. AF_08/2019 | B26: M3 | C26: 0,5499000 | D26: 611,61 | E26: 336.32 | F26: 100475 | G26: SINAPI
A27: TOTAL | E27: =SUM(E21:E26) -> 670.94
