Workbook

Sheet planilha EEE ORC. JD PARAÍSO
A1: PLANILHA ORÇAMENTÁRIA REDES DE INTERLIGAÇÃO E NOVA EEEB PARAÍSO - SERTÃOZINHO/SP
A2: ITEM | G2: S/ BDI | H2: BDI conforme acórdão 2369/2011 | J2: C/ BDI
A3: A | B3: =B11 -> SERVIÇOS GERAIS | G3: =G11 -> 0 | J3: =J11 -> 0 | P3: ADM | Q3: =#REF!/J7 -> #REF! | R3: <3%
A4: B | B4: =B21 -> REDES DE INTERLIGAÇÃO ENTRE O SISTEMA EXISTENTE E A NOVA EEEB | G4: =G21 -> 0 | J4: =J21 -> 0 | P4: PROJTEC | Q4: =#REF!/#REF! -> #REF! | R4: >2,5%
A5: C | B5: =B66 -> ESTAÇÃO ELEVATÓRIA DE ESGOTO BRUTO JARDIM PARAÍSO | G5: =G66 -> 0 | J5: =J66 -> 0 | P5: PROJTEC | Q5: =#REF!/#REF! -> #REF! | R5: >2,5%
A6: D | B6: =B425 -> LINHA DE RECALQUE ENTRE A EEEB NOVA E A EEEB ANTIGA | G6: =G425 -> 0 | J6: =J425 -> 0 | P6: PROJTEC | Q6: =#REF!/#REF! -> #REF! | R6: >2,5%
B7: TOTAL DA OBRA | G7: =SUM(G3:G6) -> 0 | J7: =SUM(J3:J6) -> 0 | K7: BOTA FORA | L7: 6 | M7: KM
A8: DATA BASE: SINAPI OUT/2019 e CPOS 176 | F8: BDI - MATERIAL | G8: 0.1785 | K8: USINA DE ASFALTO | L8: 25 | M8: KM
F9: BDI - SERVIÇOS | G9: 0.2334 | K9: JAZIDA | L9: 8 | M9: KM | Q9: =#REF!*2.5% -> #REF!
A10: ITEM | B10: DESCRIÇÃO | C10: CÓDIGO | D10: UNID. | E10: QTDE. | F10: CUSTO UNITÁRIO (SEM BDI) - R$ | G10: CUSTO TOTAL R$ | H10: % BDI | I10: PREÇO UNITÁRIO C/ BDI (R$) | J10: PREÇO TOTAL C/ BDI (R$) | K10: MATERIAL TUBULAR OU EQUIP. ESPECIAL | Q10: =Q9/1.294 -> #REF!
A11: A | B11: SERVIÇOS GERAIS | G11: =SUM(G12) -> 0 | J11: =SUM(J12) -> 0 | Q11: 1860836.2
A12: 1 | B12: SERVIÇOS GERAIS | G12: =SUM(G20) -> 0 | J12: =SUM(J20) -> 0 | Q12: =Q11-J7 -> 1860836.2
A13: 1.1 | B13: GERAL
A14: 1.1.1 | B14: =VLOOKUP(C14,'SINAPI OUT19+CPOS176'!$A$2:$C$95560,3, 0) -> LOCACAO DE CONTAINER 2,30 X 6,00 M, ALT. 2,50 M, COM 1 SANITARIO, PARA ESCRITORIO, COMPLETO, SEM DIVISORIAS INTERNAS | C14: 10775 | D14: =VLOOKUP(C14,'SINAPI OUT19+CPOS176'!$A$2:$D$95560,4, 0) -> MES | E14: 5 | G14: =ROUND(E14*F14,2) -> 0 | H14: =IF(K14="",$G$9,$G$8) -> 0.2334 | I14: =ROUND(F14*H14+F14,2) -> 0 | J14: =ROUND(E14*I14,2) -> 0
A15: 1.1.2 | B15: =VLOOKUP(C15,'SINAPI OUT19+CPOS176'!$A$2:$C$95560,3, 0) -> LOCACAO DE CONTAINER 2,30 X 6,00 M, ALT. 2,50 M, PARA ESCRITORIO, SEM DIVISORIAS INTERNAS E SEM SANITARIO | C15: 10776 | D15: =VLOOKUP(C15,'SINAPI OUT19+CPOS176'!$A$2:$D$95560,4, 0) -> MES | E15: 5 | G15: =ROUND(E15*F15,2) -> 0 | H15: =IF(K15="",$G$9,$G$8) -> 0.2334 | I15: =ROUND(F15*H15+F15,2) -> 0 | J15: =ROUND(E15*I15,2) -> 0
A16: 1.1.3 | B16: =VLOOKUP(C16,'SINAPI OUT19+CPOS176'!$A$2:$C$95560,3, 0) -> ENTRADA PROVISORIA DE ENERGIA ELETRICA AEREA TRIFASICA 40A EM POSTE MADEIRA | C16: 41598 | D16: =VLOOKUP(C16,'SINAPI OUT19+CPOS176'!$A$2:$D$95560,4, 0) -> UN | E16: 1 | G16: =ROUND(E16*F16,2) -> 0 | H16: =IF(K16="",$G$9,$G$8) -> 0.2334 | I16: =ROUND(F16*H16+F16,2) -> 0 | J16: =ROUND(E16*I16,2) -> 0
A17: 1.1.4 | B17: =VLOOKUP(C17,'SINAPI OUT19+CPOS176'!$A$2:$C$95560,3, 0) -> LIGACAO DA REDE 50MM AO RAMAL PREDIAL 1/2" | C17: 83878 | D17: =VLOOKUP(C17,'SINAPI OUT19+CPOS176'!$A$2:$D$95560,4, 0) -> UN | E17: 1 | G17: =ROUND(E17*F17,2) -> 0 | H17: =IF(K17="",$G$9,$G$8) -> 0.2334 | I17: =ROUND(F17*H17+F17,2) -> 0 | J17: =ROUND(E17*I17,2) -> 0
A18: 1.1.5 | B18: =VLOOKUP(C18,'SINAPI OUT19+CPOS176'!$A$2:$C$95560,3, 0) -> LIGAÇÃO DOMICILIAR DE ESGOTO DN 100MM, DA CASA ATÉ A CAIXA, COMPOSTO POR 10,0M TUBO DE PVC ESGOTO PREDIAL DN 100MM E CAIXA DE ALVENARIA COM TAMPA DE CONCRETO - FORNECIMENTO E INSTALAÇÃO | C18: 73658 | D18: =VLOOKUP(C18,'SINAPI OUT19+CPOS176'!$A$2:$D$95560,4, 0) -> UN | E18: 1 | G18: =ROUND(E18*F18,2) -> 0 | H18: =IF(K18="",$G$9,$G$8) -> 0.2334 | I18: =ROUND(F18*H18+F18,2) -> 0 | J18: =ROUND(E18*I18,2) -> 0
A19: 1.1.6 | B19: =VLOOKUP(C19,'SINAPI OUT19+CPOS176'!$A$2:$C$95560,3, 0) -> PLACA DE OBRA EM CHAPA DE ACO GALVANIZADO | C19: 74209/1 | D19: =VLOOKUP(C19,'SINAPI OUT19+CPOS176'!$A$2:$D$95560,4, 0) -> M2 | E19: 6 | G19: =ROUND(E19*F19,2) -> 0 | H19: =IF(K19="",$G$9,$G$8) -> 0.2334 | I19: =ROUND(F19*H19+F19,2) -> 0 | J19: =ROUND(E19*I19,2) -> 0
B20: SUB-TOTAL | G20: =SUM(G14:G19) -> 0 | J20: =SUM(J14:J19) -> 0
A21: B | B21: REDES DE INTERLIGAÇÃO ENTRE O SISTEMA EXISTENTE E A NOVA EEEB | G21: =G22 -> 0 | J21: =J22 -> 0
A22: 2 | B22: REDES DE INTERLIGAÇÃO ENTRE O SISTEMA EXISTENTE E A NOVA EEEB | G22: =G30+G37+G45+G50+G53+G61+G65 -> 0 | J22: =J30+J37+J45+J50+J53+J61+J65 -> 0
A23: 2.1 | B23: SERVIÇOS PRELIMINARES
A24: 2.1.1 | B24: =VLOOKUP(C24,'SINAPI OUT19+CPOS176'!$A$2:$C$95560,3, 0) -> DEMOLIÇÃO DE PAVIMENTAÇÃO ASFÁLTICA COM UTILIZAÇÃO DE MARTELO PERFURADOR, ESPESSURA ATÉ 15 CM, EXCLUSIVE CARGA E TRANSPORTE | C24: 92970 | D24: =VLOOKUP(C24,'SINAPI OUT19+CPOS176'!$A$2:$D$95560,4, 0) -> M2 | E24: 111.06 | G24: =ROUND(E24*F24,2) -> 0 | H24: =IF(K24="",$G$9,$G$8) -> 0.2334 | I24: =ROUND(F24*H24+F24,2) -> 0 | J24: =ROUND(E24*I24,2) -> 0 | L24: COMPRIMENTO DE COLETOR A SER EXECUTADO NO TRECHO COM ASFALTO EXISTENTE * 2 m DE LARGURA
A25: 2.1.2 | B25: =VLOOKUP(C25,'SINAPI OUT19+CPOS176'!$A$2:$C$95560,3, 0) -> CARGA E DESCARGA MECANIZADAS DE ENTULHO EM CAMINHAO BASCULANTE 6 M3 | C25: 72898 | D25: =VLOOKUP(C25,'SINAPI OUT19+CPOS176'!$A$2:$D$95560,4, 0) -> M3 | E25: =E24*0.15 -> 16.659 | G25: =ROUND(E25*F25,2) -> 0 | H25: =IF(K25="",$G$9,$G$8) -> 0.2334 | I25: =ROUND(F25*H25+F25,2) -> 0 | J25: =ROUND(E25*I25,2) -> 0 | L25: ÁREA TOTAL DEMOLIDA * 15 CM DE ESPESSURA
A26: 2.1.3 | B26: =VLOOKUP(C26,'SINAPI OUT19+CPOS176'!$A$2:$C$95560,3, 0) -> TRANSPORTE DE PAVIMENTACAO REMOVIDA (RODOVIAS NAO URBANAS) | C26: 83358 | D26: =VLOOKUP(C26,'SINAPI OUT19+CPOS176'!$A$2:$D$95560,4, 0) -> M3XKM | E26: =E25*L7 -> 99.954 | G26: =ROUND(E26*F26,2) -> 0 | H26: =IF(K26="",$G$9,$G$8) -> 0.2334 | I26: =ROUND(F26*H26+F26,2) -> 0 | J26: =ROUND(E26*I26,2) -> 0 | L26: VOLUME TOTAL DEMOLIDO * DISTANCIA DO BOTA-FORA
A27: 2.1.4 | B27: =VLOOKUP(C27,'SINAPI OUT19+CPOS176'!$A$2:$C$95560,3, 0) -> LIMPEZA MECANIZADA DE TERRENO COM REMOCAO DE CAMADA VEGETAL, UTILIZANDO MOTONIVELADORA | C27: 73822/2 | D27: =VLOOKUP(C27,'SINAPI OUT19+CPOS176'!$A$2:$D$95560,4, 0) -> M2 | E27: 915.5 | G27: =ROUND(E27*F27,2) -> 0 | H27: =IF(K27="",$G$9,$G$8) -> 0.2334 | I27: =ROUND(F27*H27+F27,2) -> 0 | J27: =ROUND(E27*I27,2) -> 0 | L27: COMPRIMENTO TOTAL DO COLETOR - COMPRIMENTO SOB O ASFALTO EXISTENTE * 3 m DE LARGURA
A28: 2.1.5 | B28: =VLOOKUP(C28,'SINAPI OUT19+CPOS176'!$A$2:$C$95560,3, 0) -> ESPALHAMENTO DE MATERIAL EM BOTA FORA, COM UTILIZACAO DE TRATOR DE ESTEIRAS DE 165 HP | C28: 83344 | D28: =VLOOKUP(C28,'SINAPI OUT19+CPOS176'!$A$2:$D$95560,4, 0) -> M3 | E28: =E27*0.25 -> 228.875 | G28: =ROUND(E28*F28,2) -> 0 | H28: =IF(K28="",$G$9,$G$8) -> 0.2334 | I28: =ROUND(F28*H28+F28,2) -> 0 | J28: =ROUND(E28*I28,2) -> 0 | L28: VOLUME TOTAL DEMOLIDO
A29: 2.1.6 | B29: =VLOOKUP(C29,'SINAPI OUT19+CPOS176'!$A$2:$C$95560,3, 0) -> LOCAÇÃO DE REDE DE ÁGUA OU ESGOTO. AF_10/2018 | C29: 99063 | D29: =VLOOKUP(C29,'SINAPI OUT19+CPOS176'!$A$2:$D$95560,4, 0) -> M | E29: 281.7 | G29: =ROUND(E29*F29,2) -> 0 | H29: =IF(K29="",$G$9,$G$8) -> 0.2334 | I29: =ROUND(F29*H29+F29,2) -> 0 | J29: =ROUND(E29*I29,2) -> 0 | L29: COMPRIMENTO TOTAL DO COLETOR
B30: SUB-TOTAL | G30: =SUM(G24:G29) -> 0 | J30: =SUM(J24:J29) -> 0
A31: 2.2 | B31: RECONSTITUIÇÃO DE ASFALTO
A32: 2.2.1 | B32: =VLOOKUP(C32,'SINAPI OUT19+CPOS176'!$A$2:$C$95560,3, 0) -> EXECUÇÃO E COMPACTAÇÃO DE BASE E OU SUB BASE COM BRITA GRADUADA SIMPLES - EXCLUSIVE CARGA E TRANSPORTE. AF_09/2017 | C32: 96396 | D32: =VLOOKUP(C32,'SINAPI OUT19+CPOS176'!$A$2:$D$95560,4, 0) -> M3 | E32: =E24*0.15 -> 16.659 | G32: =ROUND(E32*F32,2) -> 0 | H32: =IF(K32="",$G$9,$G$8) -> 0.2334 | I32: =ROUND(F32*H32+F32,2) -> 0 | J32: =ROUND(E32*I32,2) -> 0 | L32: ÁREA TOTAL DEMOLIDA * 15 cm DE ESPESSURA DE RECONSTITUIÇÃO
A33: 2.2.2 | B33: =VLOOKUP(C33,'SINAPI OUT19+CPOS176'!$A$2:$C$95560,3, 0) -> TRANSPORTE COMERCIAL DE BRITA | C33: 83356 | D33: =VLOOKUP(C33,'SINAPI OUT19+CPOS176'!$A$2:$D$95560,4, 0) -> M3XKM | E33: =E32*L9 -> 133.272 | G33: =ROUND(E33*F33,2) -> 0 | H33: =IF(K33="",$G$9,$G$8) -> 0.2334 | I33: =ROUND(F33*H33+F33,2) -> 0 | J33: =ROUND(E33*I33,2) -> 0 | L33: VOLUME RECONSTITUÍDO x DISTÂNCIA A PARTIR DA JAZIDA
A34: 2.2.3 | B34: =VLOOKUP(C34,'SINAPI OUT19+CPOS176'!$A$2:$C$95560,3, 0) -> Camada de rolamento em concreto betuminoso usinado quente - CBUQ | C34: 54.03.210 | D34: =VLOOKUP(C34,'SINAPI OUT19+CPOS176'!$A$2:$D$95560,4, 0) -> m³ | E34: 10 | G34: =ROUND(E34*F34,2) -> 0 | H34: =IF(K34="",$G$9,$G$8) -> 0.2334 | I34: =ROUND(F34*H34+F34,2) -> 0 | J34: =ROUND(E34*I34,2) -> 0 | L34: ÁREA TOTAL DEMOLIDA * 5 cm DE ESPESSURA DA CAPA
A35: 2.2.4 | B35: =VLOOKUP(C35,'SINAPI OUT19+CPOS176'!$A$2:$C$95560,3, 0) -> EXECUÇÃO DE IMPRIMAÇÃO COM ASFALTO DILUÍDO CM-30. AF_09/2017 | C35: 96401 | D35: =VLOOKUP(C35,'SINAPI OUT19+CPOS176'!$A$2:$D$95560,4, 0) -> M2 | E35: 400 | G35: =ROUND(E35*F35,2) -> 0 | H35: =IF(K35="",$G$9,$G$8) -> 0.2334 | I35: =ROUND(F35*H35+F35,2) -> 0 | J35: =ROUND(E35*I35,2) -> 0 | L35: ÁREA TOTAL RECONSTITUIDA
A36: 2.2.5 | B36: =VLOOKUP(C36,'SINAPI OUT19+CPOS176'!$A$2:$C$95560,3, 0) -> PINTURA DE LIGACAO COM EMULSAO RR-2C | C36: 72943 | D36: =VLOOKUP(C36,'SINAPI OUT19+CPOS176'!$A$2:$D$95560,4, 0) -> M2 | E36: 400 | G36: =ROUND(E36*F36,2) -> 0 | H36: =IF(K36="",$G$9,$G$8) -> 0.2334 | I36: =ROUND(F36*H36+F36,2) -> 0 | J36: =ROUND(E36*I36,2) -> 0 | L36: ÁREA TOTAL RECONSTITUIDA
B37: SUB-TOTAL | G37: =SUM(G32:G36) -> 0 | J37: =SUM(J32:J36) -> 0
A38: 2.3 | B38: MOVIMENTO DE TERRA
A39: 2.3.1 | B39: =VLOOKUP(C39,'SINAPI OUT19+CPOS176'!$A$2:$C$95560,3, 0) -> ESCAVAÇÃO MECANIZADA DE VALA COM PROF. MAIOR QUE 3,0 M ATÉ 4,5 M(MÉDIA ENTRE MONTANTE E JUSANTE/UMA COMPOSIÇÃO POR TRECHO), COM ESCAVADEIRA HIDRÁULICA (0,8 M3/111 HP), LARG. MENOR QUE 1,5 M, EM SOLO DE 1A CATEGORIA, EM LOCAIS COM ALTO NÍVEL DE INTERFERÊNCIA. AF_01/2015 | C39: 90086 | D39: =VLOOKUP(C39,'SINAPI OUT19+CPOS176'!$A$2:$D$95560,4, 0) -> M3 | E39: =E29*2*1.2 -> 676.08 | G39: =ROUND(E39*F39,2) -> 0 | H39: =IF(K39="",$G$9,$G$8) -> 0.2334 | I39: =ROUND(F39*H39+F39,2) -> 0 | J39: =ROUND(E39*I39,2) -> 0 | L39: COMPRIMENTO TOTAL DO COLETOR * ALTURA MÉDIA DA VALA * LARGURA DA VALA
A40: 2.3.2 | B40: =VLOOKUP(C40,'SINAPI OUT19+CPOS176'!$A$2:$C$95560,3, 0) -> REATERRO MANUAL DE VALAS COM COMPACTAÇÃO MECANIZADA. AF_04/2016 | C40: 93382 | D40: =VLOOKUP(C40,'SINAPI OUT19+CPOS176'!$A$2:$D$95560,4, 0) -> M3 | E40: =E39*0.15 -> 101.412 | G40: =ROUND(E40*F40,2) -> 0 | H40: =IF(K40="",$G$9,$G$8) -> 0.2334 | I40: =ROUND(F40*H40+F40,2) -> 0 | J40: =ROUND(E40*I40,2) -> 0 | L40: PARCELA DE REATERRO MANUAL ACIMA DA TUBULAÇÃO (15 cm) COM COMPACTAÇÃO MECANIZADA
...

Sheet CRONOCRAMA FÍSICO FINANC
A1: CRONOGRAMA FÍSICO-FINANCEIRO - REDES DE INTERLIGAÇÃO E NOVA EEEB PARAÍSO - SERTÃOZINHO/SP
A2: DATA BASE: SINAPI OUT/2019 e CPOS 176 | I2: BDI - MATERIAL | J2: ='planilha EEE ORC. JD PARAÍSO'!$G$8 -> 0.1785
I3: BDI - SERVIÇOS | J3: ='planilha EEE ORC. JD PARAÍSO'!$G$9 -> 0.2334 | N3: =#REF!*2.5% -> #REF!
A4: CRONOGRAMA FISICO-FINANCEIRO
A5: ITEM | B5: DESCRIÇÃO DOS SERVIÇOS | C5: DURAÇÃO (MESES) | E5: TOTAL | F5: MÊS 1 | G5: MÊS 2 | H5: MÊS 3 | I5: MÊS 4 | J5: MÊS 5
A6: 1 | B6: ='planilha EEE ORC. JD PARAÍSO'!B12 -> SERVIÇOS GERAIS
A7: ='planilha EEE ORC. JD PARAÍSO'!A13 -> 1.1 | B7: ='planilha EEE ORC. JD PARAÍSO'!B13 -> GERAL | C7: 5 | D7: Total | E7: ='planilha EEE ORC. JD PARAÍSO'!$J$20 -> 0
F8: =E7/C7 -> 0 | G8: =F8 -> 0 | H8: =G8 -> 0 | I8: =H8 -> 0 | J8: =I8 -> 0
A10: 2 | B10: ='planilha EEE ORC. JD PARAÍSO'!$B$22 -> REDES DE INTERLIGAÇÃO ENTRE O SISTEMA EXISTENTE E A NOVA EEEB
A11: 2.1 | B11: ='planilha EEE ORC. JD PARAÍSO'!$B$23 -> SERVIÇOS PRELIMINARES | C11: 1 | D11: Total | E11: ='planilha EEE ORC. JD PARAÍSO'!$J$30 -> 0
F12: =E11/C11 -> 0
A14: 2.2 | B14: ='planilha EEE ORC. JD PARAÍSO'!$B$31 -> RECONSTITUIÇÃO DE ASFALTO | C14: 2 | D14: Total | E14: ='planilha EEE ORC. JD PARAÍSO'!$J$37 -> 0
F15: =E14/C14 -> 0 | G15: =F15 -> 0
A17: 2.3 | B17: ='planilha EEE ORC. JD PARAÍSO'!$B$38 -> MOVIMENTO DE TERRA | C17: 3 | D17: Total | E17: ='planilha EEE ORC. JD PARAÍSO'!$J$45 -> 0
F18: =E17/C17 -> 0 | G18: =F18 -> 0 | H18: =G18 -> 0
A20: 2.4 | B20: ='planilha EEE ORC. JD PARAÍSO'!$B$46 -> EMBASAMENTO | C20: 2 | D20: Total | E20: ='planilha EEE ORC. JD PARAÍSO'!$J$50 -> 0
G21: =E20/C20 -> 0 | H21: =G21 -> 0
A23: 2.5 | B23: ='planilha EEE ORC. JD PARAÍSO'!$B$51 -> ESCORAMENTO | C23: 2 | D23: Total | E23: ='planilha EEE ORC. JD PARAÍSO'!$J$53 -> 0
G24: =E23/C23 -> 0 | H24: =G24 -> 0
A26: 2.6 | B26: ='planilha EEE ORC. JD PARAÍSO'!$B$54 -> HIDRÁULICA | C26: 2 | D26: Total | E26: ='planilha EEE ORC. JD PARAÍSO'!$J$61 -> 0
G27: =E26/C26 -> 0 | H27: =G27 -> 0
A29: 2.7 | B29: ='planilha EEE ORC. JD PARAÍSO'!$B$62 -> PV's | C29: 2 | D29: Total | E29: ='planilha EEE ORC. JD PARAÍSO'!$J$65 -> 0
G30: =E29/C29 -> 0 | H30: =G30 -> 0
A32: 3 | B32: ='planilha EEE ORC. JD PARAÍSO'!B67 -> ESTAÇÃO ELEVATÓRIA DE ESGOTO BRUTO JARDIM PARAÍSO
A33: 3.1 | B33: ='planilha EEE ORC. JD PARAÍSO'!B68 -> SERVIÇOS PRELIMINARES | C33: 1 | D33: Total | E33: ='planilha EEE ORC. JD PARAÍSO'!$J$71 -> 0
F34: =E33/C33 -> 0
A36: 3.2 | B36: ='planilha EEE ORC. JD PARAÍSO'!B72 -> MOVIMENTO DE TERRA | C36: 2 | D36: Total | E36: ='planilha EEE ORC. JD PARAÍSO'!$J$78 -> 0
F37: =E36/C36 -> 0 | G37: =F37 -> 0
A39: 3.3 | B39: ='planilha EEE ORC. JD PARAÍSO'!B79 -> ESGOTAMENTO | C39: 3 | D39: Total | E39: ='planilha EEE ORC. JD PARAÍSO'!J82 -> 0
F40: =E39/C39 -> 0 | G40: =F40 -> 0 | H40: =G40 -> 0
A42: 3.4 | B42: ='planilha EEE ORC. JD PARAÍSO'!B83 -> ESTRUTURAS PV DE ENTRADA | C42: 2 | D42: Total | E42: ='planilha EEE ORC. JD PARAÍSO'!$J$91 -> 0
G43: =E42/C42 -> 0 | H43: =G43 -> 0
A45: 3.5 | B45: ='planilha EEE ORC. JD PARAÍSO'!B92 -> ESTRUTURAS POÇO DE GRADEAMENTO | C45: 2 | D45: Total | E45: ='planilha EEE ORC. JD PARAÍSO'!$J$100 -> 0
G46: =E45/C45 -> 0 | H46: =G46 -> 0
A48: 3.6 | B48: ='planilha EEE ORC. JD PARAÍSO'!$B$101 -> ESTRUTURAS POÇO DE SUCÇÃO | C48: 2 | D48: Total | E48: ='planilha EEE ORC. JD PARAÍSO'!$J$107 -> 0
G49: =E48/C48 -> 0 | H49: =G49 -> 0
A51: 3.7 | B51: ='planilha EEE ORC. JD PARAÍSO'!$B$108 -> ESTRUTURAS CAIXA DO BARRILETE | C51: 2 | D51: Total | E51: ='planilha EEE ORC. JD PARAÍSO'!$J$115 -> 0
G52: =E51/C51 -> 0 | H52: =G52 -> 0
A54: 3.8 | B54: ='planilha EEE ORC. JD PARAÍSO'!$B$116 -> ESTRUTURAS TANQUE DE ACUMULAÇÃO | C54: 2 | D54: Total | E54: ='planilha EEE ORC. JD PARAÍSO'!$J$122 -> 0
G55: =E54/C54 -> 0 | H55: =G55 -> 0
...

Sheet SINAPI OUT19+CPOS176
C2: CPOS - COMPANHIA PAULISTA DE OBRAS E SERVIÇOS
C3: RELATÓRIO DE INSUMOS
E4: VERSÃO 176
E5: Vigência: a partir de 01/07/19
A7: Referência | C7: Descrição do Insumo | D7: Unidade | E7: Custo (R$)
A8: A.02.000.070107 | C8: Impressão colorida em papel sulfite A4 | D8: un | E8: 1.48
A9: A.02.000.070108 | C9: Encadernação espiral até 100 folhas | D9: un | E9: 5.08
A10: A.03.000.022111 | C10: Taxa de mobilização e desmobilização de equipamentos para execução de estacas escavadas com injeção ou microestaca | D10: tx | E10: 14145.33
A11: A.04.000.098083 | C11: Taxa de mobilização e desmobilização de equipamentos para execução de rebaixamento de lençol freático | D11: tx | E11: 6106.65
A12: A.04.000.098084 | C12: Locação de conjunto de bombeamento a vácuo para rebaixamento de lençol freático, com até 50 ponteiras e potência até 15HP mínimo 30 dias | D12: cjxdia | E12: 559.01
A13: A.04.000.098085 | C13: Ponteiras filtrantes até 5,0m instaladas | D13: un | E13: 346.03
A14: A.05.000.020299 | C14: Taxa de destinação de residuo sólido em aterro; tipo inerte | D14: t | E14: 33.53
A15: A.05.000.020300 | C15: Taxa de destinação de residuo sólido em aterro, tipo gesso | D15: t | E15: 66.21
A16: A.05.000.020301 | C16: Taxa de destinação de residuo sólido em aterro, tipo vidro | D16: t | E16: 44.23
A17: A.05.000.020302 | C17: Taxa de destinação de residuo sólido em aterro, tipo madeira | D17: t | E17: 81.36
A18: A.05.000.020303 | C18: Taxa de destinação de residuo sólido em aterro, tipo papel | D18: t | E18: 23.33
A19: A.05.000.020304 | C19: Taxa de destinação de residuo sólido em aterro, tipo plástico | D19: t | E19: 16.67
... A3602: S.06.000.011702 | C3602: Escoramento com estacas pranchas metálicas - profundidade até 8,00 m | D3602: m² | E3602: 154.12
C3608: CPOS - COMPANHIA PAULISTA DE OBRAS E SERVIÇOS
C3609: BOLETIM REFERENCIAL DE CUSTOS - TABELA DE SERVIÇOS
C3614: BOLETIM REFERENCIAL DE CUSTOS - TABELA DE SERVIÇOS
C3615: COM DESONERAÇÃO (DESONERADO)
E3616: VERSÃO 176
E3617: Vigência: a partir de 01/07/19
D3618: BDI : 0,00 % | E3618: L.S.: 96,21 %
A3619: Referência | B3619: Descrição | D3619: Un | E3619: Custo Total
A3620: 01 | B3620: SERVIÇO TÉCNICO ESPECIALIZADO
A3621: 01.02 | B3621: Parecer técnico
A3622: 01.02.071 | C3622: Parecer técnico de fundações, contenções e recomendações gerais, para empreendimentos com área construída até 1.000 m² | D3622: un | E3622: 4023.38
A3623: 01.02.081 | C3623: Parecer técnico de fundações, contenções e recomendações gerais, para empreendimentos com área construída de 1.001 a 2.000 m² | D3623: un | E3623: 5350.31
A3624: 01.02.091 | C3624: Parecer técnico de fundações, contenções e recomendações gerais, para empreendimentos com área construída de 2.001 a 5.000 m² | D3624: un | E3624: 9139.52
A3625: 01.02.101 | C3625: Parecer técnico de fundações, contenções e recomendações gerais, para empreendimentos com área construída de 5.001 a 10.000 m² | D3625: un | E3625: 12531.36
A3626: 01.02.111 | C3626: Parecer técnico de fundações, contenções e recomendações gerais, para empreendimentos com área construída acima de 10.000 m² | D3626: un | E3626: 14603.35
A3627: 01.06 | B3627: Projeto de instalações elétricas
A3628: 01.06.021 | C3628: Elaboração de projeto de adequação de entrada de energia elétrica junto a concessionária, com medição em baixa tensão e demanda até 75 KVA | D3628: un | E3628: 4864.24
A3629: 01.06.031 | C3629: Elaboração de projeto de adequação de entrada de energia elétrica junto a concessionária, com medição em média tensão, subestação simplificada e demanda de 75 kVA a 300 kVA | D3629: un | E3629: 8225.96
A3630: 01.06.032 | C3630: Elaboração de projeto de adequação de entrada de energia elétrica junto a concessionária, com medição em média tensão e demanda de 75 kVA a 300 kVA | D3630: un | E3630: 11142.56
A3631: 01.06.041 | C3631: Elaboração de projeto de adequação de entrada de energia elétrica junto a concessionária, com medição em média tensão e demanda acima de 300 kVA a 2 MVA | D3631: un | E3631: 14828.4
A3632: 01.17 | B3632: Projeto executivo
A3633: 01.17.031 | C3633: Projeto executivo de arquitetura em formato A1 | D3633: un | E3633: 2001.29
...
