Workbook

Sheet ORC.GENTIL MORENO
A1: PLANILHA ORÇAMENTÁRIA DRENAGEM REGIÃO DA RUA GENTIL MORENO - SERTÃOZINHO/SP | I1: Data: | J1: 43860
A2: ITEM | G2: S/ BDI | J2: C/ BDI
A3: A | B3: SERVIÇOS GERAIS | G3: =G13 -> 0 | J3: =J9 -> 0 | L3: Distância Bota Fora: | M3: 6 | N3: km | P3: ADM | Q3: =#REF!/J5 -> #REF! | R3: <3%
A4: B | B4: =B14 -> DRENAGEM REGIÃO DA RUA GENTIL MORENO | G4: =G14 -> 0 | J4: =J14 -> 0 | L4: Distância Jazida: | M4: 8 | N4: km | P4: PROJTEC | Q4: =#REF!/#REF! -> #REF! | R4: >2,5%
B5: TOTAL DA OBRA | G5: =SUM(G3:G4) -> 0 | J5: =SUM(J3:J4) -> 0 | K5: 1.2467863 | L5: Distância Usina de Asfalto: | M5: 15 | N5: km
A6: DATA BASE: SINAPI DEZEMBRO/2019 | F6: BDI - MATERIAL | G6: 0.196 | H6: BDI conforme acórdão 2369/2011
F7: BDI - SERVIÇOS | G7: 0.2334 | Q7: =#REF!*2.5% -> #REF!
A8: ITEM | B8: DESCRIÇÃO | C8: CÓDIGO | D8: UNID. | E8: QTDE. | F8: CUSTO UNITÁRIO (SEM BDI) - R$ | G8: CUSTO TOTAL R$ | H8: % BDI | I8: PREÇO UNITÁRIO C/ BDI (R$) | J8: PREÇO TOTAL C/ BDI (R$) | K8: MATERIAL TUBULAR OU EQUIP. ESPECIAL | Q8: =Q7/1.294 -> #REF!
A9: A | B9: SERVIÇOS GERAIS | G9: =SUM(G10) -> 0 | J9: =SUM(J10) -> 0 | Q9: 1860836.2
A10: 1 | B10: SERVIÇOS GERAIS | G10: =SUM(G13) -> 0 | J10: =SUM(J13) -> 0 | Q10: =Q9-J5 -> 1860836.2
A11: 1.1 | B11: GERAL
A12: 1.1.1 | B12: PLACA DE OBRA EM CHAPA DE ACO GALVANIZADO | C12: 74209/001 | D12: M2 | E12: 18 | G12: =ROUND(E12*F12,2) -> 0 | H12: =IF(K12="",$G$7,$G$6) -> 0.2334 | I12: =ROUND(F12*H12+F12,2) -> 0 | J12: =ROUND(E12*I12,2) -> 0
B13: SUB-TOTAL | G13: =SUM(G12:G12) -> 0 | J13: =SUM(J12:J12) -> 0
A14: B | B14: DRENAGEM REGIÃO DA RUA GENTIL MORENO | G14: =G15 -> 0 | J14: =J15 -> 0
A15: 2 | B15: MICRODRENAGEM | G15: =G22+G32+G35+G40+G48+G56+G59+G68+G82+G93 -> 0 | J15: =J22+J32+J35+J40+J48+J56+J59+J68+J82+J93 -> 0
A16: 2.1 | B16: SERVIÇOS PRELIMINARES
A17: 2.1.1 | B17: LIMPEZA MECANIZADA DE TERRENO COM REMOCAO DE CAMADA VEGETAL, UTILIZAND O MOTONIVELADORA | C17: 73822/002 | D17: M2 | E17: 362.43 | G17: =ROUND(E17*F17,2) -> 0 | H17: =IF(K17="",$G$7,$G$6) -> 0.2334 | I17: =ROUND(F17*H17+F17,2) -> 0 | J17: =ROUND(E17*I17,2) -> 0
A18: 2.1.2 | B18: LOCACAO E NIVELAMENTO DE EMISSARIO/REDE COLETORA COM AUXILIO DE EQUIPA MENTO TOPOGRAFICO | C18: 99063 | D18: M | E18: 2136.88 | G18: =ROUND(E18*F18,2) -> 0 | H18: =IF(K18="",$G$7,$G$6) -> 0.2334 | I18: =ROUND(F18*H18+F18,2) -> 0 | J18: =ROUND(E18*I18,2) -> 0
A19: 2.1.3 | B19: PASSADICOS COM TABUAS DE MADEIRA PARA PEDESTRES | C19: 74219/001 | D19: M2 | E19: 20 | G19: =ROUND(E19*F19,2) -> 0 | H19: =IF(K19="",$G$7,$G$6) -> 0.2334 | I19: =ROUND(F19*H19+F19,2) -> 0 | J19: =ROUND(E19*I19,2) -> 0
A20: 2.1.4 | B20: PASSADICOS COM TABUAS DE MADEIRA PARA VEICULOS | C20: 74219/002 | D20: M2 | E20: 60 | G20: =ROUND(E20*F20,2) -> 0 | H20: =IF(K20="",$G$7,$G$6) -> 0.2334 | I20: =ROUND(F20*H20+F20,2) -> 0 | J20: =ROUND(E20*I20,2) -> 0
A21: 2.1.5 | B21: SINALIZAÇÃO LUMINOSA PARA OBRAS | C21: 74221/001 | D21: M | E21: 1680.43 | G21: =ROUND(E21*F21,2) -> 0 | H21: =IF(K21="",$G$7,$G$6) -> 0.2334 | I21: =ROUND(F21*H21+F21,2) -> 0 | J21: =ROUND(E21*I21,2) -> 0
B22: SUB-TOTAL | G22: =SUM(G17:G21) -> 0 | J22: =SUM(J17:J21) -> 0
A23: 2.2 | B23: MOVIMENTO DE TERRA
A24: 2.2.1 | B24: ESCAVAÇÃO MECANIZADA DE VALA COM PROF. ATÉ 1,5 M (MÉDIA ENTRE MONTANTE E JUSANTE/UMA COMPOSIÇÃO POR TRECHO), COM ESCAVADEIRA HIDRÁULICA (0,8 M3/111 HP), LARG. DE 1,5 M A 2,5 M, EM SOLO DE 1A CATEGORIA, EM LOCAI S COM ALTO NÍVEL DE INTERFERÊNCIA. AF_01/2015 | C24: 90082 | D24: M3 | E24: 3692.57 | G24: =ROUND(E24*F24,2) -> 0 | H24: =IF(K24="",$G$7,$G$6) -> 0.2334 | I24: =ROUND(F24*H24+F24,2) -> 0 | J24: =ROUND(E24*I24,2) -> 0
A25: 2.2.2 | B25: ESCAVACAO MECANICA DE VALA EM MATERIAL 2A. CATEGORIA ATE 6,00 M DE PROFUNDIDADE COM UTILIZACAO DE ESCAVADEIRA HIDRAULICA | C25: 72918 | D25: M3 | E25: 3089.54 | G25: =ROUND(E25*F25,2) -> 0 | H25: =IF(K25="",$G$7,$G$6) -> 0.2334 | I25: =ROUND(F25*H25+F25,2) -> 0 | J25: =ROUND(E25*I25,2) -> 0
A26: 2.2.3 | B26: CARGA E DESCARGA MECANICA DE SOLO UTILIZANDO CAMINHAO BASCULANTE 6,0M3 /16T E PA CARREGADEIRA SOBRE PNEUS 128 HP, CAPACIDADE DA CAÇAMBA 1,7 A 2,8 M3, PESO OPERACIONAL 11632 KG | C26: 74010/001 | D26: M3 | E26: 1602.46 | G26: =ROUND(E26*F26,2) -> 0 | H26: =IF(K26="",$G$7,$G$6) -> 0.2334 | I26: =ROUND(F26*H26+F26,2) -> 0 | J26: =ROUND(E26*I26,2) -> 0
A27: 2.2.4 | B27: TRANSPORTE LOCAL COM CAMINHAO BASCULANTE 6 M3, RODOVIA PAVIMENTADA ( PARA DISTANCIAS SUPERIORES A 4 KM ) | C27: 97914 | D27: M3XKM | E27: 6524.9 | G27: =ROUND(E27*F27,2) -> 0 | H27: =IF(K27="",$G$7,$G$6) -> 0.2334 | I27: =ROUND(F27*H27+F27,2) -> 0 | J27: =ROUND(E27*I27,2) -> 0
A28: 2.2.5 | B28: ESPALHAMENTO DE MATERIAL EM BOTA FORA, COM UTILIZACAO DE TRATOR DE EST EIRAS DE 165 HP | C28: 100574 | D28: M3 | E28: 1304.98 | G28: =ROUND(E28*F28,2) -> 0 | H28: =IF(K28="",$G$7,$G$6) -> 0.2334 | I28: =ROUND(F28*H28+F28,2) -> 0 | J28: =ROUND(E28*I28,2) -> 0
A29: 2.2.6 | B29: REATERRO MECANIZADO DE VALA COM ESCAVADEIRA HIDRÁULICA (CAPACIDADE DA CAÇAMBA: 0,8 M³ / POTÊNCIA: 111 HP), LARGURA ATÉ 1,5 M, PROFUNDIDADE D E 1,5 A 3,0 M, COM SOLO (SEM SUBSTITUIÇÃO) DE 1ª CATEGORIA EM LOCAIS C OM ALTO NÍVEL DE INTERFERÊNCIA. AF_04/2016 | C29: 93361 | D29: M3 | E29: 5477.92 | G29: =ROUND(E29*F29,2) -> 0 | H29: =IF(K29="",$G$7,$G$6) -> 0.2334 | I29: =ROUND(F29*H29+F29,2) -> 0 | J29: =ROUND(E29*I29,2) -> 0
A30: 2.2.7 | B30: DEPOSIÇÃO DE ENTULHO P/ RCC CADASTRADO NA CIDADE | C30: LOCAL | D30: TON | E30: 475.97 | G30: =ROUND(E30*F30,2) -> 0 | H30: =IF(K30="",$G$7,$G$6) -> 0.2334 | I30: =ROUND(F30*H30+F30,2) -> 0 | J30: =ROUND(E30*I30,2) -> 0
A31: 2.2.8 | B31: TRANSPORTE LOCAL COM CAMINHAO BASCULANTE 6 M3, RODOVIA PAVIMENTADA ( PARA DISTANCIAS SUPERIORES A 4 KM ) DO ENTULHO AO RCC CADASTRADO | C31: 97914 | D31: M3XKM | E31: 1933.62 | G31: =ROUND(E31*F31,2) -> 0 | H31: =IF(K31="",$G$7,$G$6) -> 0.2334 | I31: =ROUND(F31*H31+F31,2) -> 0 | J31: =ROUND(E31*I31,2) -> 0
B32: SUB-TOTAL | G32: =SUM(G24:G31) -> 0 | J32: =SUM(J24:J31) -> 0
A33: 2.3 | B33: EMBASAMENTO
A34: 2.3.1 | B34: FORNECIMENTO E LANCAMENTO DE BRITA N. 4 | C34: 0282 | D34: M3 | E34: 378.71 | G34: =ROUND(E34*F34,2) -> 0 | H34: =IF(K34="",$G$7,$G$6) -> 0.2334 | I34: =ROUND(F34*H34+F34,2) -> 0 | J34: =ROUND(E34*I34,2) -> 0
B35: SUB-TOTAL | G35: =SUM(G34:G34) -> 0 | J35: =SUM(J34:J34) -> 0
A36: 2.4 | B36: ESCORAMENTO
A37: 2.4.1 | B37: ESCORAMENTO DE VALA, TIPO PONTALETEAMENTO, COM PROFUNDIDADE DE 1,5 A 3 ,0 M, LARGURA MAIOR OU IGUAL A 1,5 M E MENOR QUE 2,5 M, EM LOCAL COM N ÍVEL ALTO DE INTERFERÊNCIA. AF_06/2016 | C37: 94041 | D37: M2 | E37: 1713.55 | G37: =ROUND(E37*F37,2) -> 0 | H37: =IF(K37="",$G$7,$G$6) -> 0.2334 | I37: =ROUND(F37*H37+F37,2) -> 0 | J37: =ROUND(E37*I37,2) -> 0
A38: 2.4.2 | B38: ESCORAMENTO DE VALA, TIPO DESCONTÍNUO, COM PROFUNDIDADE DE 1,5 A 3,0 M , LARGURA MAIOR OU IGUAL A 1,5 M E MENOR QUE 2,5 M, EM LOCAL COM NÍVEL ALTO DE INTERFERÊNCIA. AF_06/2016 | C38: 94052 | D38: M2 | E38: 839 | G38: =ROUND(E38*F38,2) -> 0 | H38: =IF(K38="",$G$7,$G$6) -> 0.2334 | I38: =ROUND(F38*H38+F38,2) -> 0 | J38: =ROUND(E38*I38,2) -> 0
A39: 2.4.3 | B39: ESCORAMENTO CONTINUO DE VALAS, MISTO, COM PERFIL I DE 8" | C39: 83770 | D39: M2 | E39: 435 | G39: =ROUND(E39*F39,2) -> 0 | H39: =IF(K39="",$G$7,$G$6) -> 0.2334 | I39: =ROUND(F39*H39+F39,2) -> 0 | J39: =ROUND(E39*I39,2) -> 0
B40: SUB-TOTAL | G40: =SUM(G37:G39) -> 0 | J40: =SUM(J37:J39) -> 0
A41: 2.5 | B41: HIDRÁULICA
A42: 2.5.1 | B42: TUBO CONCRETO ARMADO, CLASSE PA-1, PB, DN 400 MM, PARA AGUAS PLUVIAIS (NBR 8890) | C42: 7745 | D42: M | E42: 247 | G42: =ROUND(E42*F42,2) -> 0 | H42: =IF(K42="",$G$7,$G$6) -> 0.196 | I42: =ROUND(F42*H42+F42,2) -> 0 | J42: =ROUND(E42*I42,2) -> 0 | K42: *
A43: 2.5.2 | B43: TUBO CONCRETO ARMADO, CLASSE PA-2, PB, DN 800 MM, PARA AGUAS PLUVIAIS (NBR 8890) | C43: 7763 | D43: M | E43: 189.6 | G43: =ROUND(E43*F43,2) -> 0 | H43: =IF(K43="",$G$7,$G$6) -> 0.196 | I43: =ROUND(F43*H43+F43,2) -> 0 | J43: =ROUND(E43*I43,2) -> 0 | K43: *
A44: 2.5.3 | B44: TUBO CONCRETO ARMADO, CLASSE PA-2, PB, DN 1200 MM, PARA AGUAS PLUVIAIS (NBR 8890) | C44: 7766 | D44: M | E44: 856 | G44: =ROUND(E44*F44,2) -> 0 | H44: =IF(K44="",$G$7,$G$6) -> 0.196 | I44: =ROUND(F44*H44+F44,2) -> 0 | J44: =ROUND(E44*I44,2) -> 0 | K44: *
A45: 2.5.4 | B45: ASSENTAMENTO DE TUBO DE CONCRETO PARA REDES COLETORAS DE ÁGUAS PLUVIAI S, DIÂMETRO DE 400 MM, JUNTA RÍGIDA, INSTALADO EM LOCAL COM BAIXO NÍVE L DE INTERFERÊNCIAS (NÃO INCLUI FORNECIMENTO). AF_12/2015 | C45: 92809 | D45: M | E45: 247 | G45: =ROUND(E45*F45,2) -> 0 | H45: =IF(K45="",$G$7,$G$6) -> 0.2334 | I45: =ROUND(F45*H45+F45,2) -> 0 | J45: =ROUND(E45*I45,2) -> 0
A46: 2.5.5 | B46: ASSENTAMENTO DE TUBO DE CONCRETO PARA REDES COLETORAS DE ÁGUAS PLUVIAI S, DIÂMETRO DE 800 MM, JUNTA RÍGIDA, INSTALADO EM LOCAL COM BAIXO NÍVE L DE INTERFERÊNCIAS (NÃO INCLUI FORNECIMENTO). AF_12/2015 | C46: 92813 | D46: M | E46: 189.6 | G46: =ROUND(E46*F46,2) -> 0 | H46: =IF(K46="",$G$7,$G$6) -> 0.2334 | I46: =ROUND(F46*H46+F46,2) -> 0 | J46: =ROUND(E46*I46,2) -> 0
A47: 2.5.6 | B47: ASSENTAMENTO DE TUBO DE CONCRETO PARA REDES COLETORAS DE ÁGUAS PLUVIAI S, DIÂMETRO DE 1200 MM, JUNTA RÍGIDA, INSTALADO EM LOCAL COM BAIXO NÍV EL DE INTERFERÊNCIAS (NÃO INCLUI FORNECIMENTO). AF_12/2015 | C47: 92817 | D47: M | E47: 856 | G47: =ROUND(E47*F47,2) -> 0 | H47: =IF(K47="",$G$7,$G$6) -> 0.2334 | I47: =ROUND(F47*H47+F47,2) -> 0 | J47: =ROUND(E47*I47,2) -> 0
B48: SUB-TOTAL | G48: =SUM(G42:G47) -> 0 | J48: =SUM(J42:J47) -> 0
A49: 2.6 | B49: PV's
A50: 2.6.1 | B50: TAMPAO FOFO SIMPLES COM BASE, CLASSE D400 CARGA MAX 40 T, REDONDO TAMPA 600 MM, REDE PLUVIAL/ESGOTO | C50: 6240 | D50: UN | E50: 19 | G50: =ROUND(E50*F50,2) -> 0 | H50: =IF(K50="",$G$7,$G$6) -> 0.196 | I50: =ROUND(F50*H50+F50,2) -> 0 | J50: =ROUND(E50*I50,2) -> 0 | K50: *
A51: 2.6.2 | B51: ASSENTAMENTO DE TAMPAO DE FERRO FUNDIDO 600 MM | C51: 73607 | D51: UN | E51: 19 | G51: =ROUND(E51*F51,2) -> 0 | H51: =IF(K51="",$G$7,$G$6) -> 0.2334 | I51: =ROUND(F51*H51+F51,2) -> 0 | J51: =ROUND(E51*I51,2) -> 0
A52: 2.6.3 | B52: BASE P/ POÇO DE VISITA CIRCULAR P/ DRENAGEM EM ALVENARIA COM TIJOLO MACIÇO, DIAMETRO INTERNO 1 METRO, EXCLUINDO TAMPÃO | C52: 99292 | D52: UN | E52: 6 | G52: =ROUND(E52*F52,2) -> 0 | H52: =IF(K52="",$G$7,$G$6) -> 0.2334 | I52: =ROUND(F52*H52+F52,2) -> 0 | J52: =ROUND(E52*I52,2) -> 0
A53: 2.6.4 | B53: BASE P/ POÇO DE VISITA RETANGULAR P/ DRENAGEM EM ALVENARIA COM BLOCOS DE CONCRETO, DIMENSÃO DE 2x2 METROS INTERNO, EXCLUINDO TAMPÃO | C53: 99301 | D53: UN | E53: 13 | G53: =ROUND(E53*F53,2) -> 0 | H53: =IF(K53="",$G$7,$G$6) -> 0.2334 | I53: =ROUND(F53*H53+F53,2) -> 0 | J53: =ROUND(E53*I53,2) -> 0
A54: 2.6.5 | B54: ACRÉSCIMO P/ POÇO DE VISITA CIRCULAR P/ DRENAGEM, EM ALVENARIA COM TIJOLOS MACIÇOS, DIAMETRO INTERNO 1,20 METROS | C54: 99243 | D54: M | E54: 45.5 | G54: =ROUND(E54*F54,2) -> 0 | H54: =IF(K54="",$G$7,$G$6) -> 0.2334 | I54: =ROUND(F54*H54+F54,2) -> 0 | J54: =ROUND(E54*I54,2) -> 0
A55: 2.6.6 | B55: CHAMINE P/ POCO DE VISITA EM ALVENARIA, EXCLUSOS TAMPAO E ANEL | C55: 99319 | D55: M | E55: 19 | G55: =ROUND(E55*F55,2) -> 0 | H55: =IF(K55="",$G$7,$G$6) -> 0.2334 | I55: =ROUND(F55*H55+F55,2) -> 0 | J55: =ROUND(E55*I55,2) -> 0
B56: SUB-TOTAL | G56: =SUM(G50:G55) -> 0 | J56: =SUM(J50:J55) -> 0
A57: 2.7 | B57: BOCAS DE LOBO
A58: 2.7.1 | B58: BOCA DE LOBO EM ALVENARIA TIJOLO MACICO, REVESTIDA C/ ARGAMASSA DE CIM ENTO E AREIA 1:3, SOBRE LASTRO DE CONCRETO 10CM E TAMPA DE CONCRETO AR MADO | C58: 83659 | D58: UN | E58: 38 | G58: =ROUND(E58*F58,2) -> 0 | H58: =IF(K58="",$G$7,$G$6) -> 0.2334 | I58: =ROUND(F58*H58+F58,2) -> 0 | J58: =ROUND(E58*I58,2) -> 0
B59: SUB-TOTAL | G59: =SUM(G58:G58) -> 0 | J59: =SUM(J58:J58) -> 0
A60: 2.8 | B60: MURO DE ALA - 1 Unid. (DN1500)
A61: 2.8.1 | B61: FORNECIMENTO E LANCAMENTO DE PEDRA DE MAO | C61: 6454 | D61: M3 | E61: 0.46 | G61: =ROUND(E61*F61,2) -> 0 | H61: =IF(K61="",$G$7,$G$6) -> 0.2334 | I61: =ROUND(F61*H61+F61,2) -> 0 | J61: =ROUND(E61*I61,2) -> 0
A62: 2.8.2 | B62: CONCRETO FCK = 25MPA, TRAÇO 1:2,3:2,7 (CIMENTO/ AREIA MÉDIA/ BRITA 1) - PREPARO MECÂNICO COM BETONEIRA 600 L. AF_07/2016 | C62: 94971 | D62: M3 | E62: 4.34 | G62: =ROUND(E62*F62,2) -> 0 | H62: =IF(K62="",$G$7,$G$6) -> 0.2334 | I62: =ROUND(F62*H62+F62,2) -> 0 | J62: =ROUND(E62*I62,2) -> 0
A63: 2.8.3 | B63: LANCAMENTO/APLICACAO MANUAL DE CONCRETO EM FUNDACOES | C63: 74157/004 | D63: M3 | E63: 4.34 | G63: =ROUND(E63*F63,2) -> 0 | H63: =IF(K63="",$G$7,$G$6) -> 0.2334 | I63: =ROUND(F63*H63+F63,2) -> 0 | J63: =ROUND(E63*I63,2) -> 0
A64: 2.8.4 | B64: FORMA TABUA PARA CONCRETO EM FUNDACAO, C/ REAPROVEITAMENTO 2X. | C64: 5970 | D64: M2 | E64: 26.97 | G64: =ROUND(E64*F64,2) -> 0 | H64: =IF(K64="",$G$7,$G$6) -> 0.2334 | I64: =ROUND(F64*H64+F64,2) -> 0 | J64: =ROUND(E64*I64,2) -> 0
A65: 2.8.5 | B65: ARMAÇÃO DE FUNDAÇÕES E ESTRUTURAS DE CONCRETO ARMADO, EXCETO VIGAS, PI LARES E LAJES (DE EDIFÍCIOS DE MÚLTIPLOS PAVIMENTOS, EDIFICAÇÃO TÉRREA OU SOBRADO), UTILIZANDO AÇO CA-50 DE 8.0 MM - MONTAGEM. AF_12/2015 | C65: 92917 | D65: KG | E65: 313 | G65: =ROUND(E65*F65,2) -> 0 | H65: =IF(K65="",$G$7,$G$6) -> 0.2334 | I65: =ROUND(F65*H65+F65,2) -> 0 | J65: =ROUND(E65*I65,2) -> 0
A66: 2.8.6 | B66: ARMAÇÃO DE FUNDAÇÕES E ESTRUTURAS DE CONCRETO ARMADO, EXCETO VIGAS, PI LARES E LAJES (DE EDIFÍCIOS DE MÚLTIPLOS PAVIMENTOS, EDIFICAÇÃO TÉRREA OU SOBRADO), UTILIZANDO AÇO CA-50 DE 10.0 MM - MONTAGEM. AF_12/2015 | C66: 92919 | D66: KG | E66: 36 | G66: =ROUND(E66*F66,2) -> 0 | H66: =IF(K66="",$G$7,$G$6) -> 0.2334 | I66: =ROUND(F66*H66+F66,2) -> 0 | J66: =ROUND(E66*I66,2) -> 0
A67: 2.8.7 | B67: ARMAÇÃO DE FUNDAÇÕES E ESTRUTURAS DE CONCRETO ARMADO, EXCETO VIGAS, PI LARES E LAJES (DE EDIFÍCIOS DE MÚLTIPLOS PAVIMENTOS, EDIFICAÇÃO TÉRREA OU SOBRADO), UTILIZANDO AÇO CA-50 DE 12.5 MM - MONTAGEM. AF_12/2015 | C67: 92921 | D67: KG | E67: 32 | G67: =ROUND(E67*F67,2) -> 0 | H67: =IF(K67="",$G$7,$G$6) -> 0.2334 | I67: =ROUND(F67*H67+F67,2) -> 0 | J67: =ROUND(E67*I67,2) -> 0
B68: SUB-TOTAL | G68: =SUM(G61:G67) -> 0 | J68: =SUM(J61:J67) -> 0
A69: 2.9 | B69: DISSIPADOR DE ENERGIA - 1 Unid. (DN1500)
A70: 2.9.1 | B70: ESCAVACAO MECANICA DE VALA EM MATERIAL DE 2A. CATEGORIA ATE 2 M DE PRO FUNDIDADE COM UTILIZACAO DE ESCAVADEIRA HIDRAULICA | C70: 72915 | D70: M3 | E70: 33.1 | G70: =ROUND(E70*F70,2) -> 0 | H70: =IF(K70="",$G$7,$G$6) -> 0.2334 | I70: =ROUND(F70*H70+F70,2) -> 0 | J70: =ROUND(E70*I70,2) -> 0
A71: 2.9.2 | B71: CARGA E DESCARGA MECANICA DE SOLO UTILIZANDO CAMINHAO BASCULANTE 6,0M3 /16T E PA CARREGADEIRA SOBRE PNEUS 128 HP, CAPACIDADE DA CAÇAMBA 1,7 A 2,8 M3, PESO OPERACIONAL 11632 KG | C71: 74010/001 | D71: M3 | E71: 43.03 | G71: =ROUND(E71*F71,2) -> 0 | H71: =IF(K71="",$G$7,$G$6) -> 0.2334 | I71: =ROUND(F71*H71+F71,2) -> 0 | J71: =ROUND(E71*I71,2) -> 0
A72: 2.9.3 | B72: TRANSPORTE LOCAL COM CAMINHÃO BASCULANTE 6 M3, RODOVIA PAVIMENTADA ( P ARA DISTANCIAS SUPERIORES A 4 KM ) | C72: 97914 | D72: M3XKM | E72: 258.18 | G72: =ROUND(E72*F72,2) -> 0 | H72: =IF(K72="",$G$7,$G$6) -> 0.2334 | I72: =ROUND(F72*H72+F72,2) -> 0 | J72: =ROUND(E72*I72,2) -> 0
A73: 2.9.4 | B73: ESPALHAMENTO DE MATERIAL EM BOTA FORA, COM UTILIZAÇÃO DE TRATOR DE ESTEIRAS DE 165 HP | C73: 100574 | D73: M3 | E73: 43.03 | G73: =ROUND(E73*F73,2) -> 0 | H73: =IF(K73="",$G$7,$G$6) -> 0.2334 | I73: =ROUND(F73*H73+F73,2) -> 0 | J73: =ROUND(E73*I73,2) -> 0
A74: 2.9.5 | B74: FORNECIMENTO E LANÇAMENTO DE BRITA N. 4 | C74: 0282 | D74: M3 | E74: 3.0573 | G74: =ROUND(E74*F74,2) -> 0 | H74: =IF(K74="",$G$7,$G$6) -> 0.2334 | I74: =ROUND(F74*H74+F74,2) -> 0 | J74: =ROUND(E74*I74,2) -> 0
A75: 2.9.6 | B75: CONCRETO FCK = 25MPA, TRAÇO 1:2,3:2,7 (CIMENTO/ AREIA MÉDIA/ BRITA 1) - PREPARO MECÂNICO COM BETONEIRA 600 L. AF_07/2016 | C75: 94971 | D75: M3 | E75: 9.22 | G75: =ROUND(E75*F75,2) -> 0 | H75: =IF(K75="",$G$7,$G$6) -> 0.2334 | I75: =ROUND(F75*H75+F75,2) -> 0 | J75: =ROUND(E75*I75,2) -> 0
A76: 2.9.7 | B76: LANCAMENTO/APLICACAO MANUAL DE CONCRETO EM FUNDACOES | C76: 74157/004 | D76: M3 | E76: 9.22 | G76: =ROUND(E76*F76,2) -> 0 | H76: =IF(K76="",$G$7,$G$6) -> 0.2334 | I76: =ROUND(F76*H76+F76,2) -> 0 | J76: =ROUND(E76*I76,2) -> 0
A77: 2.9.8 | B77: FORMA TABUA PARA CONCRETO EM FUNDAÇÃO, C/ REAPROVEITAMENTO 2X. | C77: 96533 | D77: M2 | E77: 21.25 | G77: =ROUND(E77*F77,2) -> 0 | H77: =IF(K77="",$G$7,$G$6) -> 0.2334 | I77: =ROUND(F77*H77+F77,2) -> 0 | J77: =ROUND(E77*I77,2) -> 0
A78: 2.9.9 | B78: ARMAÇÃO DE FUNDAÇÕES E ESTRUTURAS DE CONCRETO ARMADO, EXCETO VIGAS, PI LARES E LAJES (DE EDIFÍCIOS DE MÚLTIPLOS PAVIMENTOS, EDIFICAÇÃO TÉRREA OU SOBRADO), UTILIZANDO AÇO CA-50 DE 8.0 MM - MONTAGEM. AF_12/2015 | C78: 92917 | D78: KG | E78: 215.13333 | G78: =ROUND(E78*F78,2) -> 0 | H78: =IF(K78="",$G$7,$G$6) -> 0.2334 | I78: =ROUND(F78*H78+F78,2) -> 0 | J78: =ROUND(E78*I78,2) -> 0
A79: 2.9.10 | B79: ARMAÇÃO DE FUNDAÇÕES E ESTRUTURAS DE CONCRETO ARMADO, EXCETO VIGAS, PI LARES E LAJES (DE EDIFÍCIOS DE MÚLTIPLOS PAVIMENTOS, EDIFICAÇÃO TÉRREA OU SOBRADO), UTILIZANDO AÇO CA-50 DE 10.0 MM - MONTAGEM. AF_12/2015 | C79: 92919 | D79: KG | E79: 199.76667 | G79: =ROUND(E79*F79,2) -> 0 | H79: =IF(K79="",$G$7,$G$6) -> 0.2334 | I79: =ROUND(F79*H79+F79,2) -> 0 | J79: =ROUND(E79*I79,2) -> 0
A80: 2.9.11 | B80: ARMAÇÃO DE FUNDAÇÕES E ESTRUTURAS DE CONCRETO ARMADO, EXCETO VIGAS, PI LARES E LAJES (DE EDIFÍCIOS DE MÚLTIPLOS PAVIMENTOS, EDIFICAÇÃO TÉRREA OU SOBRADO), UTILIZANDO AÇO CA-50 DE 12.5 MM - MONTAGEM. AF_12/2015 | C80: 92921 | D80: KG | E80: 184.4 | G80: =ROUND(E80*F80,2) -> 0 | H80: =IF(K80="",$G$7,$G$6) -> 0.2334 | I80: =ROUND(F80*H80+F80,2) -> 0 | J80: =ROUND(E80*I80,2) -> 0
A81: 2.9.12 | B81: ENROCAMENTO COM PEDRA ARGAMASSADA TRAÇO 1:4 COM PEDRA DE MÃO | C81: 73611 | D81: M3 | E81: 8.26 | G81: =ROUND(E81*F81,2) -> 0 | H81: =IF(K81="",$G$7,$G$6) -> 0.2334 | I81: =ROUND(F81*H81+F81,2) -> 0 | J81: =ROUND(E81*I81,2) -> 0
B82: SUB-TOTAL | G82: =SUM(G70:G81) -> 0 | J82: =SUM(J70:J81) -> 0
A83: 2.10 | B83: DEMOLICAO E RECOMPOSIÇÃO DA PAVIMENTACAO ASFALTICA E PASSEIOS
A84: 2.10.1 | B84: DEMOLIÇÃO DE PAVIMENTAÇÃO ASFÁLTICA COM UTILIZAÇÃO DE MARTELO PERFURAD OR, ESPESSURA ATÉ 15 CM, EXCLUSIVE CARGA E TRANSPORTE | C84: 92970 | D84: M2 | E84: 1983.26 | G84: =ROUND(E84*F84,2) -> 0 | H84: =IF(K84="",$G$7,$G$6) -> 0.2334 | I84: =ROUND(F84*H84+F84,2) -> 0 | J84: =ROUND(E84*I84,2) -> 0
A85: 2.10.2 | B85: CARGA MANUAL DE ENTULHO EM CAMINHAO BASCULANTE 6 M3 | C85: 72897 | D85: M3 | E85: 297.489 | G85: =ROUND(E85*F85,2) -> 0 | H85: =IF(K85="",$G$7,$G$6) -> 0.2334 | I85: =ROUND(F85*H85+F85,2) -> 0 | J85: =ROUND(E85*I85,2) -> 0
A86: 2.10.3 | B86: TRANSPORTE DE PAVIMENTACAO REMOVIDA (RODOVIAS NAO URBANAS) (297,49 x 6km) | C86: 83358 | D86: M3XKM | E86: 1784.934 | G86: =ROUND(E86*F86,2) -> 0 | H86: =IF(K86="",$G$7,$G$6) -> 0.2334 | I86: =ROUND(F86*H86+F86,2) -> 0 | J86: =ROUND(E86*I86,2) -> 0
A87: 2.10.4 | B87: BASE PARA PAVIMENTACAO COM BRITA GRADUADA, INCLUSIVE COMPACTACAO, CARGA E TRANSPORTE | C87: 96396 | D87: M3 | E87: 237.69 | G87: =ROUND(E87*F87,2) -> 0 | H87: =IF(K87="",$G$7,$G$6) -> 0.2334 | I87: =ROUND(F87*H87+F87,2) -> 0 | J87: =ROUND(E87*I87,2) -> 0
A88: 2.10.5 | B88: PINTURA DE LIGACAO COM EMULSAO RR-2C | C88: 72943 | D88: M2 | E88: 10065.95 | G88: =ROUND(E88*F88,2) -> 0 | H88: =IF(K88="",$G$7,$G$6) -> 0.2334 | I88: =ROUND(F88*H88+F88,2) -> 0 | J88: =ROUND(E88*I88,2) -> 0
A89: 2.10.6 | B89: CONCRETO BETUMINOSO USINADO A QUENTE COM CAP 50/70, BINDER, INCLUSO US INAGEM E APLICACAO, EXCLUSIVE TRANSPORTE (10065,95m2 x 0,025m = 251,65m3) | C89: 95995 | D89: M3 | E89: 251.65 | G89: =ROUND(E89*F89,2) -> 0 | H89: =IF(K89="",$G$7,$G$6) -> 0.2334 | I89: =ROUND(F89*H89+F89,2) -> 0 | J89: =ROUND(E89*I89,2) -> 0
A90: 2.10.7 | B90: TRANSPORTE LOCAL DE MASSA ASFALTICA - PAVIMENTACAO URBANA (251,65m3 x 20km) | C90: 95303 | D90: M3XKM | E90: 5033 | G90: =ROUND(E90*F90,2) -> 0 | H90: =IF(K90="",$G$7,$G$6) -> 0.2334 | I90: =ROUND(F90*H90+F90,2) -> 0 | J90: =ROUND(E90*I90,2) -> 0
A91: 2.10.8 | B91: DEMOLICAO DE CONCRETO SIMPLES | C91: 73616 | D91: M3 | E91: 2 | G91: =ROUND(E91*F91,2) -> 0 | H91: =IF(K91="",$G$7,$G$6) -> 0.2334 | I91: =ROUND(F91*H91+F91,2) -> 0 | J91: =ROUND(E91*I91,2) -> 0
A92: 2.10.9 | B92: EXECUÇÃO DE PASSEIO (CALÇADA) COM CONCRETO MOLDADO IN LOCO, FEITO EM O BRA, ACABAMENTO CONVENCIONAL, NÃO ARMADO. AF_07/2016 | C92: 94990 | D92: M3 | E92: 2 | G92: =ROUND(E92*F92,2) -> 0 | H92: =IF(K92="",$G$7,$G$6) -> 0.2334 | I92: =ROUND(F92*H92+F92,2) -> 0 | J92: =ROUND(E92*I92,2) -> 0
B93: SUB-TOTAL | G93: =SUM(G84:G92) -> 0 | J93: =SUM(J84:J92) -> 0
B95: PREFEITURA MUNICIPAL DE SERTÃOZINHO | F95: RESP TEC: | H95: Eng. Pedro Ivo de Almeida Santos
H96: ENG Consultoria e Projetos Ltda.
G97: CREA Nº 5061115668-SP | I97: ART Nº 92221220160964859

Sheet CFF GENTIL MORENO
A1: CRONOGRAMA FÍSICO-FINANCEIRO DRENAGEM REGIÃO DA RUA GENTIL MORENO - SERTÃOZINHO
A2: ='ORC.GENTIL MORENO'!A6 -> DATA BASE: SINAPI DEZEMBRO/2019 | G2: BDI - MATERIAL | H2: ='ORC.GENTIL MORENO'!G6 -> 0.196 | I2: Data: | J2: ='ORC.GENTIL MORENO'!J1 -> 43860
G3: BDI - SERVIÇOS | H3: ='ORC.GENTIL MORENO'!G7 -> 0.2334
A4: CRONOGRAMA FISICO-FINANCEIRO
A5: ITEM | B5: DESCRIÇÃO DOS SERVIÇOS | C5: DURAÇÃO (MESES) | E5: TOTAL | F5: MÊS 1 | G5: MÊS 2 | H5: MÊS 3 | I5: MÊS 4 | J5: MÊS 5
A6: ='ORC.GENTIL MORENO'!$A$10 -> 1 | B6: ='ORC.GENTIL MORENO'!$B$10 -> SERVIÇOS GERAIS
A7: ='ORC.GENTIL MORENO'!A11 -> 1.1 | B7: ='ORC.GENTIL MORENO'!B11 -> GERAL | C7: 5 | D7: Total | E7: ='ORC.GENTIL MORENO'!J13 -> 0 | F7: =E7/C7 -> 0 | G7: =F7 -> 0 | H7: =G7 -> 0 | I7: =H7 -> 0 | J7: =I7 -> 0
D8: Concedente
D9: Convenente
A10: ='ORC.GENTIL MORENO'!$A$15 -> 2 | B10: ='ORC.GENTIL MORENO'!$B$14 -> DRENAGEM REGIÃO DA RUA GENTIL MORENO
A11: ='ORC.GENTIL MORENO'!A16 -> 2.1 | B11: ='ORC.GENTIL MORENO'!B16 -> SERVIÇOS PRELIMINARES | C11: 2 | D11: Total | E11: ='ORC.GENTIL MORENO'!J22 -> 0 | F11: =E11/C11 -> 0 | G11: =F11 -> 0
A14: ='ORC.GENTIL MORENO'!A23 -> 2.2 | B14: ='ORC.GENTIL MORENO'!B23 -> MOVIMENTO DE TERRA | C14: 5 | D14: Total | E14: ='ORC.GENTIL MORENO'!J32 -> 0 | F14: =E14/C14 -> 0 | G14: =F14 -> 0 | H14: =G14 -> 0 | I14: =H14 -> 0 | J14: =I14 -> 0
A17: ='ORC.GENTIL MORENO'!A33 -> 2.3 | B17: ='ORC.GENTIL MORENO'!B33 -> EMBASAMENTO | C17: 4 | D17: Total | E17: ='ORC.GENTIL MORENO'!J35 -> 0 | G17: =E17/C17 -> 0 | H17: =G17 -> 0 | I17: =H17 -> 0 | J17: =I17 -> 0
A20: ='ORC.GENTIL MORENO'!A36 -> 2.4 | B20: ='ORC.GENTIL MORENO'!B36 -> ESCORAMENTO | C20: 4 | D20: Total | E20: ='ORC.GENTIL MORENO'!J40 -> 0 | G20: =E20/C20 -> 0 | H20: =G20 -> 0 | I20: =H20 -> 0 | J20: =I20 -> 0
A21: ='ORC.GENTIL MORENO'!A41 -> 2.5 | B21: ='ORC.GENTIL MORENO'!B41 -> HIDRÁULICA | C21: 4 | D21: Total | E21: ='ORC.GENTIL MORENO'!J48 -> 0 | G21: =E21/C21 -> 0 | H21: =G21 -> 0 | I21: =H21 -> 0 | J21: =I21 -> 0
A22: ='ORC.GENTIL MORENO'!A49 -> 2.6 | B22: ='ORC.GENTIL MORENO'!B49 -> PV's | C22: 4 | D22: Total | E22: ='ORC.GENTIL MORENO'!J56 -> 0 | G22: =E22/C22 -> 0 | H22: =G22 -> 0 | I22: =H22 -> 0 | J22: =I22 -> 0
A23: ='ORC.GENTIL MORENO'!A57 -> 2.7 | B23: ='ORC.GENTIL MORENO'!B57 -> BOCAS DE LOBO | C23: 4 | D23: Total | E23: ='ORC.GENTIL MORENO'!J59 -> 0 | G23: =E23/C23 -> 0 | H23: =G23 -> 0 | I23: =H23 -> 0 | J23: =I23 -> 0
D24: Concedente
D25: Convenente
D26: Concedente
D27: Convenente
A28: ='ORC.GENTIL MORENO'!$A$60 -> 2.8 | B28: ='ORC.GENTIL MORENO'!$B$60 -> MURO DE ALA - 1 Unid. (DN1500) | C28: 1 | D28: Total | E28: ='ORC.GENTIL MORENO'!J68 -> 0 | J28: =E28/C28 -> 0
D29: Concedente
D30: Convenente
A31: ='ORC.GENTIL MORENO'!A69 -> 2.9 | B31: ='ORC.GENTIL MORENO'!B69 -> DISSIPADOR DE ENERGIA - 1 Unid. (DN1500) | C31: 1 | D31: Concedente | E31: ='ORC.GENTIL MORENO'!J82 -> 0 | J31: =E31/C31 -> 0
D32: Convenente
D33: Convenente
A34: ='ORC.GENTIL MORENO'!$A$83 -> 2.10 | B34: ='ORC.GENTIL MORENO'!$B$83 -> DEMOLICAO E RECOMPOSIÇÃO DA PAVIMENTACAO ASFALTICA E PASSEIOS | C34: 5 | D34: Total | E34: ='ORC.GENTIL MORENO'!J93 -> 0 | F34: =E34/C34 -> 0 | G34: =F34 -> 0 | H34: =G34 -> 0 | I34: =H34 -> 0 | J34: =I34 -> 0
D35: Concedente
D36: Convenente
D37: Concedente
D38: Convenente
D40: Concedente
D41: Convenente
E42: Mês | F42: =SUM(F7:F41) -> 0 | G42: =SUM(G7:G41) -> 0 | H42: =SUM(H7:H41) -> 0 | I42: =SUM(I7:I41) -> 0 | J42: =SUM(J7:J41) -> 0
E43: Acumulado | F43: =F42 -> 0 | G43: =F43+G42 -> 0 | H43: =G43+H42 -> 0 | I43: =H43+I42 -> 0 | J43: =I43+J42 -> 0
B46: PREFEITURA MUNICIPAL DE SERTÃOZINHO | F46: RESP TEC: | H46: Eng. Pedro Ivo de Almeida Santos
H47: ENG Consultoria e Projetos Ltda.
G48: CREA Nº 5061115668-SP | I48: ART Nº 92221220160964859

Sheet MEMORIA_CALCULO_REDE_DREN
A1: MEMÓRIA DE CÁLCULO – PLANILHA 1
A2: Trecho | B2: Diâmetro | C2: Comprimento (m) | D2: Escavação (m³) | E2: Demolição de Pavimento Asfáltico esp. 15cm (m³) | F2: Demolição (m²) | G2: Escavação Solo - 1° Categoria 0 a 2m (m³) | H2: Escavação Solo – 2° Categoria 2 a 6m (m³) | I2: Volume de tubulação no trecho (m³) | J2: Reaterro Compactado (m³) | K2: Volume de BGS compactado esp. 12cm (m³) | L2: Embasamento Granulometria brita n°4 (m³)
A3: PV 1 → PV 2 | B3: 800 | C3: 15.84 | D3: 33.07 | E3: 2.85 | F3: 19 | G3: 30.22 | H3: 0 | I3: 10.07 | J3: 20.15 | K3: 2.28 | L3: 3.8
A4: PV 2 → PV 3 | B4: 800 | C4: 11.24 | D4: 26.91 | E4: 2.02 | F4: 13.49 | G4: 24.89 | H4: 0 | I4: 7.15 | J4: 17.74 | K4: 1.62 | L4: 2.7
A5: PV 3 → PV 4 | B5: 800 | C5: 44.05 | D5: 111.01 | E5: 7.93 | F5: 52.86 | G5: 97.79 | H5: 5.29 | I5: 28.02 | J5: 75.06 | K5: 6.34 | L5: 10.57
A6: PV 4 → PV 5 | B6: 800 | C6: 10.72 | D6: 27.4 | E6: 1.93 | F6: 12.86 | G6: 23.8 | H6: 1.67 | I6: 6.82 | J6: 18.65 | K6: 1.54 | L6: 2.57
A7: PV 5 → PV 6 | B7: 800 | C7: 54.27 | D7: 150.11 | E7: 9.77 | F7: 65.12 | G7: 112.01 | H7: 28.33 | I7: 34.52 | J7: 105.82 | K7: 7.81 | L7: 13.02
A8: PV 6 → PV 7 | B8: 800 | C8: 53.48 | D8: 164.93 | E8: 9.62 | F8: 64.18 | G8: 118.73 | H8: 36.58 | I8: 34.02 | J8: 121.29 | K8: 7.7 | L8: 12.84
A9: PV 7 → PV 8 | B9: 1200 | C9: 33.09 | D9: 165.45 | E9: 7.94 | F9: 52.94 | G9: 97.95 | H9: 59.56 | I9: 43.9 | J9: 113.61 | K9: 6.35 | L9: 10.59
A10: PV 8 → PV 9 | B10: 1200 | C10: 98.69 | D10: 809.25 | E10: 29.61 | F10: 197.38 | G10: 365.15 | H10: 414.5 | I10: 130.96 | J10: 648.69 | K10: 23.69 | L10: 31.58
A11: PV 9 → PV 10 | B11: 1200 | C11: 98.3 | D11: 1085.63 | E11: 32.44 | F11: 216.26 | G11: 400.09 | H11: 653.11 | I11: 130.44 | J11: 923.57 | K11: 25.95 | L11: 31.46
A12: PV 10 → PV 11 | B12: 1200 | C12: 84.8 | D12: 1018.62 | E12: 27.98 | F12: 186.56 | G12: 345.14 | H12: 645.5 | I12: 112.53 | J12: 878.11 | K12: 22.39 | L12: 27.14
A13: PV 11 → PV 12 | B13: 1200 | C13: 76 | D13: 881.98 | E13: 25.08 | F13: 167.2 | G13: 309.32 | H13: 547.58 | I13: 100.85 | J13: 756.05 | K13: 20.06 | L13: 24.32
A14: PV 12 → PV 13 | B14: 1200 | C14: 85.9 | D14: 832.46 | E14: 28.35 | F14: 188.98 | G14: 349.61 | H14: 454.5 | I14: 113.99 | J14: 690.12 | K14: 22.68 | L14: 27.49
... A35: BL 26/27 → PV 18 | B35: 400 | C35: 27 | D35: 38.88 | E35: 4.86 | F35: 32.4 | G35: 34.02 | H35: 0 | I35: 5.3 | J35: 28.72 | K35: 3.89 | L35: 6.48
A36: Totais | C36: =SUM(C3:C35) -> 1292.63 | E36: =SUM(E3:E35) -> 297.48 | F36: =SUM(F3:F35) -> 1983.26 | G36: =SUM(G3:G35) -> 3692.57 | H36: =SUM(H3:H35) -> 3089.54 | I36: =SUM(I3:I35) -> 1304.98 | J36: =SUM(J3:J35) -> 5477.92 | K36: =SUM(K3:K35) -> 237.69 | L36: =SUM(L3:L35) -> 378.71
A40: Resumo:
A41: Tubo Ø400mm | C41: 247,00 metros
A42: Tubo Ø800mm | C42: 189,60 metros
A43: Tubo Ø1200mm | C43: 856,03 metros
A44: Total volume de escavação | C44: 6782,11 m³
A45: Total volume de reaterro | C45: 5477,92 m³
A46: Bota fora (1304,19 m³ x 5km, distância até Estação de Tratamento Esgototo) | C46: 6520,95 m³xkm
