Workbook

Sheet ORC.GENTIL MORENO
A1: PLANILHA ORÇAMENTÁRIA DRENAGEM REGIÃO DA RUA GENTIL MORENO - SERTÃOZINHO/SP | I1: Data: | J1: 43860
A2: ITEM | G2: S/ BDI | J2: C/ BDI
A3: A | B3: SERVIÇOS GERAIS | G3: =G13 -> 0 | J3: =J9 -> 0 | L3: Distância Bota Fora: | M3: 6 | N3: km | P3: ADM | Q3: =#REF!/J5 -> #REF! | R3: <3%
A4: B | B4: =B14 -> DRENAGEM REGIÃO DA RUA GENTIL MORENO | G4: =G14 -> 0 | J4: =J14 -> 0 | L4: Distância Jazida: | M4: 8 | N4: km | P4: PROJTEC | Q4: =#REF!/#REF! -> #REF! | R4: >2,5%
B5: TOTAL DA OBRA | G5: =SUM(G3:G4) -> 0 | J5: =SUM(J3:J4) -> 0 | K5: 1.2467863 | L5: Distância Usina de Asfalto: | M5: 15 | N5: km
A6: DATA BASE: SINAPI DEZEMBRO/2019 | F6: BDI - MATERIAL | G6: 0.196 | H6: BDI conforme acórdão 2369/2011
F7: BDI - SERVIÇOS | G7: 0.2334 | Q7: =#REF!*2.5% -> #REF!
A8: ITEM | B8: DESCRIÇÃO | C8: CÓDIGO | D8: UNID. | E8: QTDE. | F8: CUSTO UNITÁRIO (SEM BDI) - R$ | G8: CUSTO TOTAL R$ | H8: % BDI | I8: PREÇO UNITÁRIO C/ BDI (R$) | J8: PREÇO TOTAL C/ BDI (R$) | K8: MATERIAL TUBULAR OU EQUIP. ESPECIAL | Q8: =Q7/1.294 -> #REF!
A9: A | B9: SERVIÇOS GERAIS | G9: =SUM(G10) -> 0 | J9: =SUM(J10) -> 0 | Q9: 1860836.2
A10: 1 | B10: SERVIÇOS GERAIS | G10: =SUM(G13) -> 0 | J10: =SUM(J13) -> 0 | Q10: =Q9-J5 -> 1860836.2
A11: 1.1 | B11: GERAL
A12: 1.1.1 | B12: PLACA DE OBRA EM CHAPA DE ACO GALVANIZADO | C12: 74209/001 | D12: M2 | E12: 18 | G12: =ROUND(E12*F12,2) -> 0 | H12: =IF(K12="",$G$7,$G$6) -> 0.2334 | I12: =ROUND(F12*H12+F12,2) -> 0 | J12: =ROUND(E12*I12,2) -> 0
B13: SUB-TOTAL | G13: =SUM(G12:G12) -> 0 | J13: =SUM(J12:J12) -> 0
A14: B | B14: DRENAGEM REGIÃO DA RUA GENTIL MORENO | G14: =G15 -> 0 | J14: =J15 -> 0
A15: 2 | B15: MICRODRENAGEM | G15: =G22+G32+G35+G40+G48+G56+G59+G68+G82+G93 -> 0 | J15: =J22+J32+J35+J40+J48+J56+J59+J68+J82+J93 -> 0
A16: 2.1 | B16: SERVIÇOS PRELIMINARES
A17: 2.1.1 | B17: LIMPEZA MECANIZADA DE TERRENO COM REMOCAO DE CAMADA VEGETAL, UTILIZAND O MOTONIVELADORA | C17: 73822/002 | D17: M2 | E17: 362.43 | G17: =ROUND(E17*F17,2) -> 0 | H17: =IF(K17="",$G$7,$G$6) -> 0.2334 | I17: =ROUND(F17*H17+F17,2) -> 0 | J17: =ROUND(E17*I17,2) -> 0
A18: 2.1.2 | B18: LOCACAO E NIVELAMENTO DE EMISSARIO/REDE COLETORA COM AUXILIO DE EQUIPA MENTO TOPOGRAFICO | C18: 99063 | D18: M | E18: 2136.88 | G18: =ROUND(E18*F18,2) -> 0 | H18: =IF(K18="",$G$7,$G$6) -> 0.2334 | I18: =ROUND(F18*H18+F18,2) -> 0 | J18: =ROUND(E18*I18,2) -> 0
A19: 2.1.3 | B19: PASSADICOS COM TABUAS DE MADEIRA PARA PEDESTRES | C19: 74219/001 | D19: M2 | E19: 20 | G19: =ROUND(E19*F19,2) -> 0 | H19: =IF(K19="",$G$7,$G$6) -> 0.2334 | I19: =ROUND(F19*H19+F19,2) -> 0 | J19: =ROUND(E19*I19,2) -> 0
A20: 2.1.4 | B20: PASSADICOS COM TABUAS DE MADEIRA PARA VEICULOS | C20: 74219/002 | D20: M2 | E20: 60 | G20: =ROUND(E20*F20,2) -> 0 | H20: =IF(K20="",$G$7,$G$6) -> 0.2334 | I20: =ROUND(F20*H20+F20,2) -> 0 | J20: =ROUND(E20*I20,2) -> 0
A21: 2.1.5 | B21: SINALIZAÇÃO LUMINOSA PARA OBRAS | C21: 74221/001 | D21: M | E21: 1680.43 | G21: =ROUND(E21*F21,2) -> 0 | H21: =IF(K21="",$G$7,$G$6) -> 0.2334 | I21: =ROUND(F21*H21+F21,2) -> 0 | J21: =ROUND(E21*I21,2) -> 0
B22: SUB-TOTAL | G22: =SUM(G17:G21) -> 0 | J22: =SUM(J17:J21) -> 0
A23: 2.2 | B23: MOVIMENTO DE TERRA
A24: 2.2.1 | B24: ESCAVAÇÃO MECANIZADA DE VALA COM PROF. ATÉ 1,5 M (MÉDIA ENTRE MONTANTE E JUSANTE/UMA COMPOSIÇÃO POR TRECHO), COM ESCAVADEIRA HIDRÁULICA (0,8 M3/111 HP), LARG. DE 1,5 M A 2,5 M, EM SOLO DE 1A CATEGORIA, EM LOCAI S COM ALTO NÍVEL DE INTERFERÊNCIA. AF_01/2015 | C24: 90082 | D24: M3 | E24: 3692.57 | G24: =ROUND(E24*F24,2) -> 0 | H24: =IF(K24="",$G$7,$G$6) -> 0.2334 | I24: =ROUND(F24*H24+F24,2) -> 0 | J24: =ROUND(E24*I24,2) -> 0
A25: 2.2.2 | B25: ESCAVACAO MECANICA DE VALA EM MATERIAL 2A. CATEGORIA ATE 6,00 M DE PROFUNDIDADE COM UTILIZACAO DE ESCAVADEIRA HIDRAULICA | C25: 72918 | D25: M3 | E25: 3089.54 | G25: =ROUND(E25*F25,2) -> 0 | H25: =IF(K25="",$G$7,$G$6) -> 0.2334 | I25: =ROUND(F25*H25+F25,2) -> 0 | J25: =ROUND(E25*I25,2) -> 0
A26: 2.2.3 | B26: CARGA E DESCARGA MECANICA DE SOLO UTILIZANDO CAMINHAO BASCULANTE 6,0M3 /16T E PA CARREGADEIRA SOBRE PNEUS 128 HP, CAPACIDADE DA CAÇAMBA 1,7 A 2,8 M3, PESO OPERACIONAL 11632 KG | C26: 74010/001 | D26: M3 | E26: 1602.46 | G26: =ROUND(E26*F26,2) -> 0 | H26: =IF(K26="",$G$7,$G$6) -> 0.2334 | I26: =ROUND(F26*H26+F26,2) -> 0 | J26: =ROUND(E26*I26,2) -> 0
A27: 2.2.4 | B27: TRANSPORTE LOCAL COM CAMINHAO BASCULANTE 6 M3, RODOVIA PAVIMENTADA ( PARA DISTANCIAS SUPERIORES A 4 KM ) | C27: 97914 | D27: M3XKM | E27: 6524.9 | G27: =ROUND(E27*F27,2) -> 0 | H27: =IF(K27="",$G$7,$G$6) -> 0.2334 | I27: =ROUND(F27*H27+F27,2) -> 0 | J27: =ROUND(E27*I27,2) -> 0
A28: 2.2.5 | B28: ESPALHAMENTO DE MATERIAL EM BOTA FORA, COM UTILIZACAO DE TRATOR DE EST EIRAS DE 165 HP | C28: 100574 | D28: M3 | E28: 1304.98 | G28: =ROUND(E28*F28,2) -> 0 | H28: =IF(K28="",$G$7,$G$6) -> 0.2334 | I28: =ROUND(F28*H28+F28,2) -> 0 | J28: =ROUND(E28*I28,2) -> 0
A29: 2.2.6 | B29: REATERRO MECANIZADO DE VALA COM ESCAVADEIRA HIDRÁULICA (CAPACIDADE DA CAÇAMBA: 0,8 M³ / POTÊNCIA: 111 HP), LARGURA ATÉ 1,5 M, PROFUNDIDADE D E 1,5 A 3,0 M, COM SOLO (SEM SUBSTITUIÇÃO) DE 1ª CATEGORIA EM LOCAIS C OM ALTO NÍVEL DE INTERFERÊNCIA. AF_04/2016 | C29: 93361 | D29: M3 | E29: 5477.92 | G29: =ROUND(E29*F29,2) -> 0 | H29: =IF(K29="",$G$7,$G$6) -> 0.2334 | I29: =ROUND(F29*H29+F29,2) -> 0 | J29: =ROUND(E29*I29,2) -> 0
A30: 2.2.7 | B30: DEPOSIÇÃO DE ENTULHO P/ RCC CADASTRADO NA CIDADE | C30: LOCAL | D30: TON | E30: 475.97 | G30: =ROUND(E30*F30,2) -> 0 | H30: =IF(K30="",$G$7,$G$6) -> 0.2334 | I30: =ROUND(F30*H30+F30,2) -> 0 | J30: =ROUND(E30*I30,2) -> 0
A31: 2.2.8 | B31: TRANSPORTE LOCAL COM CAMINHAO BASCULANTE 6 M3, RODOVIA PAVIMENTADA ( PARA DISTANCIAS SUPERIORES A 4 KM ) DO ENTULHO AO RCC CADASTRADO | C31: 97914 | D31: M3XKM | E31: 1933.62 | G31: =ROUND(E31*F31,2) -> 0 | H31: =IF(K31="",$G$7,$G$6) -> 0.2334 | I31: =ROUND(F31*H31+F31,2) -> 0 | J31: =ROUND(E31*I31,2) -> 0
B32: SUB-TOTAL | G32: =SUM(G24:G31) -> 0 | J32: =SUM(J24:J31) -> 0
A33: 2.3 | B33: EMBASAMENTO
A34: 2.3.1 | B34: FORNECIMENTO E LANCAMENTO DE BRITA N. 4 | C34: 0282 | D34: M3 | E34: 378.71 | G34: =ROUND(E34*F34,2) -> 0 | H34: =IF(K34="",$G$7,$G$6) -> 0.2334 | I34: =ROUND(F34*H34+F34,2) -> 0 | J34: =ROUND(E34*I34,2) -> 0
B35: SUB-TOTAL | G35: =SUM(G34:G34) -> 0 | J35: =SUM(J34:J34) -> 0
A36: 2.4 | B36: ESCORAMENTO
A37: 2.4.1 | B37: ESCORAMENTO DE VALA, TIPO PONTALETEAMENTO, COM PROFUNDIDADE DE 1,5 A 3 ,0 M, LARGURA MAIOR OU IGUAL A 1,5 M E MENOR QUE 2,5 M, EM LOCAL COM N ÍVEL ALTO DE INTERFERÊNCIA. AF_06/2016 | C37: 94041 | D37: M2 | E37: 1713.55 | G37: =ROUND(E37*F37,2) -> 0 | H37: =IF(K37="",$G$7,$G$6) -> 0.2334 | I37: =ROUND(F37*H37+F37,2) -> 0 | J37: =ROUND(E37*I37,2) -> 0
A38: 2.4.2 | B38: ESCORAMENTO DE VALA, TIPO DESCONTÍNUO, COM PROFUNDIDADE DE 1,5 A 3,0 M , LARGURA MAIOR OU IGUAL A 1,5 M E MENOR QUE 2,5 M, EM LOCAL COM NÍVEL ALTO DE INTERFERÊNCIA. AF_06/2016 | C38: 94052 | D38: M2 | E38: 839 | G38: =ROUND(E38*F38,2) -> 0 | H38: =IF(K38="",$G$7,$G$6) -> 0.2334 | I38: =ROUND(F38*H38+F38,2) -> 0 | J38: =ROUND(E38*I38,2) -> 0
A39: 2.4.3 | B39: ESCORAMENTO CONTINUO DE VALAS, MISTO, COM PERFIL I DE 8" | C39: 83770 | D39: M2 | E39: 435 | G39: =ROUND(E39*F39,2) -> 0 | H39: =IF(K39="",$G$7,$G$6) -> 0.2334 | I39: =ROUND(F39*H39+F39,2) -> 0 | J39: =ROUND(E39*I39,2) -> 0
B40: SUB-TOTAL | G40: =SUM(G37:G39) -> 0 | J40: =SUM(J37:J39) -> 0
...

Sheet CFF GENTIL MORENO
A1: CRONOGRAMA FÍSICO-FINANCEIRO DRENAGEM REGIÃO DA RUA GENTIL MORENO - SERTÃOZINHO
A2: ='ORC.GENTIL MORENO'!A6 -> DATA BASE: SINAPI DEZEMBRO/2019 | G2: BDI - MATERIAL | H2: ='ORC.GENTIL MORENO'!G6 -> 0.196 | I2: Data: | J2: ='ORC.GENTIL MORENO'!J1 -> 43860
G3: BDI - SERVIÇOS | H3: ='ORC.GENTIL MORENO'!G7 -> 0.2334
A4: CRONOGRAMA FISICO-FINANCEIRO
A5: ITEM | B5: DESCRIÇÃO DOS SERVIÇOS | C5: DURAÇÃO (MESES) | E5: TOTAL | F5: MÊS 1 | G5: MÊS 2 | H5: MÊS 3 | I5: MÊS 4 | J5: MÊS 5
A6: ='ORC.GENTIL MORENO'!$A$10 -> 1 | B6: ='ORC.GENTIL MORENO'!$B$10 -> SERVIÇOS GERAIS
A7: ='ORC.GENTIL MORENO'!A11 -> 1.1 | B7: ='ORC.GENTIL MORENO'!B11 -> GERAL | C7: 5 | D7: Total | E7: ='ORC.GENTIL MORENO'!J13 -> 0 | F7: =E7/C7 -> 0 | G7: =F7 -> 0 | H7: =G7 -> 0 | I7: =H7 -> 0 | J7: =I7 -> 0
D8: Concedente
D9: Convenente
A10: ='ORC.GENTIL MORENO'!$A$15 -> 2 | B10: ='ORC.GENTIL MORENO'!$B$14 -> DRENAGEM REGIÃO DA RUA GENTIL MORENO
A11: ='ORC.GENTIL MORENO'!A16 -> 2.1 | B11: ='ORC.GENTIL MORENO'!B16 -> SERVIÇOS PRELIMINARES | C11: 2 | D11: Total | E11: ='ORC.GENTIL MORENO'!J22 -> 0 | F11: =E11/C11 -> 0 | G11: =F11 -> 0
A14: ='ORC.GENTIL MORENO'!A23 -> 2.2 | B14: ='ORC.GENTIL MORENO'!B23 -> MOVIMENTO DE TERRA | C14: 5 | D14: Total | E14: ='ORC.GENTIL MORENO'!J32 -> 0 | F14: =E14/C14 -> 0 | G14: =F14 -> 0 | H14: =G14 -> 0 | I14: =H14 -> 0 | J14: =I14 -> 0
A17: ='ORC.GENTIL MORENO'!A33 -> 2.3 | B17: ='ORC.GENTIL MORENO'!B33 -> EMBASAMENTO | C17: 4 | D17: Total | E17: ='ORC.GENTIL MORENO'!J35 -> 0 | G17: =E17/C17 -> 0 | H17: =G17 -> 0 | I17: =H17 -> 0 | J17: =I17 -> 0
A20: ='ORC.GENTIL MORENO'!A36 -> 2.4 | B20: ='ORC.GENTIL MORENO'!B36 -> ESCORAMENTO | C20: 4 | D20: Total | E20: ='ORC.GENTIL MORENO'!J40 -> 0 | G20: =E20/C20 -> 0 | H20: =G20 -> 0 | I20: =H20 -> 0 | J20: =I20 -> 0
A21: ='ORC.GENTIL MORENO'!A41 -> 2.5 | B21: ='ORC.GENTIL MORENO'!B41 -> HIDRÁULICA | C21: 4 | D21: Total | E21: ='ORC.GENTIL MORENO'!J48 -> 0 | G21: =E21/C21 -> 0 | H21: =G21 -> 0 | I21: =H21 -> 0 | J21: =I21 -> 0
A22: ='ORC.GENTIL MORENO'!A49 -> 2.6 | B22: ='ORC.GENTIL MORENO'!B49 -> PV's | C22: 4 | D22: Total | E22: ='ORC.GENTIL MORENO'!J56 -> 0 | G22: =E22/C22 -> 0 | H22: =G22 -> 0 | I22: =H22 -> 0 | J22: =I22 -> 0
A23: ='ORC.GENTIL MORENO'!A57 -> 2.7 | B23: ='ORC.GENTIL MORENO'!B57 -> BOCAS DE LOBO | C23: 4 | D23: Total | E23: ='ORC.GENTIL MORENO'!J59 -> 0 | G23: =E23/C23 -> 0 | H23: =G23 -> 0 | I23: =H23 -> 0 | J23: =I23 -> 0
D24: Concedente
D25: Convenente
D26: Concedente
D27: Convenente
A28: ='ORC.GENTIL MORENO'!$A$60 -> 2.8 | B28: ='ORC.GENTIL MORENO'!$B$60 -> MURO DE ALA - 1 Unid. (DN1500) | C28: 1 | D28: Total | E28: ='ORC.GENTIL MORENO'!J68 -> 0 | J28: =E28/C28 -> 0
D29: Concedente
D30: Convenente
A31: ='ORC.GENTIL MORENO'!A69 -> 2.9 | B31: ='ORC.GENTIL MORENO'!B69 -> DISSIPADOR DE ENERGIA - 1 Unid. (DN1500) | C31: 1 | D31: Concedente | E31: ='ORC.GENTIL MORENO'!J82 -> 0 | J31: =E31/C31 -> 0
D32: Convenente
D33: Convenente
A34: ='ORC.GENTIL MORENO'!$A$83 -> 2.10 | B34: ='ORC.GENTIL MORENO'!$B$83 -> DEMOLICAO E RECOMPOSIÇÃO DA PAVIMENTACAO ASFALTICA E PASSEIOS | C34: 5 | D34: Total | E34: ='ORC.GENTIL MORENO'!J93 -> 0 | F34: =E34/C34 -> 0 | G34: =F34 -> 0 | H34: =G34 -> 0 | I34: =H34 -> 0 | J34: =I34 -> 0
D35: Concedente
D36: Convenente
D37: Concedente
D38: Convenente
D40: Concedente
D41: Convenente
E42: Mês | F42: =SUM(F7:F41) -> 0 | G42: =SUM(G7:G41) -> 0 | H42: =SUM(H7:H41) -> 0 | I42: =SUM(I7:I41) -> 0 | J42: =SUM(J7:J41) -> 0
E43: Acumulado | F43: =F42 -> 0 | G43: =F43+G42 -> 0 | H43: =G43+H42 -> 0 | I43: =H43+I42 -> 0 | J43: =I43+J42 -> 0
B46: PREFEITURA MUNICIPAL DE SERTÃOZINHO | F46: RESP TEC: | H46: Eng. Pedro Ivo de Almeida Santos
H47: ENG Consultoria e Projetos Ltda.
G48: CREA Nº 5061115668-SP | I48: ART Nº 92221220160964859

Sheet MEMORIA_CALCULO_REDE_DREN
A1: MEMÓRIA DE CÁLCULO – PLANILHA 1
A2: Trecho | B2: Diâmetro | C2: Comprimento (m) | D2: Escavação (m³) | E2: Demolição de Pavimento Asfáltico esp. 15cm (m³) | F2: Demolição (m²) | G2: Escavação Solo - 1° Categoria 0 a 2m (m³) | H2: Escavação Solo – 2° Categoria 2 a 6m (m³) | I2: Volume de tubulação no trecho (m³) | J2: Reaterro Compactado (m³) | K2: Volume de BGS compactado esp. 12cm (m³) | L2: Embasamento Granulometria brita n°4 (m³)
A3: PV 1 → PV 2 | B3: 800 | C3: 15.84 | D3: 33.07 | E3: 2.85 | F3: 19 | G3: 30.22 | H3: 0 | I3: 10.07 | J3: 20.15 | K3: 2.28 | L3: 3.8
A4: PV 2 → PV 3 | B4: 800 | C4: 11.24 | D4: 26.91 | E4: 2.02 | F4: 13.49 | G4: 24.89 | H4: 0 | I4: 7.15 | J4: 17.74 | K4: 1.62 | L4: 2.7
A5: PV 3 → PV 4 | B5: 800 | C5: 44.05 | D5: 111.01 | E5: 7.93 | F5: 52.86 | G5: 97.79 | H5: 5.29 | I5: 28.02 | J5: 75.06 | K5: 6.34 | L5: 10.57
A6: PV 4 → PV 5 | B6: 800 | C6: 10.72 | D6: 27.4 | E6: 1.93 | F6: 12.86 | G6: 23.8 | H6: 1.67 | I6: 6.82 | J6: 18.65 | K6: 1.54 | L6: 2.57
A7: PV 5 → PV 6 | B7: 800 | C7: 54.27 | D7: 150.11 | E7: 9.77 | F7: 65.12 | G7: 112.01 | H7: 28.33 | I7: 34.52 | J7: 105.82 | K7: 7.81 | L7: 13.02
A8: PV 6 → PV 7 | B8: 800 | C8: 53.48 | D8: 164.93 | E8: 9.62 | F8: 64.18 | G8: 118.73 | H8: 36.58 | I8: 34.02 | J8: 121.29 | K8: 7.7 | L8: 12.84
A9: PV 7 → PV 8 | B9: 1200 | C9: 33.09 | D9: 165.45 | E9: 7.94 | F9: 52.94 | G9: 97.95 | H9: 59.56 | I9: 43.9 | J9: 113.61 | K9: 6.35 | L9: 10.59
A10: PV 8 → PV 9 | B10: 1200 | C10: 98.69 | D10: 809.25 | E10: 29.61 | F10: 197.38 | G10: 365.15 | H10: 414.5 | I10: 130.96 | J10: 648.69 | K10: 23.69 | L10: 31.58
A11: PV 9 → PV 10 | B11: 1200 | C11: 98.3 | D11: 1085.63 | E11: 32.44 | F11: 216.26 | G11: 400.09 | H11: 653.11 | I11: 130.44 | J11: 923.57 | K11: 25.95 | L11: 31.46
A12: PV 10 → PV 11 | B12: 1200 | C12: 84.8 | D12: 1018.62 | E12: 27.98 | F12: 186.56 | G12: 345.14 | H12: 645.5 | I12: 112.53 | J12: 878.11 | K12: 22.39 | L12: 27.14
A13: PV 11 → PV 12 | B13: 1200 | C13: 76 | D13: 881.98 | E13: 25.08 | F13: 167.2 | G13: 309.32 | H13: 547.58 | I13: 100.85 | J13: 756.05 | K13: 20.06 | L13: 24.32
A14: PV 12 → PV 13 | B14: 1200 | C14: 85.9 | D14: 832.46 | E14: 28.35 | F14: 188.98 | G14: 349.61 | H14: 454.5 | I14: 113.99 | J14: 690.12 | K14: 22.68 | L14: 27.49
... A35: BL 26/27 → PV 18 | B35: 400 | C35: 27 | D35: 38.88 | E35: 4.86 | F35: 32.4 | G35: 34.02 | H35: 0 | I35: 5.3 | J35: 28.72 | K35: 3.89 | L35: 6.48
A36: Totais | C36: =SUM(C3:C35) -> 1292.63 | E36: =SUM(E3:E35) -> 297.48 | F36: =SUM(F3:F35) -> 1983.26 | G36: =SUM(G3:G35) -> 3692.57 | H36: =SUM(H3:H35) -> 3089.54 | I36: =SUM(I3:I35) -> 1304.98 | J36: =SUM(J3:J35) -> 5477.92 | K36: =SUM(K3:K35) -> 237.69 | L36: =SUM(L3:L35) -> 378.71
A40: Resumo:
A41: Tubo Ø400mm | C41: 247,00 metros
A42: Tubo Ø800mm | C42: 189,60 metros
A43: Tubo Ø1200mm | C43: 856,03 metros
A44: Total volume de escavação | C44: 6782,11 m³
A45: Total volume de reaterro | C45: 5477,92 m³
A46: Bota fora (1304,19 m³ x 5km, distância até Estação de Tratamento Esgototo) | C46: 6520,95 m³xkm
