Workbook

Sheet COLETOR TRONCO  JARDIM ITAPUÃ
A1: PLANILHA ORÇAMENTÁRIA DO COLETOR TRONCO DE ESGOTO SANITÁRIO JARDIM ITAPUÃ / RESIDENCIAL SALOMÃO ZATITE - SERTÃOZINHO/SP
A2: ITEM | G2: S/ BDI | H2: BDI CONFORME ACÓRDÃO 2369/2011 | J2: C/ BDI
A3: A | B3: =B10 -> SERVIÇOS GERAIS | C3: BOTA FORA | D3: 10 | E3: KM | G3: =G14 -> 0 | J3: =J10 -> 0 | P3: ADM | Q3: =J13/J6 -> 0 | R3: <3%
A4: B | B4: =B15 -> COLETOR TRONCO CT-15 | G4: =G15 -> 0 | J4: =J15 -> 2428.86 | P4: PROJTEC | Q4: =#REF!/#REF! -> #REF! | R4: >2,5%
C5: JAZIDA | D5: 10 | E5: KM | P5: PROJTEC | Q5: =#REF!/#REF! -> #REF! | R5: >2,5%
B6: TOTAL DA OBRA | G6: UN | J6: =SUM(J3:J5) -> 2428.86 | K6: BOTA FORA | N6: KM
A7: DATA BASE: SINAPI AGO/2019 / – CORDENADAS 21º07’32,84” S 47º59’44,35” O | F7: BDI - MATERIAL | G7: 0.1785 | K7: USINA DE ASFALTO | N7: KM
F8: BDI - SERVIÇOS | G8: 0.2334 | K8: JAZIDA | N8: KM | Q8: =#REF!*2.5% -> #REF!
A9: ITEM | B9: DESCRIÇÃO | C9: CÓDIGO | D9: UNID. | E9: QTDE. | F9: CUSTO UNITÁRIO (SEM BDI) - R$ | G9: CUSTO TOTAL R$ | H9: % BDI | I9: PREÇO UNITÁRIO C/ BDI (R$) | J9: PREÇO TOTAL C/ BDI (R$) | K9: MATERIAL TUBULAR OU EQUIP. ESPECIAL | L9: MEMORIAL DE CÁLCULO DE QUANTITATIVOS | Q9: =Q8/1.294 -> #REF!
A10: A | B10: SERVIÇOS GERAIS | G10: =SUM(G11) -> 0 | J10: =SUM(J11) -> 0 | Q10: 1860836.2
A11: 1 | B11: SERVIÇOS GERAIS | G11: =SUM(G14) -> 0 | J11: =SUM(J14) -> 0 | Q11: =Q10-J6 -> 1858407.3
A12: 1.1 | B12: GERAL
A13: 1.1.1 | B13: PLACA DE OBRA | C13: 74209/001 | D13: M2 | E13: 6 | G13: =ROUND(E13*F13,2) -> 0 | H13: =IF(K13="",$G$8,$G$7) -> 0.2334 | I13: =ROUND(F13*H13+F13,2) -> 0 | J13: =ROUND(E13*I13,2) -> 0 | L13: 2 MESES DE OBRA | N13: =IF(L13<0.04,"ok","ALERTA") -> ALERTA
B14: SUB-TOTAL | G14: =SUM(G13:G13) -> 0 | J14: =SUM(J13:J13) -> 0
A15: B | B15: COLETOR TRONCO CT-15 | G15: =G16 -> 0 | J15: =J16 -> 2428.86
A16: 2 | B16: COLETOR TRONCO DE ESGOTO BRUTO - | G16: =G19+G27+G36+G39+G42+G46+G51 -> 0 | J16: =J27+J19+J36+J39+J42+J46+J51 -> 2428.86
A17: 2.1 | B17: SERVIÇOS PRELIMINARES
A18: 2.1.1 | B18: =VLOOKUP(C18,'SINAPI JUL-19'!$A$2:$C$15060,2, 0) -> LOCAÇÃO DE REDE DE ÁGUA OU ESGOTO. AF_10/2018 | C18: 99063 | D18: =VLOOKUP(C18,'SINAPI JUL-19'!$A$2:$D$18560,3, 0) -> M | E18: 571.5 | G18: =ROUND(E18*F18,2) -> 0 | H18: =IF(K18="",$G$8,$G$7) -> 0.2334 | I18: =ROUND(F18*H18+F18,2) -> 0 | J18: =ROUND(E18*I18,2) -> 0 | L18: COMPRIMENTO TOTAL DO COLETOR
B19: SUB-TOTAL | G19: =SUM(G18) -> 0 | I19: =SUM(I18) -> 0 | J19: =SUM(J18) -> 0
A20: 2.2 | B20: MOVIMENTO DE TERRA
A21: 2.2.1 | B21: =VLOOKUP(C21,'SINAPI JUL-19'!$A$2:$C$15060,2, 0) -> ESCAVAÇÃO MECANIZADA DE VALA COM PROF. MAIOR QUE 1,5 M ATÉ 3,0 M (MÉDIA ENTRE MONTANTE E JUSANTE/UMA COMPOSIÇÃO POR TRECHO), COM ESCAVADEIRA HIDRÁULICA (0,8 M3/111 HP), LARG. DE 1,5 M A 2,5 M, EM SOLO DE 1A CATEGORIA, EM LOCAIS COM ALTO NÍVEL DE INTERFERÊNCIA. AF_01/2015 | C21: 90085 | D21: =VLOOKUP(C21,'SINAPI JUL-19'!$A$2:$D$8560,3, 0) -> M3 | E21: 1002.28 | G21: =ROUND(E21*F21,2) -> 0 | H21: =IF(K21="",$G$8,$G$7) -> 0.2334 | I21: =ROUND(F21*H21+F21,2) -> 0 | J21: =ROUND(E21*I21,2) -> 0 | L21: COMPRIMENTO DE CADA TRECHO X LARGURA DA VALA NO TRECHO X PROFUNDIDADE MÉDIA DA VALA NO TRECHO
A22: 2.2.3 | B22: =VLOOKUP(C22,'SINAPI JUL-19'!$A$2:$C$15060,2, 0) -> REATERRO MANUAL DE VALAS COM COMPACTAÇÃO MECANIZADA. AF_04/2016 | C22: 93382 | D22: =VLOOKUP(C22,'SINAPI JUL-19'!$A$2:$D$8560,3, 0) -> M3 | E22: 251.46 | G22: =ROUND(E22*F22,2) -> 0 | H22: =IF(K22="",$G$8,$G$7) -> 0.2334 | I22: =ROUND(F22*H22+F22,2) -> 0 | J22: =ROUND(E22*I22,2) -> 0 | L22: PARCELA DE REATERRO MANUAL ACIMA DA TUBULAÇÃO (10 CM) COM COMPACTAÇÃO MECANIZADA
A23: 2.2.4 | B23: REATERRO MECANIZADO DE VALA, PROFUNDIDADE ATÉ 3,00 METROS SOLO DE PRIMEIRA CATEGORIA. | C23: 93381 | D23: M3 | E23: 679 | G23: =ROUND(E23*F23,2) -> 0 | H23: =IF(K23="",$G$8,$G$7) -> 0.2334 | I23: =ROUND(F23*H23+F23,2) -> 0 | J23: =ROUND(E23*I23,2) -> 0 | L23: REATERRO ACIMA DA TUBULAÇÃO DESCONTANDO-SE LASTROS, EMBASAMENTO E O REATERRO MANUAL
A24: 2.2.5 | B24: =VLOOKUP(C24,'SINAPI JUL-19'!$A$2:$C$15060,2, 0) -> CARGA E DESCARGA MECANICA DE SOLO UTILIZANDO CAMINHAO BASCULANTE 6,0M3/16T E PA CARREGADEIRA SOBRE PNEUS 128 HP, CAPACIDADE DA CAÇAMBA 1,7 A 2,8 M3, PESO OPERACIONAL 11632 KG | C24: 74010/1 | D24: =VLOOKUP(C24,'SINAPI JUL-19'!$A$2:$D$8560,3, 0) -> M3 | E24: 71.82 | G24: =ROUND(E24*F24,2) -> 0 | H24: =IF(K24="",$G$8,$G$7) -> 0.2334 | I24: =ROUND(F24*H24+F24,2) -> 0 | J24: =ROUND(E24*I24,2) -> 0 | L24: TOTAL ESCAVADO MENOS O TOTAL REATERRADO
A25: 2.2.6 | B25: =VLOOKUP(C25,'SINAPI JUL-19'!$A$2:$C$15060,2, 0) -> TRANSPORTE COM CAMINHÃO BASCULANTE DE 6 M3, EM VIA URBANA PAVIMENTADA, DMT ATÉ 30 KM (UNIDADE: M3XKM). AF_01/2018 | C25: 97914 | D25: =VLOOKUP(C25,'SINAPI JUL-19'!$A$2:$D$8560,3, 0) -> M3XKM | E25: 718.2 | G25: =ROUND(E25*F25,2) -> 0 | H25: =IF(K25="",$G$8,$G$7) -> 0.2334 | I25: =ROUND(F25*H25+F25,2) -> 0 | J25: =ROUND(E25*I25,2) -> 0 | L25: TOTAL CARREGADO * DISTANCIA DO BOTA FORA
A26: 2.2.7 | B26: =VLOOKUP(C26,'SINAPI JUL-19'!$A$2:$C$15060,2, 0) -> ESPALHAMENTO DE MATERIAL EM BOTA FORA, COM UTILIZACAO DE TRATOR DE ESTEIRAS DE 165 HP | C26: 83344 | D26: =VLOOKUP(C26,'SINAPI JUL-19'!$A$2:$D$8560,3, 0) -> M3 | E26: =E24 -> 71.82 | G26: =ROUND(E26*F26,2) -> 0 | H26: =IF(K26="",$G$8,$G$7) -> 0.2334 | I26: =ROUND(F26*H26+F26,2) -> 0 | J26: =ROUND(E26*I26,2) -> 0 | L26: TOTAL CARREGADO
B27: SUB-TOTAL | G27: =SUM(G21:G26) -> 0 | J27: =SUM(J21:J26) -> 0
A28: 2.3 | B28: CALÇADAS
A29: 2.3.1 | B29: DEMOLIÇÃO DE PISO DE CONCRETO SIMPLES (MANUAL) , ESPESSURA 5,00 CM | C29: 301020 | D29: M3 | E29: 10.89 | G29: =ROUND(E29*F29,2) -> 0 | H29: =IF(K29="",$G$8,$G$7) -> 0.2334 | I29: =ROUND(F29*H29+F29,2) -> 0 | J29: =ROUND(E29*I29,2) -> 0 | L29: COMPRIMENTO TOTAL DO COLETOR * ESPESSURA DA CAMADA DE EMBASAMENTO DE AREIA (0,10 M) SOB A TUBULAÇÃO + ESPESSURA DA CAMADA DE EMBASAMENTO DE AREIA (0,20 M EM MÉDIA) NAS LATERAIS DA TUBULAÇÃO
A30: 2.3.2 | B30: TRANSPORTE COM CAMINHÃO BASCULANTE DE 6 M3, EM VIA URBANA PAVIMENTADA, DTM ATÉ 30 KM(UNIDADE M3XKM) AF 01/2018 | C30: 97914 | D30: M3XKM | E30: 108.9 | H30: 0.2334 | I30: 2.47 | J30: 2.68,98
A31: 2.3.3 | B31: REGULARIZAÇÃO E COMPACTAÇÃO MECANIZADA DE SUPERFÍCIE, SEM CONTROLE DE PROCTOR NORMAL. | C31: 428.5 | D31: M2 | E31: 428.5 | H31: =IF(K31="",$G$8,$G$7) -> 0.2334 | I31: =ROUND(F31*H31+F31,2) -> 0 | J31: =ROUND(E31*I31,2) -> 0 | L31: VOLUME TOTAL DE AREIA UTILIZADA PARA O EMBASAMENTO
A32: 2.3.4 | B32: LASTRO DE PEDRA BRITADA, ESPESSURA 3 CM. | C32: 96396 | D32: M3 | E32: 12.86 | H32: 0.2334 | J32: 1440.45
A33: 2.3.5 | B33: PISO EM CONCRETO 25 MPA USINADO, ESPESSURA 8,00 CM ARMADO COM TELA TELCON Q-61 COM JUNTAS SERRADAS CADA 2,00 METROS, INCLUSO POLIMENTO COM DESEMPENADEIRA ELÉTRICA. | C33: COMP 01 | D33: M2 | E33: 428.5 | G33: =ROUND(E33*F33,2) -> 0 | H33: =IF(K33="",$G$8,$G$7) -> 0.2334 | I33: =ROUND(F33*H33+F33,2) -> 0 | J33: =ROUND(E33*I33,2) -> 0 | L33: TOTAL CARREGADO * DISTÂNCIA A PARTIR DA JAZIDA
A34: 2.3.6 | B34: COLOCAÇÃO DE RESIDUOS DA CONSTRUÇÃO CIVIL EM RCC AUTORIZADO NO MUNICIPIO | C34: LOCAL | D34: TON | E34: 17.42 | H34: 0.2334 | J34: 988.41
A35: 2.3.7 | B35: PLANTIO DE GRAMA ESMERALDA EM PLACAS | C35: 3402100 | D35: M2 | E35: 43.55 | G35: =E35*F35 -> 0 | H35: 0.2334 | I35: =F35+(F35*H35) -> 0 | J35: =I35*E35 -> 0
B36: SUB-TOTAL | G36: =SUM(G29:G35) -> 0 | J36: =SUM(J29:J35) -> 2428.86
A37: 2.4 | B37: ESCORAMENTO
A38: 2.4.1 | B38: =VLOOKUP(C38,'SINAPI JUL-19'!$A$2:$C$15060,2, 0) -> ESCORAMENTO DE VALA, TIPO DESCONTÍNUO, COM PROFUNDIDADE DE 1,5 M A 3,0 M, LARGURA MENOR QUE 1,5 M, EM LOCAL COM NÍVEL BAIXO DE INTERFERÊNCIA. AF_06/2016 | C38: 94057 | D38: =VLOOKUP(C38,'SINAPI JUL-19'!$A$2:$D$8560,3, 0) -> M2 | E38: 372.34 | G38: =ROUND(E38*F38,2) -> 0 | H38: =IF(K38="",$G$8,$G$7) -> 0.2334 | I38: =ROUND(F38*H38+F38,2) -> 0 | J38: =ROUND(E38*I38,2) -> 0 | L38: COMPRIMENTO TOTAL DO COLETOR MENOS O TRECHO DE ESCORAMENTO DESCONTÍNUO * PROFUNDIDADE MÉDIA DA VALA (1,50 M) * 2 LADOS DA VALA
B39: SUB-TOTAL | G39: =SUM(G38:G38) -> 0 | J39: =SUM(J38:J38) -> 0
A40: 2.5 | B40: ESGOTAMENTO
...

Sheet Memoria de calculo do  CT JD ITAPUÃ15
A1: PLANILHA MEMÓRIA DE CÁLCULO DO COLETOR TRONCO DE ESGOTO SANITÁRIO JARDIM ITAPUÃ / RESIDENCIAL SALOMÃO ZATITE - SERTÃOZINHO/SP
A2: ITEM | G2: S/ BDI | H2: BDI CONFORME ACÓRDÃO 2369/2011 | J2: C/ BDI
A3: A | B3: =B10 -> SERVIÇOS GERAIS | C3: BOTA FORA | E3: 6,00 KM | G3: =#REF! -> #REF! | J3: =J10 -> #REF! | P3: ADM | Q3: =J13/J6 -> #REF! | R3: <3%
A4: B | B4: =B14 -> COLETOR TRONCO CT-15 | C4: USINA DE ASFALTO | E4: 25,0 KM | G4: =#REF! -> #REF! | J4: =#REF! -> #REF! | P4: PROJTEC | Q4: =#REF!/#REF! -> #REF! | R4: >2,5%
C5: JAZIDA | E5: 8,0 KM | G5: =G14 -> #REF! | J5: =J14 -> #REF! | P5: PROJTEC | Q5: =#REF!/#REF! -> #REF! | R5: >2,5%
B6: TOTAL DA OBRA | G6: =SUM(G3:G5) -> #REF! | J6: =SUM(J3:J5) -> #REF! | K6: BOTA FORA | N6: KM
A7: DATA BASE: SINAPI AGO/2019 / – CORDENADAS 21º07’32,84” S 47º59’44,35” O | F7: BDI - MATERIAL | G7: 0.196 | K7: USINA DE ASFALTO | N7: KM
F8: BDI - SERVIÇOS | G8: 0.294 | K8: JAZIDA | N8: KM | Q8: =#REF!*2.5% -> #REF!
A9: ITEM | B9: DESCRIÇÃO | C9: CÓDIGO | D9: UNID. | E9: QTDE. | F9: CUSTO UNITÁRIO (SEM BDI) - R$ | G9: CUSTO TOTAL R$ | H9: % BDI | I9: PREÇO UNITÁRIO C/ BDI (R$) | J9: PREÇO TOTAL C/ BDI (R$) | K9: MATERIAL TUBULAR OU EQUIP. ESPECIAL | L9: MEMORIAL DE CÁLCULO DE QUANTITATIVOS | Q9: =Q8/1.294 -> #REF!
A10: A | B10: SERVIÇOS GERAIS | G10: =SUM(G11) -> #REF! | J10: =SUM(J11) -> #REF! | Q10: 1860836.2
A11: 1 | B11: SERVIÇOS GERAIS | G11: =SUM(#REF!) -> #REF! | J11: =SUM(#REF!) -> #REF! | Q11: =Q10-J6 -> #REF!
A12: 1.1 | B12: GERAL
A13: 1.1.1 | B13: PLACA DE OBRA | C13: 74209/001 | D13: M2 | E13: 6 | F13: 5350 | G13: =ROUND(E13*F13,2) -> 32100 | H13: =IF(K13="",$G$8,$G$7) -> 0.294 | I13: =ROUND(F13*H13+F13,2) -> 6922.9 | J13: =ROUND(E13*I13,2) -> 41537.4 | L13: 2M * 3M = 6M2 | N13: =IF(L13<0.04,"ok","ALERTA") -> ALERTA
A14: B | B14: COLETOR TRONCO CT-15 | G14: =G15 -> #REF! | J14: =J15 -> #REF!
A15: 2 | B15: COLETOR TRONCO DE ESGOTO BRUTO - | G15: =#REF!+#REF!+G25+G30+G33+G35+G38+G43 -> #REF! | J15: =#REF!+#REF!+J25+J30+J33+J35+J38+J43 -> #REF!
A16: 2.1 | B16: SERVIÇOS PRELIMINARES
A17: 2.1.1 | B17: =VLOOKUP(C17,'SINAPI JUL-19'!$A$2:$C$15060,2, 0) -> LOCAÇÃO DE REDE DE ÁGUA OU ESGOTO. AF_10/2018 | C17: 99063 | D17: =VLOOKUP(C17,'SINAPI JUL-19'!$A$2:$D$18560,3, 0) -> M | E17: 571.5 | F17: =VLOOKUP(C17,'SINAPI JUL-19'!$A$2:$D$9600,4, 0) -> 3,28 | G17: =ROUND(E17*F17,2) -> 1874.52 | H17: =IF(K17="",$G$8,$G$7) -> 0.294 | I17: =ROUND(F17*H17+F17,2) -> 4.24 | J17: =ROUND(E17*I17,2) -> 2423.16 | L17: PROJETO – 571,50M
A18: 2.2 | B18: MOVIMENTO DE TERRA
A19: 2.2.1 | B19: =VLOOKUP(C19,'SINAPI JUL-19'!$A$2:$C$15060,2, 0) -> ESCAVAÇÃO MECANIZADA DE VALA COM PROF. MAIOR QUE 1,5 M ATÉ 3,0 M (MÉDIA ENTRE MONTANTE E JUSANTE/UMA COMPOSIÇÃO POR TRECHO), COM ESCAVADEIRA HIDRÁULICA (0,8 M3/111 HP), LARG. DE 1,5 M A 2,5 M, EM SOLO DE 1A CATEGORIA, EM LOCAIS COM ALTO NÍVEL DE INTERFERÊNCIA. AF_01/2015 | C19: 90085 | D19: =VLOOKUP(C19,'SINAPI JUL-19'!$A$2:$D$8560,3, 0) -> M3 | E19: 1002.28 | F19: =VLOOKUP(C19,'SINAPI JUL-19'!$A$2:$D$9600,4, 0) -> 7,73 | G19: =ROUND(E19*F19,2) -> 7747.62 | H19: =IF(K19="",$G$8,$G$7) -> 0.294 | I19: =ROUND(F19*H19+F19,2) -> 10 | J19: =ROUND(E19*I19,2) -> 10022.8 | L19: (2,058 + 2,285)/2) * 1,10 * 47,00 + (2,285 + 2,801)/2) * 1,10 * 35,50 + (2,801 + 0,911)/2) * 1,10 * 106,00 + (0,911 + 1,06)/2) * 1,10 * 51,50 + (1,06 + 1,102)/2) * 1,10 * 86,00 + (1,102 + 1,365)/2) * 1,10 * 52,00 + (1,365 + 1,714)/2) * 1,10 * 67,50 + (1,714 + 1,50/2) * 1,10 * 42,00 + (1,50 + 1,90/2) * 1,10 * 84,00 = 112,29 + 99,3 + 216,41 + 55,83 + 102,26 + 70,56 + 114,31 + 74,24 + 157,08 = 1002,28M3
A20: 2.2.3 | B20: =VLOOKUP(C20,'SINAPI JUL-19'!$A$2:$C$15060,2, 0) -> REATERRO MANUAL DE VALAS COM COMPACTAÇÃO MECANIZADA. AF_04/2016 | C20: 93382 | D20: =VLOOKUP(C20,'SINAPI JUL-19'!$A$2:$D$8560,3, 0) -> M3 | E20: 251.46 | F20: =VLOOKUP(#REF!,'SINAPI JUL-19'!$A$2:$D$9600,4, 0) -> #VALUE! | G20: =ROUND(E20*F20,2) -> #VALUE! | H20: =IF(K20="",$G$8,$G$7) -> 0.294 | I20: =ROUND(F20*H20+F20,2) -> #VALUE! | J20: =ROUND(E20*I20,2) -> #VALUE! | L20: 571,50M * 0,40M * 1,10M (h) = 251,46M3
A21: 2.2.4 | B21: REATERRO MECANIZADO DE VALA, PROFUNDIDADE ATÉ 3,00 METROS SOLO DE PRIMEIRA CATEGORIA. | C21: 93381 | D21: M3 | E21: 679 | F21: =VLOOKUP(C21,'SINAPI JUL-19'!$A$2:$D$9600,4, 0) -> #N/A | G21: =ROUND(E21*F21,2) -> #N/A | H21: =IF(K21="",$G$8,$G$7) -> 0.294 | I21: =ROUND(F21*H21+F21,2) -> #N/A | J21: =ROUND(E21*I21,2) -> #N/A | L21: VOL. TUBULAÇÃO = 0,20² * π * 571,50M = 71,82M3 REATERRO MECANIZADO = VOL. TOTAL – REATERRO MANUAL – VOL. TUBULAÇÃO REATERRO MECANIZADO = 1002,28 – 251,46 – 71,82 = 679,00M3
A22: 2.2.5 | B22: =VLOOKUP(C22,'SINAPI JUL-19'!$A$2:$C$15060,2, 0) -> CARGA E DESCARGA MECANICA DE SOLO UTILIZANDO CAMINHAO BASCULANTE 6,0M3/16T E PA CARREGADEIRA SOBRE PNEUS 128 HP, CAPACIDADE DA CAÇAMBA 1,7 A 2,8 M3, PESO OPERACIONAL 11632 KG | C22: 74010/1 | D22: =VLOOKUP(C22,'SINAPI JUL-19'!$A$2:$D$8560,3, 0) -> M3 | E22: 71.82 | F22: =VLOOKUP(C22,'SINAPI JUL-19'!$A$2:$D$9600,4, 0) -> 1,72 | G22: =ROUND(E22*F22,2) -> 123.53 | H22: =IF(K22="",$G$8,$G$7) -> 0.294 | I22: =ROUND(F22*H22+F22,2) -> 2.23 | J22: =ROUND(E22*I22,2) -> 160.16 | L22: VOLUME = 71,82M3
A23: 2.2.6 | B23: =VLOOKUP(C23,'SINAPI JUL-19'!$A$2:$C$15060,2, 0) -> TRANSPORTE COM CAMINHÃO BASCULANTE DE 6 M3, EM VIA URBANA PAVIMENTADA, DMT ATÉ 30 KM (UNIDADE: M3XKM). AF_01/2018 | C23: 97914 | D23: =VLOOKUP(C23,'SINAPI JUL-19'!$A$2:$D$8560,3, 0) -> M3XKM | E23: 718.2 | F23: =VLOOKUP(C23,'SINAPI JUL-19'!$A$2:$D$9600,4, 0) -> 1,61 | G23: =ROUND(E23*F23,2) -> 1156.3 | H23: =IF(K23="",$G$8,$G$7) -> 0.294 | I23: =ROUND(F23*H23+F23,2) -> 2.08 | J23: =ROUND(E23*I23,2) -> 1493.86 | L23: VOLUME = 71,82M3 * 10KM = 718,20M3*KM
A24: 2.2.7 | B24: =VLOOKUP(C24,'SINAPI JUL-19'!$A$2:$C$15060,2, 0) -> ESPALHAMENTO DE MATERIAL EM BOTA FORA, COM UTILIZACAO DE TRATOR DE ESTEIRAS DE 165 HP | C24: 83344 | D24: =VLOOKUP(C24,'SINAPI JUL-19'!$A$2:$D$8560,3, 0) -> M3 | E24: =E22 -> 71.82 | F24: =VLOOKUP(C24,'SINAPI JUL-19'!$A$2:$D$9600,4, 0) -> 0,97 | G24: =ROUND(E24*F24,2) -> 69.67 | H24: =IF(K24="",$G$8,$G$7) -> 0.294 | I24: =ROUND(F24*H24+F24,2) -> 1.26 | J24: =ROUND(E24*I24,2) -> 90.49 | L24: VOLUME = 71,82M3
A25: 2.3 | B25: CALÇADAS | G25: =SUM(G19:G24) -> #VALUE! | J25: =SUM(J19:J24) -> #VALUE!
A26: 2.3.1 | B26: DEMOLIÇÃO DE PISO DE CONCRETO SIMPLES (MANUAL) , ESPESSURA 5,00 CM | C26: 301020 | D26: M3 | E26: 10.89 | L26: DEMOLIÇÃO DE CALÇADA EXISTENTE RUA JOSÉ SOLDERA. ÁREA = 217,74M2; ESPESSURA = 5CM VOLUME = 217,74M2 *0,05M = 10,89M3
A27: 2.3.2 | B27: TRANSPORTE COM CAMINHÃO BASCULANTE DE 6 M3, EM VIA URBANA PAVIMENTADA, DTM ATÉ 30 KM(UNIDADE M3XKM) AF 01/2018 | C27: 97914 | D27: M3XKM | E27: 108.9 | F27: =VLOOKUP(C27,'SINAPI JUL-19'!$A$2:$D$9600,4, 0) -> #N/A | G27: =ROUND(E27*F27,2) -> #N/A | H27: =IF(K27="",$G$8,$G$7) -> 0.294 | I27: =ROUND(F27*H27+F27,2) -> #N/A | J27: =ROUND(E27*I27,2) -> #N/A | L27: VALOR = 10,89M3 * 10KM = 108,90M3*KM
A28: 2.3.3 | B28: REGULARIZAÇÃO E COMPACTAÇÃO MECANIZADA DE SUPERFÍCIE, SEM CONTROLE DE PROCTOR NORMAL. | C28: 428.5 | D28: M2 | E28: 428.5 | F28: =VLOOKUP(C28,'SINAPI JUL-19'!$A$2:$D$9600,4, 0) -> #N/A | G28: =ROUND(E28*F28,2) -> #N/A | H28: =IF(K28="",$G$8,$G$7) -> 0.294 | I28: =ROUND(F28*H28+F28,2) -> #N/A | J28: =ROUND(E28*I28,2) -> #N/A | L28: ÁREA = 428,50M2
A29: 2.3.4 | B29: LASTRO DE PEDRA BRITADA, ESPESSURA 3 CM. | C29: 96396 | D29: M3 | E29: 12.86 | F29: =VLOOKUP(C29,'SINAPI JUL-19'!$A$2:$D$9600,4, 0) -> #N/A | G29: =ROUND(E29*F29,2) -> #N/A | H29: =IF(K29="",$G$8,$G$7) -> 0.294 | I29: =ROUND(F29*H29+F29,2) -> #N/A | J29: =ROUND(E29*I29,2) -> #N/A | L29: VALOR = 428,50M2 * 0,03M = 12,86M3
A30: 2.3.5 | B30: PISO EM CONCRETO 25 MPA USINADO, ESPESSURA 8,00 CM ARMADO COM TELA TELCON Q-61 COM JUNTAS SERRADAS CADA 2,00 METROS, INCLUSO POLIMENTO COM DESEMPENADEIRA ELÉTRICA. | C30: COMP 01 | D30: M2 | E30: 428.5 | G30: =SUM(G27:G29) -> #N/A | J30: =SUM(J27:J29) -> #N/A | L30: ÁREA DO PISO = 428,50M2 (PROJETO)
A31: 2.3.6 | B31: COLOCAÇÃO DE RESIDUOS DA CONSTRUÇÃO CIVIL EM RCC AUTORIZADO NO MUNICIPIO | C31: LOCAL | D31: TON | E31: 17.42 | L31: PESO = 10,89 * 1,60TON/M3 = 17,42TON
A32: 2.3.7 | B32: PLANTIO DE GRAMA ESMERALDA EM PLACAS | C32: 3402100 | D32: M2 | E32: 43.55 | F32: =VLOOKUP(C32,'SINAPI JUL-19'!$A$2:$D$9600,4, 0) -> #N/A | G32: =ROUND(E32*F32,2) -> #N/A | H32: =IF(K32="",$G$8,$G$7) -> 0.294 | I32: =ROUND(F32*H32+F32,2) -> #N/A | J32: =ROUND(E32*I32,2) -> #N/A | L32: ÁREA = 43,55M2 (PROJETO)
A33: 2.4 | B33: ESCORAMENTO | G33: =SUM(G32:G32) -> #N/A | J33: =SUM(J32:J32) -> #N/A
A34: 2.4.1 | B34: =VLOOKUP(C34,'SINAPI JUL-19'!$A$2:$C$15060,2, 0) -> ESCORAMENTO DE VALA, TIPO DESCONTÍNUO, COM PROFUNDIDADE DE 1,5 M A 3,0 M, LARGURA MENOR QUE 1,5 M, EM LOCAL COM NÍVEL BAIXO DE INTERFERÊNCIA. AF_06/2016 | C34: 94057 | D34: =VLOOKUP(C34,'SINAPI JUL-19'!$A$2:$D$8560,3, 0) -> M2 | E34: 372.34 | L34: ÁREA = 2 * (((2,28 + 2,80)/2) * 35,50) + 2 * (((2,80 + 2,00)/2) * 40,00) = 372,34M2
A35: 2.5 | B35: ESGOTAMENTO | G35: =SUM(#REF!) -> #REF! | J35: =SUM(#REF!) -> #REF!
A36: 2.5.1 | B36: =VLOOKUP(C36,'SINAPI JUL-19'!$A$2:$C$15060,2, 0) -> LOCACAO DE BOMBA SUBMERSIVEL PARA DRENAGEM E ESGOTAMENTO, MOTOR ELETRICO TRIFASICO, POTENCIA DE 1 CV, DIAMETRO DE RECALQUE DE 2". FAIXA DE OPERACAO: Q=25 M3/H (+ OU - 1 M3/H) E AMT=2 M; Q=12 M3/H (+ OU - 2 M3/H) E AMT = 12 M (+ OU - 2 M) | C36: 4084 | D36: =VLOOKUP(C36,'SINAPI JUL-19'!$A$2:$D$18560,3, 0) -> H | E36: 100 | L36: PREVISÃO = 100H
A37: 2.6 | B37: HIDRÁULICA | F37: =VLOOKUP(C37,'SINAPI JUL-19'!$A$2:$D$19600,4, 0) -> #N/A | G37: =ROUND(E37*F37,2) -> #N/A | H37: =IF(K37="",$G$8,$G$7) -> 0.294 | I37: =ROUND(F37*H37+F37,2) -> #N/A | J37: =ROUND(E37*I37,2) -> #N/A
A38: 2.6.1 | B38: =VLOOKUP(C38,'SINAPI JUL-19'!$A$2:$C$15060,2, 0) -> TUBO PVC CORRUGADO, PAREDE DUPLA, JE, DN 400 MM, REDE COLETORA ESGOTO | C38: 38037 | D38: =VLOOKUP(C38,'SINAPI JUL-19'!$A$2:$D$18560,3, 0) -> M | E38: 571.5 | G38: =SUM(G37:G37) -> #N/A | J38: =SUM(J37:J37) -> #N/A | L38: TUBO Ø400MM – COMPRIMENTO = 571,50M (PROJETO)
A39: 2.6.2 | B39: =VLOOKUP(C39,'SINAPI JUL-19'!$A$2:$C$15060,2, 0) -> ASSENTAMENTO DE TUBO DE PVC CORRUGADO DE DUPLA PAREDE PARA REDE COLETORA DE ESGOTO, DN 400 MM, EM JUNTA ELÁSTICA, INSTALADO EM LOCAL COM NÍVEL ALTO DE INTERFERÊNCIAS (NÃO INCLUI FORNECIMENTO). AF_06/2015 | C39: 90760 | D39: =VLOOKUP(C39,'SINAPI JUL-19'!$A$2:$D$18560,3, 0) -> M | E39: =E38 -> 571.5 | L39: COMPRIMENTO = 571,50M (PROJETO)
A40: 2.7 | B40: PV'S | F40: =VLOOKUP(C40,'SINAPI JUL-19'!$A$2:$D$9600,4, 0) -> #N/A | G40: =ROUND(E40*F40,2) -> #N/A | H40: =IF(K40="",$G$8,$G$7) -> 0.294 | I40: =ROUND(F40*H40+F40,2) -> #N/A | J40: =ROUND(E40*I40,2) -> #N/A
...

Sheet COLETOR TRONCO CT ITAPUÃ
A1: PLANILHA ORÇAMENTÁRIA DO COLETOR TRONCO DE ESGOTO SANITÁRIO JARDIM ITAPUÃ / RESIDENCIAL SALOMÃO ZATITE - SERTÃOZINHO/SP | P1: Contrapartida
A2: DATA BASE: SINAPI AGO/2019 / – Cordenadas 21º07’32,84” S 47º59’44,35” O | H2: BDI - MATERIAL | I2: 0.1785 | P2: 0
H3: BDI - SERVIÇOS | I3: 0.2334 | M3: =#REF!*2.5% -> #REF!
A4: CRONOGRAMA FISICO-FINANCEIRO
A5: ITEM | B5: DESCRIÇÃO DOS SERVIÇOS | C5: DURAÇÃO (MESES) | E5: TOTAL | F5: 30 DIAS | H5: 30 DIAS | I5: QUINZENA 4
A6: 1 | B6: ='COLETOR TRONCO JARDIM ITAPUÃ'!B10 -> SERVIÇOS GERAIS
A7: ='COLETOR TRONCO JARDIM ITAPUÃ'!A12 -> 1.1 | B7: ='COLETOR TRONCO JARDIM ITAPUÃ'!B12 -> GERAL | C7: 2 | D7: Total | E7: ='COLETOR TRONCO JARDIM ITAPUÃ'!J14 -> 0 | F7: =E7/C7 -> 0 | H7: =E7/C7 -> 0 | P7: =SUM(F8:I8) -> 0 | Q7: =P7-E7 -> 0
H8: =G8 -> 0 | I8: =H8 -> 0
A10: 2 | B10: ='COLETOR TRONCO JARDIM ITAPUÃ'!B16 -> COLETOR TRONCO DE ESGOTO BRUTO -
A11: ='COLETOR TRONCO JARDIM ITAPUÃ'!A17 -> 2.1 | B11: ='COLETOR TRONCO JARDIM ITAPUÃ'!B17 -> SERVIÇOS PRELIMINARES | C11: 1 | D11: Total | E11: ='COLETOR TRONCO JARDIM ITAPUÃ'!J19 -> 0 | F11: =E11 -> 0 | H11: - | P11: =SUM(F12:M12) -> 0 | Q11: =P11-E11 -> 0
F12: =E11/C11 -> 0
A14: ='COLETOR TRONCO JARDIM ITAPUÃ'!A20 -> 2.2 | B14: ='COLETOR TRONCO JARDIM ITAPUÃ'!B20 -> MOVIMENTO DE TERRA | C14: 2 | D14: Total | E14: ='COLETOR TRONCO JARDIM ITAPUÃ'!J27 -> 0 | F14: =E14/C14 -> 0 | H14: =E14/C14 -> 0 | P14: =SUM(G15:M15) -> 0 | Q14: =P14-E14 -> 0
H15: =E14/C14 -> 0 | I15: =H15 -> 0
A17: ='COLETOR TRONCO JARDIM ITAPUÃ'!A28 -> 2.3 | B17: ='COLETOR TRONCO JARDIM ITAPUÃ'!B28 -> CALÇADAS | C17: 2 | D17: Total | E17: ='COLETOR TRONCO JARDIM ITAPUÃ'!J36 -> 2428.86 | F17: =E17/C17 -> 1214.43 | H17: =E17/C17 -> 1214.43 | P17: =SUM(F18:M18) -> 3643.29 | Q17: =P17-E17 -> 1214.43
F18: =E17/C17 -> 1214.43 | G18: =F18 -> 1214.43 | H18: =G18 -> 1214.43
A20: ='COLETOR TRONCO JARDIM ITAPUÃ'!A37 -> 2.4 | B20: ='COLETOR TRONCO JARDIM ITAPUÃ'!B37 -> ESCORAMENTO | C20: 2 | D20: Total | E20: ='COLETOR TRONCO JARDIM ITAPUÃ'!J39 -> 0 | F20: =E20/C20 -> 0 | H20: =E20/C20 -> 0 | P20: =SUM(F21:M21) -> 0 | Q20: =P20-E20 -> 0
F21: =E20/C20 -> 0 | G21: =F21 -> 0 | H21: =G21 -> 0
A23: ='COLETOR TRONCO JARDIM ITAPUÃ'!A40 -> 2.5 | B23: ='COLETOR TRONCO JARDIM ITAPUÃ'!B40 -> ESGOTAMENTO | C23: 1 | D23: Total | E23: ='COLETOR TRONCO JARDIM ITAPUÃ'!J42 -> 0 | F23: =E23 -> 0 | H23: - | P23: =SUM(F24:M24) -> 0 | Q23: =P23-E23 -> 0
G24: =E23/C23 -> 0
A26: ='COLETOR TRONCO JARDIM ITAPUÃ'!A43 -> 2.6 | B26: ='COLETOR TRONCO JARDIM ITAPUÃ'!B43 -> HIDRÁULICA | C26: 2 | D26: Total | E26: ='COLETOR TRONCO JARDIM ITAPUÃ'!J46 -> 0 | F26: =E26/C26 -> 0 | H26: =E26/C26 -> 0 | P26: =SUM(F27:M27) -> 0 | Q26: =P26-E26 -> 0
G27: =E26/C26 -> 0 | H27: =G27 -> 0 | I27: =H27 -> 0
A29: ='COLETOR TRONCO JARDIM ITAPUÃ'!A47 -> 2.7 | B29: ='COLETOR TRONCO JARDIM ITAPUÃ'!B47 -> PV'S | C29: 2 | D29: Total | E29: ='COLETOR TRONCO JARDIM ITAPUÃ'!J51 -> 0 | F29: =E29/C29 -> 0 | H29: =E29/C29 -> 0 | P29: =SUM(F30:M30) -> 0 | Q29: =P29-E29 -> 0
G30: =E29/C29 -> 0 | H30: =G30 -> 0 | I30: =H30 -> 0
C33: SOMA MENSAL | F33: =SUM(F7,F11,F14,F17,F20,F23,F26,F29) -> 1214.43 | H33: =SUM(H7,H11,H14,H17,H20,H23,H26,H29) -> 1214.43 | P33: =SUM(F33:M33) -> 2428.86 | Q33: =P33-#REF! -> #REF!
C34: SOMA TOTAL | F34: =F33 -> 1214.43 | H34: =SUM(H33,F34) -> 2428.86 | P34: =#REF!-#REF! -> #REF!
V35: =SUM(O33:O34) -> 0
B39: Prefeitura Municipal de Sertãozinho | F39: ENG Consultoria e Projetos Ltda.
F40: Pedro Ivo de Almeida Santos
F41: CREA: 5061115668 ART: 28027230181372514

Sheet SINAPI JUL-19
A1: CODIGO DA COMPOSICAO | B1: DESCRICAO DA COMPOSICAO | C1: UNIDADE | D1: CUSTO TOTAL
A3: 97141 | B3: ASSENTAMENTO DE TUBO DE FERRO FUNDIDO PARA REDE DE ÁGUA, DN 80 MM, JUNTA ELÁSTICA, INSTALADO EM LOCAL COM NÍVEL ALTO DE INTERFERÊNCIAS (NÃO INCLUI FORNECIMENTO). AF_11/2017 | C3: M | D3: 6,99
A4: 97142 | B4: ASSENTAMENTO DE TUBO DE FERRO FUNDIDO PARA REDE DE ÁGUA, DN 100 MM, JUNTA ELÁSTICA, INSTALADO EM LOCAL COM NÍVEL ALTO DE INTERFERÊNCIAS (NÃO INCLUI FORNECIMENTO). AF_11/2017 | C4: M | D4: 7,79
A5: 97143 | B5: ASSENTAMENTO DE TUBO DE FERRO FUNDIDO PARA REDE DE ÁGUA, DN 150 MM, JUNTA ELÁSTICA, INSTALADO EM LOCAL COM NÍVEL ALTO DE INTERFERÊNCIAS (NÃO INCLUI FORNECIMENTO). AF_11/2017 | C5: M | D5: 9,84
A6: 97144 | B6: ASSENTAMENTO DE TUBO DE FERRO FUNDIDO PARA REDE DE ÁGUA, DN 200 MM, JUNTA ELÁSTICA, INSTALADO EM LOCAL COM NÍVEL ALTO DE INTERFERÊNCIAS (NÃO INCLUI FORNECIMENTO). AF_11/2017 | C6: M | D6: 11,85
A7: 97145 | B7: ASSENTAMENTO DE TUBO DE FERRO FUNDIDO PARA REDE DE ÁGUA, DN 250 MM, JUNTA ELÁSTICA, INSTALADO EM LOCAL COM NÍVEL ALTO DE INTERFERÊNCIAS (NÃO INCLUI FORNECIMENTO). AF_11/2017 | C7: M | D7: 13,90
A8: 97146 | B8: ASSENTAMENTO DE TUBO DE FERRO FUNDIDO PARA REDE DE ÁGUA, DN 300 MM, JUNTA ELÁSTICA, INSTALADO EM LOCAL COM NÍVEL ALTO DE INTERFERÊNCIAS (NÃO INCLUI FORNECIMENTO). AF_11/2017 | C8: M | D8: 15,95
A9: 97147 | B9: ASSENTAMENTO DE TUBO DE FERRO FUNDIDO PARA REDE DE ÁGUA, DN 350 MM, JUNTA ELÁSTICA, INSTALADO EM LOCAL COM NÍVEL ALTO DE INTERFERÊNCIAS (NÃO INCLUI FORNECIMENTO). AF_11/2017 | C9: M | D9: 17,98
A10: 97148 | B10: ASSENTAMENTO DE TUBO DE FERRO FUNDIDO PARA REDE DE ÁGUA, DN 400 MM, JUNTA ELÁSTICA, INSTALADO EM LOCAL COM NÍVEL ALTO DE INTERFERÊNCIAS (NÃO INCLUI FORNECIMENTO). AF_11/2017 | C10: M | D10: 20,02
A11: 97149 | B11: ASSENTAMENTO DE TUBO DE FERRO FUNDIDO PARA REDE DE ÁGUA, DN 450 MM, JUNTA ELÁSTICA, INSTALADO EM LOCAL COM NÍVEL ALTO DE INTERFERÊNCIAS (NÃO INCLUI FORNECIMENTO). AF_11/2017 | C11: M | D11: 22,08
A12: 97150 | B12: ASSENTAMENTO DE TUBO DE FERRO FUNDIDO PARA REDE DE ÁGUA, DN 500 MM, JUNTA ELÁSTICA, INSTALADO EM LOCAL COM NÍVEL ALTO DE INTERFERÊNCIAS (NÃO INCLUI FORNECIMENTO). AF_11/2017 | C12: M | D12: 26,26
A13: 97151 | B13: ASSENTAMENTO DE TUBO DE FERRO FUNDIDO PARA REDE DE ÁGUA, DN 600 MM, JUNTA ELÁSTICA, INSTALADO EM LOCAL COM NÍVEL ALTO DE INTERFERÊNCIAS (NÃO INCLUI FORNECIMENTO). AF_11/2017 | C13: M | D13: 30,67
... A6412: 100321 | B6412: TÉCNICO EM SEGURANÇA DO TRABALHO COM ENCARGOS COMPLEMENTARES | C6412: MES | D6412: 7.173,22
A6414: PRECOS DE INSUMOS
A6416: MES DE COLETA: 07/2019
A6417: LOCALIDADE: 2840 - SAO PAULO
A6418: ENCARGOS SOCIAIS (%) HORISTA 86,73 MENSALISTA 49,01
A6420: CODIGO | B6420: DESCRICAO DO INSUMO | C6420: UNIDADE | D6420: PRECO MEDIANO R$
A6421: 39847 | B6421: !EM PROCESSO DE DESATIVACAO! AR-CONDICIONADO FRIO SPLIT HI-WALL (PAREDE) 12000 BTU/H | C6421: UN | D6421: 1.499,55
A6422: 39844 | B6422: !EM PROCESSO DE DESATIVACAO! AR-CONDICIONADO FRIO SPLIT HI-WALL (PAREDE) 18000 BTU/H | C6422: UN | D6422: 2.213,04
A6423: 39846 | B6423: !EM PROCESSO DE DESATIVACAO! AR-CONDICIONADO FRIO SPLIT HI-WALL (PAREDE) 9000 BTU/H | C6423: UN | D6423: 1.352,12
A6424: 39838 | B6424: !EM PROCESSO DE DESATIVACAO! AR-CONDICIONADO FRIO SPLIT PISO-TETO 18000 BTU/H | C6424: UN | D6424: 3.747,63
A6425: 39839 | B6425: !EM PROCESSO DE DESATIVACAO! AR-CONDICIONADO FRIO SPLIT PISO-TETO 24000 BTU/H | C6425: UN | D6425: 3.915,42
A6426: 39841 | B6426: !EM PROCESSO DE DESATIVACAO! AR-CONDICIONADO FRIO SPLIT PISO-TETO 36000 BTU/H | C6426: UN | D6426: 5.305,59
A6427: 39842 | B6427: !EM PROCESSO DE DESATIVACAO! AR-CONDICIONADO FRIO SPLIT PISO-TETO 48000 BTU/H | C6427: UN | D6427: 6.740,09
A6428: 39843 | B6428: !EM PROCESSO DE DESATIVACAO! AR-CONDICIONADO FRIO SPLIT PISO-TETO 60000 BTU/H | C6428: UN | D6428: 7.440,31
A6429: 2404 | B6429: !EM PROCESSO DE DESATIVACAO! DIVISORIA COLMEIA CEGA COM MONTANTE E RODAPE DE ALUMINIO ANODIZADO SIMPLES (SEM COLOCACAO) | C6429: M2 | D6429: 84,62
A6430: 2720 | B6430: !EM PROCESSO DE DESATIVACAO! ESCAVADEIRA DRAGA DE ARRASTE, CAP. 3/4 JC 140HP (INCL MANUTENCAO/OPERACAO) | C6430: H | D6430: 154,02
A6431: 2719 | B6431: !EM PROCESSO DE DESATIVACAO! ESCAVADEIRA HIDRAULICA SOBRE ESTEIRAS DE 99 HP, PESO OPERACIONAL DE *16* T E CAPACIDADE DE 0,85 A 1,00 M3 (LOCACAO COM OPERADOR, COMBUSTIVEL E MANUTENCAO) | C6431: H | D6431: 130,50
A6432: 3378 | B6432: !EM PROCESSO DE DESATIVACAO! HASTE DE ATERRAMENTO EM ACO COM 3,00 M DE COMPRIMENTO E DN = 3/4", REVESTIDA COM BAIXA CAMADA DE COBRE, SEM CONECTOR | C6432: UN | D6432: 63,01
... A11751: 11157 | B11751: WASH PRIMER PARA TINTA AUTOMOTIVA | C11751: GL | D11751: 157,89

Sheet COTAÇÕES E COMPOSIÇÕES DE PREÇO
A1: COTAÇÕES E COMPOSIÇÕES DE PREÇO – COLETOR TRONCO DE ESGOTO SANITÁRIO JARDIM ITAPUÃ / RESIDENCIAL SALOMÃO ZATITE – SERTÃOZINHO/SP
A2: 1 | B2: PISO EM CONCRETO USINADO E ARMADO COM TELA Q61, POLIDO, FCK 25MPa, ESPESSURA 8CM, JUNTA SERRADA.
A3: COD | B3: REF 94991 | C3: DESCRIÇÃO | D3: UNIDADE | E3: ÍNDICE | L3: PREÇO UNITÁRIO | M3: PREÇO TOTAL
A4: 34493 | B4: SINAPI | C4: CONCRETO USINADO BOMBEÁVEL, CLASSE DE RESISTÊNCIA C25, COM BRITA 0 E 1, SLUMP = 100 +/- 20MM, EXCLUI SERVIÇO DE BOMBEAMENTO (NBR 8953) | D4: M3 | E4: 0.09704 | F4: =VLOOKUP(C4,'SINAPI JUL-19'!$A$2:$D$9600,4, 0) -> #N/A | G4: =ROUND(E4*F4,2) -> #N/A | H4: =IF(K4="",#REF!,#REF!) -> #REF! | I4: =ROUND(F4*H4+F4,2) -> #N/A | J4: =ROUND(E4*I4,2) -> #N/A | L4: 250.03 | M4: =L4*E4 -> 24.262911
A5: 1213 | B5: SINAPI | C5: CARPINTEIRO DE FORMAS | D5: H | E5: 0.18048 | F5: =VLOOKUP(#REF!,'SINAPI JUL-19'!$A$2:$D$9600,4, 0) -> #VALUE! | G5: =ROUND(E5*F5,2) -> #VALUE! | H5: =IF(K5="",#REF!,#REF!) -> #REF! | I5: =ROUND(F5*H5+F5,2) -> #VALUE! | J5: =ROUND(E5*I5,2) -> #VALUE! | L5: 15.62 | M5: =L5*E5 -> 2.8190976
A6: 4750 | B6: SINAPI | C6: PEDREIRO | D6: H | E6: 0.0208 | F6: =VLOOKUP(C6,'SINAPI JUL-19'!$A$2:$D$9600,4, 0) -> #N/A | G6: =ROUND(E6*F6,2) -> #N/A | H6: =IF(K6="",#REF!,#REF!) -> #REF! | I6: =ROUND(F6*H6+F6,2) -> #N/A | J6: =ROUND(E6*I6,2) -> #N/A | L6: 16.33 | M6: =L6*E6 -> 0.339664
A7: 6111 | B7: SINAPI | C7: SERVENTE | D7: H | E7: 0.20128 | F7: =VLOOKUP(C7,'SINAPI JUL-19'!$A$2:$D$9600,4, 0) -> #N/A | G7: =ROUND(E7*F7,2) -> #N/A | H7: =IF(K7="",#REF!,#REF!) -> #REF! | I7: =ROUND(F7*H7+F7,2) -> #N/A | J7: =ROUND(E7*I7,2) -> #N/A | L7: 12.84 | M7: =L7*E7 -> 2.5844352
A8: 3.55.90 | B8: FDE | C8: MÃO DE OBRA / EQUIP. ROT. / CORTE / LASER | D8: M2 | E8: 1 | F8: =VLOOKUP(C8,'SINAPI JUL-19'!$A$2:$D$9600,4, 0) -> #N/A | G8: =ROUND(E8*F8,2) -> #N/A | H8: =IF(K8="",#REF!,#REF!) -> #REF! | I8: =ROUND(F8*H8+F8,2) -> #N/A | J8: =ROUND(E8*I8,2) -> #N/A | L8: 11.05 | M8: =L8*E8 -> 11.05
A9: 10915 | B9: SINAPI | C9: TELA DE AÇO SOLDADO NERVURADA CA-60, Q-61, (0,97KG/M2), DIÂMETRO DO FIO = 3,4MM, LARGURA = 2,45 X 120M DE COMPRIMENTO, ESPAÇAMENTO DA MALHA = 15 X 15CM | D9: KG | E9: 0.97 | F9: =VLOOKUP(C9,'SINAPI JUL-19'!$A$2:$D$9600,4, 0) -> #N/A | G9: =ROUND(E9*F9,2) -> #N/A | H9: =IF(K9="",#REF!,#REF!) -> #REF! | I9: =ROUND(F9*H9+F9,2) -> #N/A | J9: =ROUND(E9*I9,2) -> #N/A | L9: 5.8 | M9: =L9*E9 -> 5.626
C10: TOTAL SEM BDI / M2 | M10: =SUM(M4:M9) -> 46.682108
