Workbook

Sheet Planilha
A1: Prop. | B1: Serviço Autônomo de Água, Esgoto e Meio Ambiente de Sertãozinho – Saemas
A2: Objeto | B2: Execução de Calçada (Passeio Público), Alambrado e Muro.
A3: Local | B3: Ruas Pedro Canesin, Exp. Solano e Sebastião Damacena (Poço nº 26) e Rua Cel. Fco Schmidt (Jd. Golive) – Calçada; Rua Joaquim Pereira Vitorio esquina c/ Rua Geraldo Caetano (Poço nº 41) – Muro e Alambrado.
A4: Coord | B4: 21º 07' 35.55” S ; 47º 58' 42,87” O (calçada) e 21º06’23.24” S, 47º58’59.85” O (muro e alambrado) | I4: BDI | J4: 0.2291
A5: Fonte | B5: CPOS Boletim 173 / SINAPI junho 2018
A6: BDI | B6: 22,91% Edificação
A7: P L A N I L H A D E Q U A N T I D A D E S E P R E Ç O S
A8: Item | B8: Discriminação dos Serviços | C8: Un. | D8: Quant. | E8: Preço Unitário | F8: Preço Total | G8: Fonte Preço
A10: 1 | B10: CALÇADA (PASSEIO) | F10: =SUM(F11:F19) -> 23469.692
A11: 1.1 | B11: Limpeza mecanizada do terreno, incluindo carga, descarga e transporte. | C11: m2 | D11: 390 | E11: =ROUND(J11,2) -> 2.7 | F11: =D11*E11 -> 1053 | G11: CPOS 02.09.040 | I11: 2.2 | J11: =I11*1.2291 -> 2.70402
A12: 1.2 | B12: Deposição de entulho (concreto) a ser demolido e retirado do serviço, em aterro da cosntrução civil de Sertãozinho | C12: ton | D12: 18.43 | E12: 25 | F12: =D12*E12 -> 460.75 | G12: Preço do Aterro local
A13: 1.3 | B13: Regularização de compactação mecanizada em superficie sem controle de proctor normal | C13: m2 | D13: 390 | E13: =ROUND(J13,2) -> 2.45 | F13: =D13*E13 -> 955.5 | G13: CPOS 54.01.010 | I13: 1.99 | J13: =I13*1.2291 -> 2.445909
A14: 1.4 | B14: Lastro de brita, espessura de 4 cm, incluso preparo de fundo (apiloamento) para regularização | C14: m3 | D14: 16.79 | E14: =ROUND(J14,2) -> 131.92 | F14: =D14*E14 -> 2214.9368 | G14: CPOS 11.18.040 | I14: 107.33 | J14: =I14*1.2291 -> 131.9193
A15: 1.5 | B15: Execução de calçada (passeio) em concreto usinado, Fck= 20 MPa desempenado à máquina, espessura de 7 cm e juntas serradas a cada 2 metros | C15: m2 | D15: 287.5 | E15: 46.42 | F15: =D15*E15 -> 13345.75 | G15: Composição local c/ indices oficiais | I15: =#REF! -> #REF! | J15: =I15 -> #REF!
A16: 1.6 | B16: Execução de calçada (passeio) em concreto usinado, Fck= 20 MPa, armado com tela de aço Q-138, desempenado à máquina, espessura de 12 cm e juntas serradas a cada 2 metros, | C16: m2 | D16: 32.5 | E16: =J16 -> 82.632393 | F16: =D16*E16 -> 2685.5528 | G16: SINAPI-94999 | I16: 67.23 | J16: =I16*1.2291 -> 82.632393
A17: 1.7 | B17: Execução de calçada (passeio) em concreto usinado, Fck= 20 MPa, desempenado à máquina, espessura de 5 cm e juntas serradas a cada 2 metros, | C17: m3 | D17: 3.36 | E17: =J17 -> 462.20306 | F17: =D17*E17 -> 1553.0023 | G17: SINAPI – 94991 | I17: 376.05 | J17: =I17*1.2291 -> 462.20306
A18: 1.8 | B18: Guias e Sarjetas, moldada in loco | C18: m | D18: 30 | E18: =ROUND(J18,2) -> 40.04 | F18: =D18*E18 -> 1201.2 | G18: SINAPI 94267 | I18: 32.58 | J18: =I18*1.2291 -> 40.044078
A20: 2 | B20: MURO | F20: =SUM(F21:F39) -> 30681.609
A21: 2.1 | B21: Escavação manual de vala, profundidade menor ou igual a 1,30 metros | C21: m3 | D21: 2.27 | E21: =J21 -> 85.324122 | F21: =D21*E21 -> 193.68576 | G21: SINAPI – 93358 | I21: 69.42 | J21: =I21*1.2291 -> 85.324122
A22: 2.2 | B22: Regularização e apiloamento de fundo de vala | C22: m2 | D22: 11.35 | E22: =J22 -> 6.354447 | F22: =D22*E22 -> 72.122973 | G22: SINAPI – 94097 | I22: 5.17 | J22: =I22*1.2291 -> 6.354447
A23: 2.3 | B23: Broca de concreto, diâmetro de 25 cm, inclusive arranques | C23: m | D23: 57.5 | E23: =J23 -> 90.9534 | F23: =D23*E23 -> 5229.8205 | G23: FDE – 02.02.026 | I23: 74 | J23: =I23*1.2291 -> 90.9534
A24: 2.4 | B24: Lastro de brita, espessura de 3 cm, incluso preparo de fundo (apiloamento) para regularização | C24: m3 | D24: 0.37 | E24: =ROUND(J24,2) -> 131.92 | F24: =D24*E24 -> 48.8104 | G24: CPOS 11.18.040 | I24: 107.33 | J24: =I24*1.2291 -> 131.9193
A25: 2.5 | B25: Viga Baldrame – (20x30)cm
A26: 2.5.1 | B26: Forma de madeira maciça | C26: m2 | D26: 24.97 | E26: =J26 -> 94.677573 | F26: =D26*E26 -> 2364.099 | G26: FDE – 02.03.001 | I26: 77.03 | J26: =I26*1.2291 -> 94.677573
A27: 2.5.2 | B27: Aço CA 50 (A ou B), FYK 500 MPA | C27: kg | D27: 79.56 | E27: =J27 -> 12.377037 | F27: =D27*E27 -> 984.71706 | G27: FDE – 02.04.002 | I27: 10.07 | J27: =I27*1.2291 -> 12.377037
A28: 2.5.3 | B28: Aço CA 60 (A ou B), FYK 500 MPA | C28: Kg | D28: 26.4 | E28: =J28 -> 14.159232 | F28: =D28*E28 -> 373.80372 | G28: FDE – 02.04.003 | I28: 11.52 | J28: =I28*1.2291 -> 14.159232
A29: 2.5.4 | B29: Concreto dosado, usinado e lançado, FCK= 20 MPA | C29: m3 | D29: 3 | E29: =J29 -> 486.90796 | F29: =D29*E29 -> 1460.7239 | G29: FDE – 02.05.014 | I29: 396.15 | J29: =I29*1.2291 -> 486.90796
A30: 2.6 | B30: Colunas em concreto – (15X30)cm
A31: 2.6.1 | B31: Forma de madeira maciça | C31: m2 | D31: 37.95 | E31: =J31 -> 94.677573 | F31: =D31*E31 -> 3593.0139 | G31: FDE – 02.03.001 | I31: 77.03 | J31: =I31*1.2291 -> 94.677573
A32: 2.6.2 | B32: Aço CA 50 (A ou B), FYK 500 MPA | C32: kg | D32: 141.12 | E32: =J32 -> 12.377037 | F32: =D32*E32 -> 1746.6475 | G32: FDE – 02.04.002 | I32: 10.07 | J32: =I32*1.2291 -> 12.377037
A33: 2.6.3 | B33: Aço CA 60 (A ou B), FYK 500 MPA | C33: Kg | D33: 27.72 | E33: =J33 -> 14.159232 | F33: =D33*E33 -> 392.49391 | G33: FDE – 02.04.003 | I33: 11.52 | J33: =I33*1.2291 -> 14.159232
A34: 2.6.4 | B34: Concreto dosado, usinado e lançado, FCK= 20 MPA | C34: m3 | D34: 2.85 | E34: =J34 -> 486.90796 | F34: =D34*E34 -> 1387.6877 | G34: FDE – 02.05.014 | I34: 396.15 | J34: =I34*1.2291 -> 486.90796
A35: 2.7 | B35: Alvenaria de Bloco cerâmico de 14 cm | C35: m2 | D35: 113.5 | E35: =J35 -> 60.705249 | F35: =D35*E35 -> 6890.0458 | G35: CPOS – 14.04.210 | I35: 49.39 | J35: =I35*1.2291 -> 60.705249
A36: 2.8 | B36: Verga/cinta em bloco de concreto canaleta de 14 cm | C36: m | D36: 45.4 | E36: =J36 -> 43.313484 | F36: =D36*E36 -> 1966.4322 | G36: FDE – 04.01.058 | I36: 35.24 | J36: =I36*1.2291 -> 43.313484
A37: 2.9 | B37: Chapisco com peneira | C37: m2 | D37: 227 | E37: =J37 -> 15.781644 | F37: =D37*E37 -> 3582.4332 | G37: FDE- 12.01.001 | I37: 12.84 | J37: =I37*1.2291 -> 15.781644
A38: 2.10 | B38: Cimalha em concreto com pingadeira | C38: m | D38: 45.4 | E38: =J38 -> 8.702028 | F38: =D38*E38 -> 395.07207 | G38: CPOS - 14.20.020 | I38: 7.08 | J38: =I38*1.2291 -> 8.702028
A40: 3 | B40: ALAMBRADO | F40: =SUM(F41:F59) -> 15284.451
A41: 3.1 | B41: Alambrado sobre divisa, incluso fornecimento, assentamento e pintura – h= 2,00 metros – FQ-02 (projeto do alambrado) | C41: m2 | D41: 44.6 | E41: =J41 -> 157.7304 | F41: =D41*E41 -> 7034.776 | G41: FDE – 16.04.034 | I41: 128.33 | J41: =I41*1.2291 -> 157.7304
A42: 3.1.1 | B42: Escavação manual de vala, profundidade menor ou igual a 1,30 metros | C42: m3 | D42: 1.12 | E42: =J42 -> 85.324122 | F42: =D42*E42 -> 95.563017 | G42: SINAPI – 93358 | I42: 69.42 | J42: =I42*1.2291 -> 85.324122
A43: 3.1.2 | B43: Regularização e apiloamento de fundo de vala | C43: m2 | D43: 5.58 | E43: =J43 -> 6.354447 | F43: =D43*E43 -> 35.457814 | G43: SINAPI – 94097 | I43: 5.17 | J43: =I43*1.2291 -> 6.354447
A44: 3.1.3 | B44: Broca de concreto, diâmetro de 25 cm, inclusive arranques | C44: m | D44: 27.5 | E44: =J44 -> 90.9534 | F44: =D44*E44 -> 2501.2185 | G44: FDE – 02.02.026 | I44: 74 | J44: =I44*1.2291 -> 90.9534
A45: 3.1.4 | B45: Lastro de brita, espessura de 3 cm, incluso preparo de fundo (apiloamento) para regularização | C45: m3 | D45: 0.18 | E45: =ROUND(J45,2) -> 131.92 | F45: =D45*E45 -> 23.7456 | G45: CPOS 11.18.040 | I45: 107.33 | J45: =I45*1.2291 -> 131.9193
A46: 3.1.5 | B46: Viga Baldrame – (20x20)cm
A47: 3.1.5.1 | B47: Forma de madeira maciça | C47: m2 | D47: 8.92 | E47: =J47 -> 94.677573 | F47: =D47*E47 -> 844.52395 | G47: FDE – 02.03.001 | I47: 77.03 | J47: =I47*1.2291 -> 94.677573
A48: 3.1.5.2 | B48: Aço CA 50 (A ou B), FYK 500 MPA | C48: kg | D48: 38.27 | E48: =J48 -> 12.377037 | F48: =D48*E48 -> 473.66921 | G48: FDE – 02.04.002 | I48: 10.07 | J48: =I48*1.2291 -> 12.377037
A49: 3.1.5.3 | B49: Aço CA 60 (A ou B), FYK 500 MPA | C49: Kg | D49: 9.49 | E49: =J49 -> 14.159232 | F49: =D49*E49 -> 134.37111 | G49: FDE – 02.04.003 | I49: 11.52 | J49: =I49*1.2291 -> 14.159232
A50: 3.1.5.4 | B50: Concreto dosado, usinado e lançado, FCK= 20 MPA | C50: m3 | D50: 1 | E50: =J50 -> 486.90796 | F50: =D50*E50 -> 486.90796 | G50: FDE – 02.05.014 | I50: 396.15 | J50: =I50*1.2291 -> 486.90796
A51: 3.1.6 | B51: Colunas em concreto – (20X25)cm
A52: 3.1.6.1 | B52: Forma de madeira maciça | C52: m2 | D52: 6.05 | E52: =J52 -> 94.677573 | F52: =D52*E52 -> 572.79932 | G52: FDE – 02.03.001 | I52: 77.03 | J52: =I52*1.2291 -> 94.677573
A53: 3.1.6.2 | B53: Aço CA 50 (A ou B), FYK 500 MPA | C53: kg | D53: 13.55 | E53: =J53 -> 12.377037 | F53: =D53*E53 -> 167.70885 | G53: FDE – 02.04.002 | I53: 10.07 | J53: =I53*1.2291 -> 12.377037
A54: 3.1.6.3 | B54: Aço CA 60 (A ou B), FYK 500 MPA | C54: Kg | D54: 3.2 | E54: =J54 -> 14.159232 | F54: =D54*E54 -> 45.309542 | G54: FDE – 02.04.003 | I54: 11.52 | J54: =I54*1.2291 -> 14.159232
A55: 3.1.6.4 | B55: Concreto dosado, usinado e lançado, FCK= 20 MPA | C55: m3 | D55: 0.31 | E55: =J55 -> 486.90796 | F55: =D55*E55 -> 150.94147 | G55: FDE – 02.05.014 | I55: 396.15 | J55: =I55*1.2291 -> 486.90796
A56: 3.1.7 | B56: Alvenaria de Blocos de concreto (19x19x39)cm | C56: m2 | D56: 11.15 | E56: =J56 -> 99.372735 | F56: =D56*E56 -> 1108.006 | G56: FDE – 04.01.034 | I56: 80.85 | J56: =I56*1.2291 -> 99.372735
A57: 3.1.8 | B57: Verga/cinta em bloco de concreto canaleta de 19 cm | C57: m | D57: 22.3 | E57: =J57 -> 47.68908 | F57: =D57*E57 -> 1063.4665 | G57: FDE – 04.01.058 | I57: 38.8 | J57: =I57*1.2291 -> 47.68908
A58: 3.1.9 | B58: Chapisco com peneira | C58: m2 | D58: 22.3 | E58: =J58 -> 15.781644 | F58: =D58*E58 -> 351.93066 | G58: FDE- 12.01.001 | I58: 12.84 | J58: =I58*1.2291 -> 15.781644
A59: 3.1.10 | B59: Cimalha em concreto com pingadeira | C59: m | D59: 22.3 | E59: =J59 -> 8.702028 | F59: =D59*E59 -> 194.05522 | G59: CPOS – 14.20.020 | I59: 7.08 | J59: =I59*1.2291 -> 8.702028
B61: TOTAL GERAL | F61: =F10+F20+F40 -> 69435.752

Sheet Cronograma
A1: Cliente: | B1: =Planilha!B1 -> Serviço Autônomo de Água, Esgoto e Meio Ambiente de Sertãozinho – Saemas
A2: Objeto: | B2: =Planilha!B2 -> Execução de Calçada (Passeio Público), Alambrado e Muro.
A3: =Planilha!A4 -> Coord | B3: =Planilha!B4 -> 21º 07' 35.55” S ; 47º 58' 42,87” O (calçada) e 21º06’23.24” S, 47º58’59.85” O (muro e alambrado)
A4: Local: | B4: =Planilha!B3 -> Ruas Pedro Canesin, Exp. Solano e Sebastião Damacena (Poço nº 26) e Rua Cel. Fco Schmidt (Jd. Golive) – Calçada; Rua Joaquim Pereira Vitorio esquina c/ Rua Geraldo Caetano (Poço nº 41) – Muro e Alambrado.
A5: C R O N O G R A M A F Í S I C O - F I N A N C E I R O
A6: Item | B6: Descrição | C6: Preço | D6: 30 dias | F6: 30 dias | H6: 90 dias
C7: Total | D7: % | E7: Total | F7: % | G7: Total | H7: % | I7: Total
A10: 1 | B10: =Planilha!B10 -> CALÇADA (PASSEIO) | C10: =Planilha!F10 -> 23469.692 | D10: 100 | E10: =($C10*D10)/100 -> 23469.692
A11: 2 | B11: =Planilha!B20 -> MURO | C11: =Planilha!F20 -> 30681.609 | D11: 30 | E11: =($C11*D11)/100 -> 9204.4828 | F11: 70 | G11: =($C11*F11)/100 -> 21477.127
A12: 3 | B12: =Planilha!B40 -> ALAMBRADO | C12: =Planilha!F40 -> 15284.451 | F12: 30 | G12: =($C12*F12)/100 -> 4585.3352 | H12: 70 | I12: =($C12*H12)/100 -> 10699.115
A14: Total Mensal | D14: =(E10+E11)/C15*100 -> 47.056702 | E14: =SUM(E9:E11) -> 32674.175 | F14: =(G11+G12)/C15*100 -> 37.534643 | G14: =SUM(G9:G12) -> 26062.462 | H14: =I12/C15*100 -> 15.408655 | I14: =SUM(I9:I12) -> 10699.115
A15: Total Acumulado | C15: =SUM(C9:C12) -> 69435.752 | D15: =D14 -> 47.056702 | E15: =E14 -> 32674.175 | F15: =D15+F14 -> 84.591345 | G15: =E15+G14 -> 58736.637 | H15: =F15+H14 -> 100 | I15: =G15+I14 -> 69435.752
